Workbook
Name _11POS_BY_CAT: #REF!
Name _11POS_BY_CAT: #REF!
Name _11POS_BY_CAT: #REF!
Name _11POS_BY_CAT: #REF!
Name _11POS_BY_CAT: #REF!
Name _11POS_BY_CAT: #REF!
Name _11POS_BY_CAT: #REF!
Name _1ATTORNEY_SUPP: #REF!
Name _1ATTORNEY_SUPP: #REF!
Name _1ATTORNEY_SUPP: #REF!
Name _2ATTORNEY_SUPP: #REF!
Name _2ATTORNEY_SUPP: #REF!
Name _2ATTORNEY_SUPP: #REF!
Name _2ATTORNEY_SUPP: #REF!
Name _2ATTORNEY_SUPP: #REF!
Name _2ATTORNEY_SUPP: #REF!
Name _2ATTORNEY_SUPP: #REF!
Name _2GA_ROLLUP: #REF!
Name _2GA_ROLLUP: #REF!
Name _3GA_ROLLUP: 'B. Summary of Requirements '!#REF!
Name _3POS_BY_CAT: #REF!
Name _3POS_BY_CAT: #REF!
Name _4GA_ROLLUP: #REF!
Name _7GA_ROLLUP: #REF!
Name _7GA_ROLLUP: #REF!
Name _7GA_ROLLUP: #REF!
Name _7GA_ROLLUP: #REF!
Name _7GA_ROLLUP: #REF!
Name _7GA_ROLLUP: #REF!
Name _7GA_ROLLUP: #REF!
Name _8POS_BY_CAT: #REF!
Name _9POS_BY_CAT: #REF!
Name DL: #REF!
Name DL: 'B. Summary of Requirements '!$A$3:$X$57
Name DL: #REF!
Name DL: #REF!
Name DL: #REF!
Name DL: #REF!
Name DL: #REF!
Name DL: #REF!
Name EXECSUPP: #REF!
Name EXECSUPP: 'B. Summary of Requirements '!#REF!
Name EXECSUPP: #REF!
Name EXECSUPP: #REF!
Name EXECSUPP: #REF!
Name EXECSUPP: #REF!
Name EXECSUPP: #REF!
Name EXECSUPP: #REF!
Name FY0711.1: #REF!
Name FY0711.1: #REF!
Name FY0711.1: #REF!
Name FY0711.1: #REF!
Name FY0711.1: #REF!
Name FY0711.1: #REF!
Name FY0711.1: #REF!
Name FY0711.5: #REF!
Name FY0711.5: #REF!
Name FY0711.5: #REF!
Name FY0711.5: #REF!
Name FY0711.5: #REF!

Sheet B. Summary of Requirements 
A1: B: Summary of Requirements- SALARIES AND EXPENSES | Y1: end of line
Y2: end of line
Y3: end of line
A4: Summary of Requirements | Y4: end of line
A5: Community Oriented Policing Services | Y5: end of line
A6: Salaries and Expenses | Y6: end of line
A7: (Dollars in Thousands) | Y7: end of line
Y8: end of line
Y9: end of line
Y10: end of line
V11: FY 2013 Request | Y11: end of line
V12: Perm. Pos. | W12: FTE | X12: Amount | Y12: end of line
Y13: end of line
A14: 2011 Enacted (without Rescissions, direct only) | V14: 188 | W14: 164 | X14: 32764 | Y14: end of line
A15: Reprogramming from COPS Grant programs for Management and Administration | X15: 4240
A16: 2011 Enacted (with Reprogramming and without Rescissions, direct only) | V16: 188 | W16: 164 | X16: =SUM(X14:X15) -> 37004
A17: 2012 Enacted (without Rescissions, direct only) | V17: 188 | W17: 164 | X17: 37004 | Y17: end of line
A18: 2012 Rescissions | Y18: end of line
A19: Total 2012 Enacted (with Rescissions) | V19: =+V18+V17 -> 188 | W19: =+W18+W17 -> 164 | X19: 37004 | Y19: end of line
A20: Adjustments to Base | Y20: end of line
A21: Transfers: | Y21: end of line
A22: Transfer from JCON to COPS Salaries and Expenses (S&E) Account | V22: 0 | W22: 0 | X22: 72 | Y22: end of line
A23: Increases: | Y23: end of line
A24: Pay and Benefits | V24: 0 | W24: 0 | X24: 354 | Y24: end of line
A25: Domestic Rent and Facilities | V25: 0 | W25: 0 | X25: =778+24 -> 802 | Y25: end of line
A26: Subtotal Increases | V26: =SUM(V24:V25) -> 0 | W26: =SUM(W24:W25) -> 0 | X26: =SUM(X24:X25) -> 1156 | Y26: end of line
A27: Total Adjustments to Base | V27: =+V22+V26 -> 0 | W27: =+W22+W26 -> 0 | X27: =+X22+X26 -> 1228 | Y27: end of line
A28: Total Adjustments to Base and Technical Adjustments | V28: =V27 -> 0 | W28: =W27 -> 0 | X28: =X27 -> 1228 | Y28: end of line
A29: 2013 Current Services | V29: =+V28+V19 -> 188 | W29: =+W28+W19 -> 164 | X29: =+X28+X19 -> 38232 | Y29: end of line
A30: Program Changes | Y30: end of line
A31: Offsets: | Y31: end of line
A32: IT Savings | V32: 0 | W32: 0 | X32: -130 | Y32: end of line
A33: Subtotal Offsets | V33: =SUM(V32:V32) -> 0 | W33: =SUM(W32:W32) -> 0 | X33: =SUM(X32:X32) -> -130
A34: Total Program Changes | V34: =+V33 -> 0 | W34: =+W33 -> 0 | X34: =+X33 -> -130 | Y34: end of line
A35: 2013 Total Request | V35: =V29+V34 -> 188 | W35: =W29+W34 -> 164 | X35: =X29+X34 -> 38102 | Y35: end of line
A36: 2012 - 2013 Total Change | V36: =+V35-V14 -> 0 | W36: =+W35-W14 -> 0 | X36: =+X35-X19 -> 1098 | Y36: end of line
Y37: end of line
Y38: end of line
Y39: end of line
Y40: end of line
...

Sheet D. Strategic Goals & Object 
A1: D: Resources by DOJ Strategic Goal and Strategic Objective- SALARIES AND EXPENSES | Q1: end of line
Q2: end of line
A3: Resources by Department of Justice Strategic Goal/Objective | Q3: end of line
A4: =+'B. Summary of Requirements '!A5:X5 -> Community Oriented Policing Services | Q4: end of line
A5: (Dollars in Thousands) | Q5: end of line
Q6: end of line
Q7: end of line
C8: 2011 Appropriation Enacted | F8: 2012 Enacted | I8: 2013 Current Services | K8: 2013 | O8: 2013 Request | Q8: end of line
K9: Increases | M9: Offsets | Q9: end of line
A10: Strategic Goal and Strategic Objective | Q10: end of line
C11: Direct, Reimb. Other FTE | D11: Direct Amount $000s | F11: Direct, Reimb. Other FTE | G11: Direct Amount $000s | I11: Direct, Reimb. Other FTE | J11: Direct Amount $000s | K11: Direct, Reimb. Other FTE | L11: Direct Amount $000s | M11: Direct, Reimb. Other FTE | N11: Direct Amount $000s | O11: Direct, Reimb. Other FTE | P11: Direct Amount $000s | Q11: end of line
Q12: end of line
A13: Goal 1: Prevent Terrorism and Promote the Nation's Security Consistent with the Rule of Law | Q13: end of line
A14: 1.1 Prevent, disrupt, and defeat terrorist operations before they occur | I14: =+F14+C14 -> 0 | J14: =+G14+D14 -> 0 | O14: =+I14+K14+M14 -> 0 | P14: =+J14+L14+N14 -> 0 | Q14: end of line
A15: 1.2 Prosecute those involved in terrorist acts | I15: =+F15+C15 -> 0 | J15: =+G15+D15 -> 0 | O15: =+I15+K15+M15 -> 0 | P15: =+J15+L15+N15 -> 0 | Q15: end of line
A16: 1.3 Combat espionage against the United States | I16: =+F16+C16 -> 0 | J16: =+G16+D16 -> 0 | O16: =+I16+K16+M16 -> 0 | P16: =+J16+L16+N16 -> 0 | Q16: end of line
A17: Subtotal, Goal 1 | C17: =SUM(C14:C16) -> 0 | D17: =SUM(D14:D16) -> 0 | F17: =SUM(F14:F16) -> 0 | G17: =SUM(G14:G16) -> 0 | I17: =SUM(I14:I16) -> 0 | J17: =SUM(J14:J16) -> 0 | K17: =SUM(K14:K16) -> 0 | L17: =SUM(L14:L16) -> 0 | M17: =SUM(M14:M16) -> 0 | N17: =SUM(N14:N16) -> 0 | O17: =SUM(O14:O16) -> 0 | P17: =SUM(P14:P16) -> 0 | Q17: end of line
Q18: end of line
A19: Goal 2: Prevent Crime, Protect the Rights of the American People, and Enforce Federal Law | Q19: end of line
A20: 2.1 Combat the threat, incidence, and prevalence of violent crime | I20: =+F20+C20 -> 0 | J20: =+G20+D20 -> 0 | O20: =+I20+K20+M20 -> 0 | P20: =+J20+L20+N20 -> 0 | Q20: end of line
A21: 2.2 Prevent and intervene in crimes against vulnerable populations, uphold the rights of, and improve services to, America's crime victims | I21: =+F21+C21 -> 0 | J21: =+G21+D21 -> 0 | O21: =+I21+K21+M21 -> 0 | P21: =+J21+L21+N21 -> 0 | Q21: end of line
A22: 2.3 Combat the threat, trafficking, and use of illegal drugs and the diversion of licit drugs | I22: =+F22+C22 -> 0 | J22: =+G22+D22 -> 0 | O22: =+I22+K22+M22 -> 0 | P22: =+J22+L22+N22 -> 0 | Q22: end of line
A23: 2.4 Combat corruption, economic crimes, and international organized crime | I23: =+F23+C23 -> 0 | J23: =+G23+D23 -> 0 | O23: =+I23+K23+M23 -> 0 | P23: =+J23+L23+N23 -> 0 | Q23: end of line
A24: 2.5 Promote and protect Americans' civil rights | I24: =+F24+C24 -> 0 | J24: =+G24+D24 -> 0 | O24: =+I24+K24+M24 -> 0 | P24: =+J24+L24+N24 -> 0 | Q24: end of line
A25: 2.6 Protect the federal fisc and defend the interests of the United States | I25: =+F25+C25 -> 0 | J25: =+G25+D25 -> 0 | O25: =+I25+K25+M25 -> 0 | P25: =+J25+L25+N25 -> 0 | Q25: end of line
A26: Subtotal, Goal 2 | C26: =SUM(C20:C25) -> 0 | D26: =SUM(D20:D25) -> 0 | F26: =SUM(F20:F25) -> 0 | G26: =SUM(G20:G25) -> 0 | I26: =SUM(I20:I25) -> 0 | J26: =SUM(J20:J25) -> 0 | K26: =SUM(K20:K25) -> 0 | L26: =SUM(L20:L25) -> 0 | M26: =SUM(M20:M25) -> 0 | N26: =SUM(N20:N25) -> 0 | O26: =SUM(O20:O25) -> 0 | P26: =SUM(P20:P25) -> 0 | Q26: end of line
Q27: end of line
A28: Goal 3: Ensure and Support the Fair, Impartial, Efficient, and Transparent Administration of Justice at the Federal, State, Local, Tribal and International Levels | Q28: end of line
A29: 3.1 Promote and strengthen relationships and strategies for the administration of justice with state, local, tribal and international law enforcement | C29: 164 | D29: 32764 | F29: 164 | G29: 37004 | I29: 0 | J29: 37004 | K29: 0 | L29: 1228 | M29: 0 | N29: -130 | O29: 0 | P29: =+J29+L29+N29 -> 38102 | Q29: end of line
A30: 3.2 Protect judges, witnesses, and other participants in federal proceedings; apprehend fugitives; and ensure the appearance of criminal defendants for judicial proceedings or confinement | I30: =+F30+C30 -> 0 | J30: =+G30+D30 -> 0 | O30: =+I30+K30+M30 -> 0 | P30: =+J30+L30+N30 -> 0 | Q30: end of line
A31: 3.3 Provide for the safe, secure, humane, and cost-effective confinement of detainees awaiting trial and/or sentencing, and those in the custody of the Federal Prison System | I31: =+F31+C31 -> 0 | J31: =+G31+D31 -> 0 | O31: =+I31+K31+M31 -> 0 | P31: =+J31+L31+N31 -> 0 | Q31: end of line
A32: 3.4 Adjudicate all immigration cases promptly and impartially in accordance with due process | I32: =+F32+C32 -> 0 | J32: =+G32+D32 -> 0 | O32: =+I32+K32+M32 -> 0 | P32: =+J32+L32+N32 -> 0 | Q32: end of line
A33: Subtotal, Goal 3 | C33: =SUM(C29:C32) -> 164 | D33: =SUM(D29:D32) -> 32764 | F33: =SUM(F29:F32) -> 164 | G33: =SUM(G29:G32) -> 37004 | I33: =SUM(I29:I32) -> 0 | J33: =SUM(J29:J32) -> 37004 | K33: =SUM(K29:K32) -> 0 | L33: =SUM(L29:L32) -> 1228 | M33: =SUM(M29:M32) -> 0 | N33: =SUM(N29:N32) -> -130 | O33: =SUM(O29:O32) -> 0 | P33: =SUM(P29:P32) -> 38102 | Q33: end of line
A35: Reprogramming | D35: 4240 | G35: 0 | J35: 0 | L35: 0 | N35: 0 | P35: 0
Q36: end of line
A37: GRAND TOTAL | C37: =C17+C26+C33 -> 164 | D37: =SUM(D33:D35) -> 37004 | F37: =F17+F26+F33 -> 164 | G37: =G17+G26+G33 -> 37004 | I37: =I17+I26+I33 -> 0 | J37: =J17+J26+J33 -> 37004 | K37: =K17+K26+K33 -> 0 | L37: =L17+L26+L33 -> 1228 | M37: =M17+M26+M33 -> 0 | N37: =N17+N26+N33 -> -130 | O37: =O17+O26+O33 -> 0 | P37: =P17+P26+P33 -> 38102 | Q37: end of sheet

Sheet E. ATB Justification
A1: E. Justification for Base Adjustments- SALARIES AND EXPENSES | J1: end of line
J2: end of line
A3: Justification for Base Adjustments | J3: end of line
A4: =+'[1]B. Summary of Requirements '!A5 -> Community Oriented Policing Services | J4: end of line
A5: (Dollars in Thousands) | J5: end of line
J6: end of line
J8: end of line
A9: Transfers | J9: end of line
G10: POS | H10: FTE | I10: Amount | J10: end of line
A11: JCON and JCON S/TS. A transfer of $72,000 is included in support of the Department’s Justice Consolidated Office Network (JCON) and JCON S/TS programs which will be moved to the Working Capital Fund and provided as a billable service in FY 2013. | G11: 0 | H11: 0 | I11: 72
A12: Increases | J12: end of line
A13: 2013 Pay Raise. This request provides for a proposed 0.5 percent pay raise to be effective in January of 2013. The increase only includes the general pay raise. The amount request, $67,452, represents the pay amounts for 3/4 of the fiscal year plus appropriate benefits ($52,613 for pay and $14,839 for benefits.) | G13: 0 | H13: 0 | I13: 67 | J13: end of line
A15: FERS Regular/Law Enforcement Retirement Contribution. On June 11, 2010, the Board of Actuaries of the Civil Service Retirement System recommended a new set of economic assumptions for the Civil Service Retirement System (CSRS) and the Federal Employees Retirement System (FERS). In accordance with this change, effective October 1, 2011 (FY 2012), the normal cost of regular retirement under FERS will increase from the current level of 12.5% of pay to 12.7%, or a total of 0.2% increase. The FERS contribution for Law Enforcement retirement will increase from 27.0% to 27.6%, or a total of 0.6% increase. This will result in new agency contribution rates of 11.9% for regular personnel (up from the current 11.7%) and 26.3% for law enforcement personnel (up from the current 25.7%). The amount requested, $23,000 , represents the funds needed to cover this increase. | G15: 0 | H15: 0 | I15: 23
J16: end of line
A17: Retirement. Agency retirement contributions increase as employees under CSRS retire and are replaced by FERS employees. Based on OPM government-wide estimates, we project that the DOJ workforce will convert from CSRS to FERS at a rate of 1.3 percent per year. The requested increase of $31,000 is necessary to meet our increased retirement obligations as a result of this conversion. | G17: 0 | H17: 0 | I17: 31 | J17: end of line
J18: end of line
A19: Employees Compensation Fund. The $2,000 decrease reflects payments to the Department of Labor for injury benefits paid in the past year under the Federal Employee Compensation Act. This estimate is based on the first quarter of prior year billing and current year estimates. | G19: 0 | H19: 0 | I19: -2 | J19: end of line
J20: end of line
A21: Health Insurance. Effective January 2013, this component's contribution to Federal employees' health insurance premiums increased by 26.8 percent. Applied against the 2011 estimate of $838,000, the additional amount required is $177,000. | G21: 0 | H21: 0 | I21: 177 | J21: end of line
J22: end of line
A23: Changes in Compensable Days. The increase cost for one more compensable day in FY 2013 compared to FY 2012 is calculated by dividing the FY 2012 estimated personnel compensation $12,485,000 and applicable benefits $2,507,000 by 260 compensable days. | G23: 0 | H23: 0 | I23: 58 | J23: end of line
J24: end of line
G25: POS | H25: FTE | I25: Amount
A26: General Services Administration (GSA) Rent. GSA will continue to charge rental rates that approximate those charged to commercial tenants for equivalent space and related services. The requested increase of $778,000 is required to meet our commitment to GSA. The costs associated with GSA rent were derived through the use of an automated system, which uses the latest inventory data, including rate increases to be effective in FY 2013 for each building currently occupied by Department of Justice components, as well as the costs of new space to be occupied. GSA provided data on the rate increases. | G26: 0 | H26: 0 | I26: 778 | J26: end of line
A28: Guard Service. The requested increase of $24,000 is required to meet our commitment for guard service, including those by the Department of Homeland Security (including Basic Security and Building Specific Security costs). | G28: 0 | H28: 0 | I28: 24
J29: end of line
F30: Total Increase: | G30: =SUM(G13:G29) -> 0 | H30: =SUM(H13:H29) -> 0 | I30: =SUM(I11:I29) -> 1228 | J30: end of line
J31: end of line
F32: Total ATB: | G32: =+G30+G11 -> 0 | H32: =+H30+H11 -> 0 | I32: =+I30 -> 1228 | J32: end of sheet

Sheet F. 2011 Crosswalk
A1: F: Crosswalk of 2011 Availability- SALARIES AND EXPENSES | P1: end of line
P2: end of line
A3: Crosswalk of 2011 Availability | P3: end of line
A4: =+'B. Summary of Requirements '!A5 -> Community Oriented Policing Services | P4: end of line
A5: =+'B. Summary of Requirements '!A6 -> Salaries and Expenses | P5: end of line
A6: (Dollars in Thousands) | P6: end of line
P7: end of line
P8: end of line
A9: Decision Unit | B9: FY 2011 Enacted Without Rescissions | E9: Rescissions | H9: Reprogrammings / Transfers | K9: Carryover | L9: Recoveries | M9: 2011 Availability | P9: end of line
P10: end of line
B11: Pos. | C11: FTE | D11: Amount | E11: Pos. | F11: FTE | G11: Amount | H11: Pos. | I11: FTE | J11: Amount | K11: Amount | L11: Amount | M11: Pos. | N11: FTE | O11: Amount | P11: end of line
A12: Community Oriented Policing Services | B12: 188 | C12: 164 | D12: 32764 | H12: 0 | I12: 0 | J12: 4240 | M12: =B12+E12+H12 -> 188 | N12: =C12+F12+I12 -> 164 | O12: =D12+G12+J12+K12+L12 -> 37004 | P12: end of line
A13: TOTAL | B13: =SUM(B12:B12) -> 188 | C13: =SUM(C12:C12) -> 164 | D13: =SUM(D12:D12) -> 32764 | E13: =SUM(E12:E12) -> 0 | F13: =SUM(F12:F12) -> 0 | G13: =SUM(G12:G12) -> 0 | H13: =SUM(H12:H12) -> 0 | I13: =SUM(I12:I12) -> 0 | ... O13: =SUM(O12:O12) -> 37004 | P13: end of line
A14: Reimbursable FTE | N14: =C14+F14+I14 -> 0 | P14: end of line
A15: Total FTE | C15: =SUM(C13:C14) -> 164 | F15: =+F13+F14 -> 0 | I15: =+I13+I14 -> 0 | N15: =SUM(N13:N14) -> 164 | P15: end of line
A16: Other FTE | P16: end of line
A17: LEAP | N17: =C17+F17+I17 -> 0 | P17: end of line
A18: Overtime | N18: =C18+F18+I18 -> 0 | P18: end of line
A19: Total Compensable FTE | C19: =C18+C17+C15 -> 164 | F19: =F18+F17+F15 -> 0 | I19: =I18+I17+I15 -> 0 | N19: =N18+N17+N15 -> 164 | P19: end of line
P27: end of sheet

Sheet G. 2012 Crosswalk
A1: G: Crosswalk of 2012 Availability- SALARIES AND EXPENSES | S1: end of line
S2: end of line
A3: Crosswalk of 2012 Availability | S3: end of line
A4: =+'B. Summary of Requirements '!A5 -> Community Oriented Policing Services | S4: end of line
A5: =+'B. Summary of Requirements '!A6 -> Salaries and Expenses | S5: end of line
A6: (Dollars in Thousands) | S6: end of line
S7: end of line
S8: end of line
A9: Decision Unit | B9: FY 2012 Enacted Without Rescissions | E9: Rescissions | H9: Supplementals | K9: Reprogrammings / Transfers | N9: Carryover | O9: Recoveries | P9: 2012 Availability | S9: end of line
S10: end of line
B11: Pos. | C11: FTE | D11: Amount | E11: Pos. | F11: FTE | G11: Amount | H11: Pos. | I11: FTE | J11: Amount | K11: Pos. | L11: FTE | M11: Amount | N11: Amount | O11: Amount | P11: Pos. | Q11: FTE | R11: Amount | S11: end of line
A12: Community Oriented Policing Services | B12: 188 | C12: 164 | D12: 37004 | K12: 0 | L12: 0 | M12: 0 | N12: 3202 | P12: =B12+E12+H12+K12 -> 188 | Q12: =C12+F12+I12+L12 -> 164 | R12: =D12+G12+J12+M12+N12+O12 -> 40206 | S12: end of line
A13: TOTAL | B13: =SUM(B12:B12) -> 188 | C13: =SUM(C12:C12) -> 164 | D13: =SUM(D12:D12) -> 37004 | E13: =SUM(E12:E12) -> 0 | F13: =SUM(F12:F12) -> 0 | G13: =SUM(G12:G12) -> 0 | H13: =SUM(H12:H12) -> 0 | I13: =SUM(I12:I12) -> 0 | ... R13: =SUM(R12:R12) -> 40206 | S13: end of line
A14: Reimbursable FTE | Q14: =C14+F14+I14+L14 -> 0 | S14: end of line
A15: Total FTE | C15: =SUM(C13:C14) -> 164 | F15: =+F13+F14 -> 0 | I15: =+I13+I14 -> 0 | L15: =+L13+L14 -> 0 | Q15: =SUM(Q13:Q14) -> 164 | S15: end of line
A16: Other FTE | S16: end of line
A17: LEAP | C17: 0 | F17: 0 | I17: 0 | L17: 0 | Q17: =C17+F17+I17+L17 -> 0 | S17: end of line
A18: Overtime | C18: 0 | F18: 0 | I18: 0 | L18: 0 | Q18: =C18+F18+I18+L18 -> 0 | S18: end of line
A19: Total Compensable FTE | C19: =C18+C17+C15 -> 164 | F19: =F18+F17+F15 -> 0 | I19: =I18+I17+I15 -> 0 | L19: =L18+L17+L15 -> 0 | Q19: =Q18+Q17+Q15 -> 164 | S19: end of line
A21: Reprogramming. The amount also reflects a reprogramming of FTE and $37 million from grant programs to support management and administration needs.
S23: end of sheet

Sheet I. Permanent Positions 
A1: I: Detail of Permanent Positions by Category- SALARIES AND EXPENSES | L1: end of line
L2: end of line
L3: end of line
A4: Detail of Permanent Positions by Category | L4: end of line
A5: =+'B. Summary of Requirements '!A5:X5 -> Community Oriented Policing Services | L5: end of line
A6: =+'B. Summary of Requirements '!A6:X6 -> Salaries and Expenses | L6: end of line
L7: end of line
L8: end of line
A9: Category | B9: 2011 Enacted | D9: 2012 Enacted | F9: 2013 Request | L9: end of line
B10: Total Authorized | C10: Total Reimbursable | D10: Total Authorized | E10: Total Reimbursable | F10: ATBs | G10: Program Increases | H10: Program Decreases | I10: Total Pr. Changes | J10: Total Authorized | K10: Total Reimbursable | L10: end of line | O10: .
L11: end of line
A12: Intelligence Series (132) | B12: 18 | C12: 18 | D12: =+B12 -> 18 | E12: 0 | J12: =+D12 -> 18 | K12: 0 | L12: end of line
A13: Personnel Management (200-299) | L13: end of line
A14: Clerical and Office Services (300-399) | B14: 128 | C14: 128 | D14: =+B14 -> 128 | E14: 0 | J14: =+D14 -> 128 | K14: 0 | L14: end of line
A15: Accounting and Budget (500-599) | B15: 24 | C15: 24 | D15: =+B15 -> 24 | E15: 0 | J15: =+D15 -> 24 | K15: 0 | L15: end of line
A16: Attorneys (905) | B16: 11 | C16: 11 | D16: =+B16 -> 11 | E16: 0 | J16: =+D16 -> 11 | K16: 0 | L16: end of line
A17: Information & Arts (1000-1099) | B17: 4 | C17: 4 | D17: =+B17 -> 4 | E17: 0 | J17: =+D17 -> 4 | K17: 0 | L17: end of line
A18: Information Technology Mgmt (2210) | B18: 3 | C18: 3 | D18: =+B18 -> 3 | E18: 0 | J18: =+D18 -> 3 | K18: 0 | L18: end of line
A19: Total | B19: =SUM(B12:B18) -> 188 | C19: =SUM(C12:C18) -> 188 | D19: =SUM(D12:D18) -> 188 | E19: =SUM(E12:E18) -> 0 | F19: =SUM(F12:F18) -> 0 | G19: =SUM(G12:G18) -> 0 | H19: =SUM(H12:H18) -> 0 | I19: =SUM(I12:I18) -> 0 | ... K19: =SUM(K12:K18) -> 0 | L19: end of line
A20: Headquarters (Washington, D.C.) | B20: 188 | C20: 188 | D20: 188 | E20: 0 | I20: =G20+H20 -> 0 | J20: =D20+F20+I20 -> 188 | K20: =SUM(K13:K19) -> 0
A21: U.S. Field | L21: end of line
A22: Foreign Field | I22: =G22+H22 -> 0 | J22: =D22+F22+I22 -> 0 | L22: end of line
A23: Total | B23: =SUM(B20:B22) -> 188 | C23: =SUM(C20:C22) -> 188 | D23: =SUM(D20:D22) -> 188 | E23: =SUM(E20:E22) -> 0 | F23: =SUM(F20:F22) -> 0 | G23: =SUM(G20:G22) -> 0 | H23: =SUM(H20:H22) -> 0 | I23: =SUM(I20:I22) -> 0 | ... K23: =SUM(K20:K22) -> 0 | L23: end of sheet

Sheet K. Summary by Grade
A1: K: Summary of Requirements by Grade- SALARIES AND EXPENSES | J1: end of line
J2: end of line
J3: end of line
A4: Summary of Requirements by Grade | J4: end of line
A5: =+'B. Summary of Requirements '!A5:X5 -> Community Oriented Policing Services | J5: end of line
A6: =+'B. Summary of Requirements '!A6:X6 -> Salaries and Expenses | J6: end of line
J7: end of line
J8: end of line
A9: Grades and Salary Ranges | B9: 2011 Enacted w/Rescissions (Reimbursable) | D9: 2012 Enacted (Direct) | F9: 2013 Request (Direct) | H9: Increase/Decrease | J9: end of line
J10: end of line
B11: Pos. | C11: Amount | D11: Pos. | E11: Amount | F11: Pos. | G11: Amount | H11: Pos. | I11: Amount | J11: end of line
A12: SES, $119,554 - 179,700 | B12: 2 | D12: 2 | F12: 2 | H12: =F12-D12 -> 0 | J12: end of line
A13: GS-15, $123,758 - 155,500 | B13: 21 | D13: 21 | F13: 21 | H13: =F13-D13 -> 0 | J13: end of line
A14: GS-14, $105,211 - 136,771 | B14: 28 | D14: 28 | F14: 28 | H14: =F14-D14 -> 0 | J14: end of line
A15: GS-13, $89,033 - 115,742 | B15: 37 | D15: 37 | F15: 37 | H15: =F15-D15 -> 0 | J15: end of line
A16: GS-12, $74,872 - 97,333 | B16: 37 | D16: 37 | F16: 37 | H16: =F16-D16 -> 0 | J16: end of line
A17: GS-11, $62,467 - 81,204 | B17: 17 | D17: 17 | F17: 17 | H17: =F17-D17 -> 0 | J17: end of line
A18: GS-9, $51,630 - 67,114 | B18: 18 | D18: 18 | F18: 18 | H18: =F18-D18 -> 0 | J18: end of line
A19: GS-8, $46,745 - 60,765 | B19: 3 | D19: 3 | F19: 3 | H19: =F19-D19 -> 0 | J19: end of line
A20: GS-7, $42,209 - 54,875 | B20: 11 | D20: 11 | F20: 11 | H20: =F20-D20 -> 0 | J20: end of line
A21: GS-4, $30,456 - 39,590 | B21: 7 | D21: 7 | F21: 7 | H21: =F21-D21 -> 0 | J21: end of line
A22: GS-3, $27,130 - 35,269 | B22: 7 | D22: 7 | F22: 7 | H22: =F22-D22 -> 0 | J22: end of line
A23: Total, Appropriated Positions | B23: =SUM(B12:B22) -> 188 | D23: =SUM(D12:D22) -> 188 | F23: =SUM(F12:F22) -> 188 | H23: =SUM(H12:H22) -> 0 | J23: end of line
A24: Average SES Salary | C24: 174000 | E24: 174000 | G24: 174870 | J24: end of line
A25: Average GS Salary | C25: 79178 | E25: =+C25 -> 79178 | G25: 79574 | J25: end of line
A26: Average GS Grade | C26: 11.46 | E26: 11.5 | G26: 11.54 | J26: end of sheet

Sheet L. Summary by Object Class 
A1: L: Summary of Requirements by Object Class- SALARIES AND EXPENSES | M1: end of line
M2: end of line
A3: Summary of Requirements by Object Class | M3: end of line
A4: =+'[2]B. Summary of Requirements '!A5 -> Community Oriented Policing Services | M4: end of line
A5: Salaries and Expenses | M5: end of line
A6: (Dollars in Thousands) | M6: end of line
M7: end of line
A8: Object Classes | B8: 2011 Actuals | D8: 2012 Enacted | F8: 2013 Request | H8: Increase/Decrease | M8: end of line
B9: FTE | C9: Amount | D9: FTE | E9: Amount | F9: FTE | G9: Amount | H9: FTE | I9: Amount | M9: end of line
A10: 11.1 Direct FTE & personnel compensation | B10: 164 | C10: 12758 | D10: 164 | E10: 13423 | F10: 164 | G10: 13541 | H10: =F10-D10 -> 0 | I10: =G10-E10 -> 118 | M10: end of line
A11: 11.3 Other than full-time permanent | C11: 243 | E11: 179 | G11: 181 | H11: =F11-D11 -> 0 | I11: =G11-E11 -> 2 | J11: atb | K11: enhance | M11: end of line
A12: 11.5 Total, Other personnel compensation | B12: =B13+B14 -> 0 | C12: 300 | E12: 358 | G12: 361 | H12: =F12-D12 -> 0 | I12: =G12-E12 -> 3 | J12: 93 | M12: end of line
A13: Overtime | C13: 0 | E13: 0 | G13: 2 | H13: =F13-D13 -> 0 | I13: =G13-E13 -> 2 | M13: end of line
A14: Other Compensation | C14: 300 | E14: 358 | G14: 359 | H14: =F14-D14 -> 0 | I14: =G14-E14 -> 1 | M14: end of line
A15: 11.8 Special personal services payments | H15: =F15-D15 -> 0 | I15: =G15-E15 -> 0 | M15: end of line
A16: Total | B16: =+B10+B11+B12+B15 -> 164 | C16: =+C10+C11+C12+C15 -> 13301 | D16: =+D10+D11+D12+D15 -> 164 | E16: =+E10+E11+E12+E15 -> 13960 | F16: =+F10+F11+F12+F15 -> 164 | G16: =+G10+G11+G12+G15 -> 14083 | H16: =+H10+H11+H12+H15 -> 0 | I16: =+I10+I11+I12+I15 -> 123 | J16: =697+630+957+2333 -> 4617 | K16: =2451-93 -> 2358 | L16: =+E16-G16 -> -123 | M16: end of line
A17: Other Object Classes: | M17: end of line
A18: 12.0 Personnel benefits | C18: 3744 | E18: 3972 | G18: 3957 | I18: =G18-E18 -> -15 | J18: 359 | K18: =1171+93 -> 1264 | L18: =+E18-G18 -> 15 | M18: end of line
A19: 21.0 Travel and transportation of persons | C19: 431 | E19: 409 | G19: 409 | I19: =G19-E19 -> 0 | K19: 110 | L19: =+E19-G19 -> 0 | M19: end of line
A20: 22.0 Transportation of things | C20: 342 | E20: 324 | G20: 274 | I20: =G20-E20 -> -50 | K20: 0 | L20: =+E20-G20 -> 50 | M20: end of line
A21: 23.1 GSA rent | C21: 3195 | E21: 3355 | G21: 4157 | I21: =G21-E21 -> 802 | J21: =4220-576 -> 3644 | L21: =+E21-G21 -> -802 | M21: end of line
A22: 23.2 Moving/Lease Expirations/Contract Parking | C22: 81 | E22: 81 | G22: 81 | I22: =G22-E22 -> 0 | L22: =+E22-G22 -> 0 | M22: end of line
A23: 23.3 Comm., util., & other misc. charges | C23: 379 | E23: =399 -> 399 | G23: 400 | I23: =G23-E23 -> 1 | J23: 332 | K23: 175 | L23: =+E23-G23 -> -1 | M23: end of line
A24: 24.0 Printing and reproduction | C24: 25 | E24: =25 -> 25 | G24: 25 | I24: =G24-E24 -> 0 | L24: =+E24-G24 -> 0 | M24: end of line
A25: 25.1 Advisory and assistance services | C25: 1118 | E25: 1082 | G25: 1000 | I25: =G25-E25 -> -82 | K25: 14918 | L25: =+E25-G25 -> 82 | M25: end of line
A26: 25.2 Other services | C26: 3362 | E26: =3362 -> 3362 | G26: 3530 | I26: =G26-E26 -> 168 | J26: 276 | K26: 14853 | L26: =+E26-G26 -> -168 | M26: end of line
A27: 25.3 Purchases of goods & services from Government accounts (Antennas, DHS Sec. Etc.) | C27: 9872 | E27: =9903 -> 9903 | G27: 10054 | I27: =G27-E27 -> 151 | K27: 135 | L27: =+E27-G27 -> -151 | M27: end of line
A28: 25.4 Operation and maintenance of facilities | I28: =G28-E28 -> 0 | L28: =+E28-G28 -> 0 | M28: end of line
A29: 25.5 Research and development contracts | I29: =G29-E29 -> 0 | L29: =+E29-G29 -> 0 | M29: end of line
A30: 25.6 Medical Care | C30: 12 | E30: 12 | G30: 12
A31: 25.7 Operation and maintenance of equipment | C31: 54 | E31: 10 | G31: 10 | I31: =G31-E31 -> 0 | K31: 10 | L31: =+E31-G31 -> 0 | M31: end of line | O31: =38102-G34 -> 0
A32: 26.0 Supplies and materials | C32: 323 | E32: 52 | G32: 52 | I32: =G32-E32 -> 0 | K32: 85 | L32: =+E32-G32 -> 0 | M32: end of line
A33: 31.0 Equipment | C33: 57 | E33: 58 | G33: 58 | I33: =G33-E33 -> 0 | K33: 37758 | L33: =+E33-G33 -> 0 | M33: end of line
A34: Total obligations | B34: 33802 | C34: =SUM(C16:C33) -> 36296 | D34: =37004+3202 -> 40206 | E34: =SUM(E16:E33) -> 37004 | G34: =SUM(G16:G33) -> 38102 | I34: =SUM(I16:I33) -> 1098 | J34: =SUM(J12:J33) -> 9321 | K34: =SUM(K16:K33) -> 71666 | L34: =+E34-G34 -> -1098 | M34: end of line
A35: Unobligated balance, start of year | C35: 0 | D35: -3202 | E35: 0 | G35: 0 | M35: end of line
A36: Unobligated balance, end of year | B36: 3202 | C36: 3202 | E36: 0 | G36: 0 | M36: end of line
A37: Total DIRECT requirements | B37: =SUM(B34:B36) -> 37004 | C37: =SUM(C34:C36) -> 39498 | D37: =SUM(D34:D36) -> 37004 | E37: =SUM(E34:E36) -> 37004 | G37: =SUM(G34:G36) -> 38102 | M37: end of line
A39: Reimbursable FTE: | M39: end of line
A40: Management and Administration | B40: 0 | C40: 0 | D40: 0 | E40: 0 | F40: 0 | G40: 0 | M40: end of line
A41: 23.1 GSA rent (Reimbursable) | C41: 0 | E41: 0 | G41: 0 | M41: end of line
...

Sheet (M) Studies
A1: M. Status of Congressionally Requested Studies, Reports, and Evaluations- SALARIES AND EXPENSES | K1: end of line
K2: end of line
K3: end of line
K4: end of line
A5: Office of Community Oriented Policing Services | K5: end of line
K6: end of line
A7: Salaries and Expenses | K7: end of line
A8: (Dollars in Thousands) | K8: end of line
K9: end of line
K10: end of line
A11: Status of Congressionally Requested Studies, Reports, and Evaluations | K11: end of line
K12: end of line
K13: end of line
A14: 1. The Conference Report associated with the FY 2012 Consolidated and Further Appropriations Act, page 34, directs the COPS Office to provide to the GAO and the Committees on Appropriations a report on its updated staffing model based the results of the DOJ Grantmakers' Workload Analysis not later than 120 days after the enactment of this Act. Target response to GAO and Committees in May 2012. | K14: end of line
K15: end of line
K16: end of line
K17: end of line
K18: end of line
K19: end of line
K20: end of sheet
