Workbook
Name _10POS_BY_CAT: '[1]Summ Atty Agt'!#REF!
Name _11POS_BY_CAT: #REF!
Name _1ATTORNEY_SUPP: #REF!
Name _2ATTORNEY_SUPP: #REF!
Name _3GA_ROLLUP: 'B. Summary of Requirements '!#REF!
Name _4GA_ROLLUP: #REF!
Name _5GA_ROLLUP: [2]SumReq!#REF!
Name _6GA_ROLLUP: '[1]Sum of Req'!#REF!
Name _7GA_ROLLUP: #REF!
Name _8POS_BY_CAT: #REF!
Name _9POS_BY_CAT: #REF!
Name DL: 'B. Summary of Requirements '!$A$3:$X$57
Name DL: #REF!
Name EXECSUPP: 'B. Summary of Requirements '!#REF!
Name EXECSUPP: #REF!
Name EXECSUPP: '[1]Sum of Req'!#REF!
Name EXECSUPP: #REF!
Name FY0711.1: #REF!
Name FY0711.5: #REF!
Name FY0712.1: #REF!
Name FY0721.0: #REF!
Name FY0722.0: #REF!
Name FY0723.1: #REF!
Name FY0723.2: #REF!
Name FY0723.3: #REF!
Name FY0724.0: #REF!
Name FY0725.2: #REF!
Name FY0725.3: #REF!
Name FY0725.6: #REF!
Name FY0726.0: #REF!
Name FY0731.0: #REF!
Name FY0732.0: #REF!
Name FY07Ling: #REF!
Name FY07Mult: #REF!
Name FY07PEPI: #REF!
Name FY07Tot: #REF!
Name FY07Train: #REF!
Name FY0811.1: #REF!
Name FY0811.5: #REF!
Name FY0812.1: #REF!
Name FY0821.0: #REF!
Name FY0822.0: #REF!
Name FY0823.1: #REF!
Name FY0823.2: #REF!
Name FY0823.3: #REF!
Name FY0824.0: #REF!
Name FY0825.2: #REF!
Name FY0825.3: #REF!
Name FY0825.6: #REF!
Name FY0826.0: #REF!
Name FY0831.0: #REF!
Name FY0832.0: #REF!
Name FY08Ling: #REF!
Name FY08Mult: #REF!
Name FY08PEPI: #REF!
Name FY08Tot: #REF!
Name FY08Train: #REF!
Name FY0911.1: #REF!
Name FY0911.5: #REF!
Name FY0912.1: #REF!

Sheet A. Organization Chart
A1: A: Organizational Chart | N1: end of line
N2: end of line
N3: end of line
N4: end of line
N5: end of line
N6: end of line
N7: end of line
N8: end of line
N9: end of line
N10: end of line
N11: end of line
N12: end of line
N13: end of line
... N29: end of sheet
A200: 2012 template
A256: FY 2011 CJ Submission

Sheet B. Summary of Requirements 
A1: B: Summary of Requirements | Y1: end of line
Y2: end of line
Y3: end of line
A4: Summary of Requirements | Y4: end of line
A5: Community Relations Service | Y5: end of line
A6: Salaries and Expenses | Y6: end of line
A7: (Dollars in Thousands) | Y7: end of line
Y8: end of line
Y9: end of line
Y10: end of line
V11: FY 2013 Request | Y11: end of line
V12: Perm. Pos. | W12: FTE | X12: Amount | Y12: end of line
Y13: end of line
A14: 2011 Enacted | V14: 56 | W14: 56 | X14: 11456 | Y14: end of line
A15: 2012 Enacted | V15: 56 | W15: 56 | X15: 11456 | Y15: end of line
A16: 2012 Rescissions | Y16: end of line
A17: Total 2012 Enacted (with Rescissions) | V17: =+V16+V15 -> 56 | W17: =+W16+W15 -> 56 | X17: =+X16+X15 -> 11456 | Y17: end of line
A18: Adjustments to Base | Y18: end of line
A19: JCON and JCON S/TS | V19: 0 | W19: 0 | X19: 24 | Y19: end of line
A20: Increases: | Y20: end of line
A21: Pay and Benefits | V21: 0 | W21: 0 | X21: 98 | Y21: end of line
A22: Domestic Rent and Facilities | V22: 0 | W22: 0 | X22: 83 | Y22: end of line
A23: Subtotal Increases | V23: =SUM(V21:V22) -> 0 | W23: =SUM(W21:W22) -> 0 | X23: =SUM(X21:X22) -> 181 | Y23: end of line
A24: Total Adjustments to Base | V24: =+V23 -> 0 | W24: =+W23 -> 0 | X24: =+X23+X19 -> 205 | Y24: end of line
A25: Total Adjustments to Base and Technical Adjustments | V25: 0 | W25: 0 | X25: =X24 -> 205 | Y25: end of line
A26: 2013 Current Services | V26: =+V25+V17 -> 56 | W26: =+W25+W17 -> 56 | X26: =+X25+X17 -> 11661 | Y26: end of line
A27: Program Changes | Y27: end of line
A28: Increases: | Y28: end of line
A29: Hate Crime Prevention | V29: 5 | W29: 3 | X29: 391 | Y29: end of line
A30: Subtotal Increases | V30: =SUM(V29:V29) -> 5 | W30: =SUM(W29:W29) -> 3 | X30: =SUM(X29:X29) -> 391 | Y30: end of line
A31: Offsets: | Y31: end of line
A32: IT Savings | V32: 0 | W32: 0 | X32: -16 | Y32: end of line
A33: Subtotal Offsets | V33: =SUM(V32:V32) -> 0 | W33: =SUM(W32:W32) -> 0 | X33: =SUM(X32:X32) -> -16
A34: Total Program Changes | V34: =SUM(V30+V33) -> 5 | W34: =SUM(W30+W33) -> 3 | X34: =SUM(X30+X33) -> 375 | Y34: end of line
A35: 2013 Total Request | V35: =V26+V34 -> 61 | W35: =W26+W34 -> 59 | X35: =X26+X34 -> 12036 | Y35: end of line
A36: 2012 - 2013 Total Change | V36: =+V35-V14 -> 5 | W36: =+W35-W14 -> 3 | X36: =+X35-X17 -> 580 | Y36: end of line
Y37: end of line
A38: NOTE: All FTE numbers in this table reflect authorized FTE, which is the total number of FTE available to a component. Because the FY 2013 President’s Budget Appendix builds the FTE request using actual FTE rather than authorized, it may not | Y38: end of line
A39: match the FY 2012 FTE enacted and FY 2013 FTE request reflected in this table. | Y39: end of line
Y40: end of line
...

Sheet C. Increases Offsets
A1: C: Program Increases/Offsets By Decision Unit | I1: end of line
I2: end of line
I3: end of line
C4: FY 2013 Program Increases/Offsets By Decision Unit | I4: end of line
C5: ='B. Summary of Requirements '!A46 -> Community Relations Service | I5: end of line
C6: (Dollars in Thousands) | I6: end of line
I7: end of line
I8: end of line
A9: Program Increases | B9: Location of Description by Decision Unit | C9: Conflict Resolution & Violence Prevention | G9: Total Increases | H9: end of line
C10: Pos. | D10: Agt./Atty. | E10: FTE | F10: Amount | H10: end of line
H11: end of line
A12: Hate Crime Prevention | B12: CRS | C12: 5 | D12: 0 | E12: 3 | F12: 391 | G12: =+F12 -> 391 | H12: end of line
H13: end of line
A14: Total Program Increases | C14: =SUM(C11:C13) -> 5 | D14: 0 | E14: =SUM(E11:E13) -> 3 | F14: =SUM(F11:F13) -> 391 | G14: =SUM(G11:G13) -> 391 | H14: end of line
H16: end of line
A17: Program Offsets | B17: Location of Description by Decision Unit | C17: Conflict Resolution & Violence Prevention | G17: Total Offsets | H17: end of line
C18: Pos. | D18: Agt./Atty. | E18: FTE | F18: Amount | H18: end of line
H19: end of line
A20: IT Saving | B20: CRS | C20: 0 | D20: 0 | E20: 0 | F20: -16 | G20: =+F20 -> -16 | H20: end of line
H21: end of line
A22: Total Offsets | C22: 0 | D22: 0 | E22: 0 | F22: =SUM(F19:F21) -> -16 | G22: =SUM(G19:G21) -> -16 | H22: end of sheet

Sheet D. Strategic Goals & Objectives
A1: D: Resources by DOJ Strategic Goal and Strategic Objective | Q1: end of line
Q2: end of line
A3: Resources by Department of Justice Strategic Goal/Objective | Q3: end of line
A4: ='B. Summary of Requirements '!A5:X5 -> Community Relations Service | Q4: end of line
A5: (Dollars in Thousands) | Q5: end of line
Q6: end of line
Q7: end of line
C8: 2011 Appropriation Enacted | F8: 2012 Enacted | I8: 2013 Current Services | K8: 2013 | O8: 2013 Request | Q8: end of line
K9: Increases | M9: Offsets | Q9: end of line
A10: Strategic Goal and Strategic Objective | Q10: end of line
C11: Direct, Reimb. Other FTE | D11: Direct Amount $000s | F11: Direct, Reimb. Other FTE | G11: Direct Amount $000s | I11: Direct, Reimb. Other FTE | J11: Direct Amount $000s | K11: Direct, Reimb. Other FTE | L11: Direct Amount $000s | M11: Direct, Reimb. Other FTE | N11: Direct Amount $000s | O11: Direct, Reimb. Other FTE | P11: Direct Amount $000s | Q11: end of line
Q12: end of line
A13: Goal 1: Prevent Terrorism and Promote the Nation's Security Consistent with the Rule of Law | Q13: end of line
A14: 1.1 Prevent, disrupt, and defeat terrorist operations before they occur | I14: =+F14+C14 -> 0 | J14: =+G14+D14 -> 0 | O14: =+I14+K14+M14 -> 0 | P14: =+J14+L14+N14 -> 0 | Q14: end of line
A15: 1.2 Prosecute those involved in terrorist acts | I15: =+F15+C15 -> 0 | J15: =+G15+D15 -> 0 | O15: =+I15+K15+M15 -> 0 | P15: =+J15+L15+N15 -> 0 | Q15: end of line
A16: 1.3 Combat espionage against the United States | I16: =+F16+C16 -> 0 | J16: =+G16+D16 -> 0 | O16: =+I16+K16+M16 -> 0 | P16: =+J16+L16+N16 -> 0 | Q16: end of line
A17: Subtotal, Goal 1 | C17: =SUM(C14:C16) -> 0 | D17: =SUM(D14:D16) -> 0 | F17: =SUM(F14:F16) -> 0 | G17: =SUM(G14:G16) -> 0 | I17: =SUM(I14:I16) -> 0 | J17: =SUM(J14:J16) -> 0 | K17: =SUM(K14:K16) -> 0 | L17: =SUM(L14:L16) -> 0 | M17: =SUM(M14:M16) -> 0 | N17: =SUM(N14:N16) -> 0 | O17: =SUM(O14:O16) -> 0 | P17: =SUM(P14:P16) -> 0 | Q17: end of line
Q18: end of line
A19: Goal 2: Prevent Crime, Protect the Rights of the American People, and Enforce Federal Law | Q19: end of line
A20: 2.2 Prevent and intervene in crimes against vulnerable populations, uphold the rights of, and improve services to, America's crime victims | I20: =56*0.4 -> 22.4 | J20: =11661*0.4 -> 4664.4 | K20: 3 | L20: 391 | M20: 0 | N20: 0 | O20: =+I20+K20+M20 -> 25.4 | P20: =+J20+L20+N20 -> 5055.4 | Q20: end of line
A21: 2.5 Promote and protect Americans' civil rights | C21: 56 | D21: 11456 | F21: 56 | G21: 11456 | I21: =56*0.6 -> 33.6 | J21: =11661*0.6 -> 6996.6 | K21: 0 | L21: 0 | M21: 0 | N21: -16 | O21: =+I21+K21+M21 -> 33.6 | P21: =+J21+L21+N21 -> 6980.6 | Q21: end of line
A22: Subtotal, Goal 2 | C22: =SUM(C20:C21) -> 56 | D22: =SUM(D20:D21) -> 11456 | F22: =SUM(F20:F21) -> 56 | G22: =SUM(G20:G21) -> 11456 | I22: =SUM(I20:I21) -> 56 | J22: =SUM(J20:J21) -> 11661 | K22: =SUM(K20:K21) -> 3 | L22: =SUM(L20:L21) -> 391 | M22: =SUM(M20:M21) -> 0 | N22: =SUM(N20:N21) -> -16 | O22: =SUM(O20:O21) -> 59 | P22: =SUM(P20:P21) -> 12036 | Q22: end of line
Q23: end of line
A24: Goal 3: Ensure and Support the Fair, Impartial, Efficient, and Transparent Administration of Justice at the Federal, State, Local, Tribal and International Levels | Q24: end of line
A25: 3.1 Promote and strengthen relationships and strategies for the administration of justice with state, local, tribal and international law enforcement | Q25: end of line
A26: 3.2 Protect judges, witnesses, and other participants in federal proceedings; apprehend fugitives; and ensure the appearance of criminal defendants for judicial proceedings or confinement | I26: =+F26+C26 -> 0 | J26: =+G26+D26 -> 0 | O26: =+I26+K26+M26 -> 0 | P26: =+J26+L26+N26 -> 0 | Q26: end of line
A27: 3.3 Provide for the safe, secure, humane, and cost-effective confinement of detainees awaiting trial and/or sentencing, and those in the custody of the Federal Prison System | I27: =+F27+C27 -> 0 | J27: =+G27+D27 -> 0 | O27: =+I27+K27+M27 -> 0 | P27: =+J27+L27+N27 -> 0 | Q27: end of line
A28: 3.4 Adjudicate all immigration cases promptly and impartially in accordance with due process | I28: =+F28+C28 -> 0 | J28: =+G28+D28 -> 0 | O28: =+I28+K28+M28 -> 0 | P28: =+J28+L28+N28 -> 0 | Q28: end of line
A29: Subtotal, Goal 3 | C29: =SUM(C25:C28) -> 0 | D29: =SUM(D25:D28) -> 0 | F29: =SUM(F25:F28) -> 0 | G29: =SUM(G25:G28) -> 0 | I29: =SUM(I25:I28) -> 0 | J29: =SUM(J25:J28) -> 0 | K29: =SUM(K25:K28) -> 0 | L29: =SUM(L25:L28) -> 0 | M29: =SUM(M25:M28) -> 0 | N29: =SUM(N25:N28) -> 0 | O29: =SUM(O25:O28) -> 0 | P29: =SUM(P25:P28) -> 0 | Q29: end of line
Q30: end of line
A31: GRAND TOTAL | C31: =C17+C22+C29 -> 56 | D31: =D17+D22+D29 -> 11456 | F31: =F17+F22+F29 -> 56 | G31: =G17+G22+G29 -> 11456 | I31: =I17+I22+I29 -> 56 | J31: =J17+J22+J29 -> 11661 | K31: =K17+K22+K29 -> 3 | L31: =L17+L22+L29 -> 391 | M31: =M17+M22+M29 -> 0 | N31: =N17+N22+N29 -> -16 | O31: =O17+O22+O29 -> 59 | P31: =P17+P22+P29 -> 12036 | Q31: end of sheet

Sheet E. ATB Justification
A1: E. Justification for Base Adjustments | J1: end of line
J2: end of line
A3: Justification for Base Adjustments | J3: end of line
A4: =+'B. Summary of Requirements '!A5 -> Community Relations Service | J4: end of line
J5: end of line
J6: end of line
A7: Transfers | J7: end of line
G8: POS | H8: FTE | I8: Amount
A9: JCON and JCON S/TS. A transfer of $24,000 is included in support of the Department's JCON and JCON S/TS programs which will be moved to the Working Capital Fund and provided as a billable service in FY 2013. | G9: 0 | H9: 0 | I9: 24 | J9: end of line
A10: Increases | J10: end of line
J11: end of line
A12: 2013 Pay Raise. This request provides for a proposed 0.5 percent pay raise to be effective in January of 2013. The increase only includes the general pay raise. The amount request, $23,000, represents the pay amounts for 3/4 of the fiscal year plus appropriate benefits ($17,000 for pay and $6,000 for benefits.) | G12: 0 | H12: 0 | I12: 23 | J12: end of line
J13: end of line
A14: FERS Rate Increase. On June 11, 2010, the Board of Actuaries of the Civil Service Retirement System recommended a new set of economic assumptions for the Civil Service Retirement System (CSRS) and the Federal Employees Retirement System (FERS). In accordance with this change, effective October 1, 2011 (FY 2012), the normal cost of regular retirement under FERS will increase from the current level of 12.5% of pay to 12.7%. The total FERS contribution for Law Enforcement retirement will increase from 27.0% to 27.6%. This will result in new agency contribution rates of 11.9% for regular costs (up from the current 11.7%) and 26.3% for law enforcement personnel (up from the current 25.7%). The amount requested, $10,000, represents the funds needed to cover this increase. | G14: 0 | H14: 0 | I14: 10
A16: Retirement. Agency retirement contributions increase as employees under CSRS retire and are replaced by FERS employees. Based on OPM government-wide estimates, we project that the DOJ workforce will convert from CSRS to FERS at a rate of 1.3 percent per year. The requested increase of $10,000 is necessary to meet our increased retirement obligations as a result of this conversion. | G16: 0 | H16: 0 | I16: 10 | J16: end of line
J17: end of line
J18: end of line
A19: Health Insurance. Effective January 2013, this component's contribution to Federal employees' health insurance premiums increased by 11.1 percent. Applied against the 2011 estimate of $267,000, the additional amount required is $30,000. | G19: 0 | H19: 0 | I19: 30 | J19: end of line
J20: end of line
A21: Changes in Compensable Days. The decreased cost for one compensable day in FY 2013 compared to FY 2012 is calculated by dividing the FY 2012 estimated personnel compensation $5,332,000 and applicable benefits $1,012,000 by 261 compensable days. | G21: 0 | H21: 0 | I21: 25 | J21: end of line
J22: end of line
J23: end of line
A24: General Services Administration (GSA) Rent. GSA will continue to charge rental rates that approximate those charged to commercial tenants for equivalent space and related services. The requested increase of $76,000 is required to meet our commitment to GSA. The costs associated with GSA rent were derived through the use of an automated system, which uses the latest inventory data, including rate increases to be effective in FY 2013 for each building currently occupied by Department of Justice components, as well as the costs of new space to be occupied. GSA provided data on the rate increases. | G24: 0 | H24: 0 | I24: 76 | J24: end of line
J25: end of line
A26: DHS Security Charges. The Department of Homeland Security (DHS) will continue to charge Basic Security and Building Specific Security. The requested increase of $7,000 is required to meet our commitment to DHS, and cost estimates were developed by DHS. | G26: 0 | H26: 0 | I26: 7 | J26: end of line
F27: Total Increase: | G27: =SUM(G13:G26) -> 0 | H27: =SUM(H13:H26) -> 0 | I27: =SUM(I9:I26) -> 205 | J27: end of line
A28: Decreases | J28: end of line
J29: end of line
A30: Non-recurral of Non-personnel Increases | J30: end of line
F32: Total Decrease: | G32: =+G30 -> 0 | H32: =+H30 -> 0 | I32: =+I30 -> 0 | J32: end of line
J33: end of line
J34: end of line
F35: Total ATB: | G35: =+G32+G27 -> 0 | H35: =+H32+H27 -> 0 | I35: =+I32+I27 -> 205 | J35: end of sheet

Sheet F. 2011 Crosswalk
A1: F: Crosswalk of 2011 Availability | P1: end of line
P2: end of line
A3: Crosswalk of 2011 Availability | P3: end of line
A4: =+'B. Summary of Requirements '!A5 -> Community Relations Service | P4: end of line
A5: =+'B. Summary of Requirements '!A6 -> Salaries and Expenses | P5: end of line
A6: (Dollars in Thousands) | P6: end of line
P7: end of line
P8: end of line
A9: Decision Unit | B9: FY 2011 Enacted Without Rescissions | E9: Rescissions | H9: Reprogrammings / Transfers | K9: Carryover | L9: Recoveries | M9: 2011 Availability | P9: end of line
P10: end of line
B11: Pos. | C11: FTE | D11: Amount | E11: Pos. | F11: FTE | G11: Amount | H11: Pos. | I11: FTE | J11: Amount | K11: Amount | L11: Amount | M11: Pos. | N11: FTE | O11: Amount | P11: end of line
A12: Conflict Resolution and Violence Prevention Activities | B12: 56 | C12: 56 | D12: 11456 | E12: 0 | F12: 0 | G12: 0 | H12: 0 | I12: 0 | J12: 0 | K12: 0 | L12: 0 | M12: =B12+E12+H12 -> 56 | N12: =C12+F12+I12 -> 56 | O12: =D12+G12+J12+K12+L12 -> 11456 | P12: end of line
A13: TOTAL | B13: =SUM(B12:B12) -> 56 | C13: =SUM(C12:C12) -> 56 | D13: =SUM(D12:D12) -> 11456 | E13: =SUM(E12:E12) -> 0 | F13: =SUM(F12:F12) -> 0 | G13: 0 | H13: =SUM(H12:H12) -> 0 | I13: =SUM(I12:I12) -> 0 | J13: =SUM(J12:J12) -> 0 | K13: =SUM(K12:K12) -> 0 | L13: =SUM(L12:L12) -> 0 | M13: =SUM(M12:M12) -> 56 | N13: =SUM(N12:N12) -> 56 | O13: =SUM(O12:O12) -> 11456 | P13: end of line
A14: Reimbursable FTE | P14: end of line
A15: Total FTE | C15: =SUM(C13:C14) -> 56 | F15: =+F13+F14 -> 0 | I15: =+I13+I14 -> 0 | K15: 0 | L15: 0 | N15: =SUM(N13:N14) -> 56 | P15: end of line
A16: Total Compensable FTE | C16: =+C15 -> 56 | F16: =+F15 -> 0 | I16: =+I15 -> 0 | K16: 0 | L16: 0 | N16: =+N15 -> 56 | P16: end of line
P24: end of sheet

Sheet G. 2012 Crosswalk
A1: G: Crosswalk of 2012 Availability | S1: end of line
S2: end of line
A3: Crosswalk of 2012 Availability | S3: end of line
A4: =+'B. Summary of Requirements '!A5 -> Community Relations Service | S4: end of line
A5: =+'B. Summary of Requirements '!A6 -> Salaries and Expenses | S5: end of line
A6: (Dollars in Thousands) | S6: end of line
S7: end of line
S8: end of line
A9: Decision Unit | B9: FY 2012 Enacted Without Rescissions | E9: Rescissions | H9: Supplementals | K9: Reprogrammings / Transfers | N9: Carryover | O9: Recoveries | P9: 2012 Availability | S9: end of line
S10: end of line
B11: Pos. | C11: FTE | D11: Amount | E11: Pos. | F11: FTE | G11: Amount | H11: Pos. | I11: FTE | J11: Amount | K11: Pos. | L11: FTE | M11: Amount | N11: Amount | O11: Amount | P11: Pos. | Q11: FTE | R11: Amount | S11: end of line
A12: Conflict Resolution and Violence Prevention Activities | B12: 56 | C12: 56 | D12: 11456 | E12: 0 | F12: 0 | G12: 0 | K12: 0 | L12: 0 | M12: 0 | N12: 0 | O12: 0 | P12: =B12+E12+H12+K12 -> 56 | Q12: =C12+F12+I12+L12 -> 56 | R12: =D12+G12+J12+M12+N12+O12 -> 11456 | S12: end of line
A13: TOTAL | B13: =SUM(B12:B12) -> 56 | C13: =SUM(C12:C12) -> 56 | D13: =SUM(D12:D12) -> 11456 | E13: =SUM(E12:E12) -> 0 | F13: =SUM(F12:F12) -> 0 | G13: =SUM(G12:G12) -> 0 | H13: =SUM(H12:H12) -> 0 | I13: =SUM(I12:I12) -> 0 | ... R13: =SUM(R12:R12) -> 11456 | S13: end of line
A14: Reimbursable FTE | S14: end of line
A15: Total FTE | C15: =SUM(C13:C14) -> 56 | F15: =+F13+F14 -> 0 | I15: =+I13+I14 -> 0 | L15: =+L13+L14 -> 0 | Q15: =SUM(Q13:Q14) -> 56 | S15: end of line
A16: Total Compensable FTE | C16: =+C15 -> 56 | F16: =+F15 -> 0 | I16: =#REF!+#REF!+I15 -> #REF! | L16: =+L15 -> 0 | Q16: =+Q15 -> 56 | S16: end of line
S17: end of sheet

Sheet H. Reimbursable Resources
A1: H: Summary of Reimbursable Resources | O1: end of line
O2: end of line
A3: Summary of Reimbursable Resources | O3: end of line
A4: =+'B. Summary of Requirements '!A5 -> Community Relations Service | O4: end of line
A5: =+'B. Summary of Requirements '!A6 -> Salaries and Expenses | O5: end of line
A6: (Dollars in Thousands) | O6: end of line
O7: end of line
A8: Collections by Source | C8: 2011 Enacted | F8: 2012 Planned | I8: 2013 Request | L8: Increase/Decrease | O8: end of line
C9: Pos. | D9: FTE | E9: Amount | F9: Pos. | G9: FTE | H9: Amount | I9: Pos. | J9: FTE | K9: Amount | L9: Pos. | M9: FTE | N9: Amount | O9: end of line
A10: OCIO/ ITSS | C10: 0 | D10: 0 | E10: 24 | F10: 0 | G10: 0 | H10: 0 | I10: 0 | J10: 0 | K10: 0 | L10: =I10-F10 -> 0 | M10: =J10-G10 -> 0 | N10: =K10-H10 -> 0 | O10: end of line
O11: end of line
A12: Budgetary Resources: | C12: =SUM(C10:C11) -> 0 | D12: =SUM(D10:D11) -> 0 | E12: =SUM(E10:E11) -> 24 | F12: =SUM(F10:F11) -> 0 | G12: =SUM(G10:G11) -> 0 | H12: =SUM(H10:H11) -> 0 | I12: =SUM(I10:I11) -> 0 | J12: =SUM(J10:J11) -> 0 | ... N12: =SUM(N10:N11) -> 0 | O12: end of sheet
O13: end of sheet

Sheet I. Permanent Positions
A1: I: Detail of Permanent Positions by Category | L1: end of line
L2: end of line
L3: end of line
A4: Detail of Permanent Positions by Category | L4: end of line
A5: =+'B. Summary of Requirements '!A5 -> Community Relations Service | L5: end of line
A6: =+'B. Summary of Requirements '!A6 -> Salaries and Expenses | L6: end of line
L7: end of line
L8: end of line
A9: Category | B9: 2011 Enacted | D9: 2012 Enacted | F9: 2013 Request | L9: end of line
B10: Total Authorized | C10: Total Reimbursable | D10: Total Authorized | E10: Total Reimbursable | F10: ATBs | G10: Program Increases | H10: Program Decreases | I10: Total Pr. Changes | J10: Total Authorized | K10: Total Reimbursable | L10: end of line
L11: end of line
A12: Clerical and Office Services (300-399) | B12: 51 | D12: 51 | G12: 5 | I12: 5 | J12: 56 | L12: end of line
A13: Accounting and Budget (500-599) | B13: 2 | D13: 2 | J13: 2 | L13: end of line
A14: Attorneys (905) | B14: 2 | D14: 2 | J14: 2 | L14: end of line
A15: Information Technology Mgmt (2210) | B15: 1 | D15: 1 | J15: 1 | L15: end of line
A16: Total | B16: =SUM(B12:B15) -> 56 | C16: =SUM(C12:C15) -> 0 | D16: =SUM(D12:D15) -> 56 | E16: =SUM(E12:E15) -> 0 | F16: =SUM(F12:F15) -> 0 | G16: =SUM(G12:G15) -> 5 | H16: =SUM(H12:H15) -> 0 | I16: =SUM(I12:I15) -> 5 | ... K16: =SUM(K12:K15) -> 0 | L16: end of line
A17: Headquarters (Washington, D.C.) | B17: 12 | D17: 12 | G17: 1 | I17: =G17+H17 -> 1 | J17: =D17+F17+I17 -> 13 | K17: =SUM(K12:K16) -> 0
A18: U.S. Field | B18: 44 | D18: 44 | G18: 4 | I18: =G18+H18 -> 4 | J18: =D18+F18+I18 -> 48 | L18: end of line
A19: Foreign Field | I19: =G19+H19 -> 0 | J19: =D19+F19+I19 -> 0 | L19: end of line
A20: Total | B20: =SUM(B17:B19) -> 56 | C20: =SUM(C17:C19) -> 0 | D20: =SUM(D17:D19) -> 56 | E20: =SUM(E17:E19) -> 0 | F20: =SUM(F17:F19) -> 0 | G20: =SUM(G17:G19) -> 5 | H20: =SUM(H17:H19) -> 0 | I20: =SUM(I17:I19) -> 5 | ... K20: =SUM(K17:K19) -> 0 | L20: end of sheet

Sheet J. Financial Analysis
A1: J: Financial Analysis of Program Changes | K1: end of line
K2: end of line
A3: Financial Analysis of Program Changes | K3: end of line
A4: =+'B. Summary of Requirements '!A5 -> Community Relations Service | K4: end of line
A5: =+'B. Summary of Requirements '!A6 -> Salaries and Expenses | K5: end of line
A6: (Dollars in Thousands) | K6: end of line
K7: end of line
A8: Grades: | B8: Conflict Resolution & Violence Prevention Activities | H8: Program Changes | J8: end of line
B9: Inc. 1 | D9: Hate Crime Prevention | F9: IT Saving | J9: end of line
B10: Pos. | C10: Amount | D10: Pos. | E10: Amount | F10: Pos. | G10: Amount | H10: Pos. | I10: Amount | J10: end of line
A11: SES | H11: =SUM(F11,D11,B11) -> 0 | I11: =SUM(G11,E11,C11) -> 0 | J11: end of line
A12: GS-15 | H12: =SUM(F12,D12,B12) -> 0 | I12: =SUM(G12,E12,C12) -> 0 | J12: end of line
A13: GS-14 | D13: 1 | E13: =106 -> 106 | H13: =SUM(F13,D13,B13) -> 1 | I13: =SUM(G13,E13,C13) -> 106 | J13: end of line
A14: GS-13 | H14: =SUM(F14,D14,B14) -> 0 | I14: =SUM(G14,E14,C14) -> 0 | J14: end of line
A15: GS-12 | H15: =SUM(F15,D15,B15) -> 0 | I15: =SUM(G15,E15,C15) -> 0 | J15: end of line
A16: GS-11 | D16: 4 | E16: =62.7*4 -> 250.8 | H16: =SUM(F16,D16,B16) -> 4 | I16: =SUM(G16,E16,C16) -> 250.8 | J16: end of line
A17: GS-10 | H17: =SUM(F17,D17,B17) -> 0 | I17: =SUM(G17,E17,C17) -> 0 | J17: end of line
A18: GS-9 | H18: =SUM(F18,D18,B18) -> 0 | I18: =SUM(G18,E18,C18) -> 0 | J18: end of line
A19: GS-8 | H19: =SUM(F19,D19,B19) -> 0 | I19: =SUM(G19,E19,C19) -> 0 | J19: end of line
A20: GS-7 | H20: =SUM(F20,D20,B20) -> 0 | I20: =SUM(G20,E20,C20) -> 0 | J20: end of line
A21: GS-5 | H21: =SUM(F21,D21,B21) -> 0 | I21: =SUM(G21,E21,C21) -> 0 | J21: end of line
J22: end of line
A23: Total positions & annual amount | B23: =SUM(B11:B21) -> 0 | C23: =SUM(C11:C21) -> 0 | D23: =SUM(D11:D21) -> 5 | E23: =SUM(E11:E21) -> 356.8 | F23: =SUM(F11:F21) -> 0 | G23: =SUM(G11:G21) -> 0 | H23: =SUM(H11:H21) -> 5 | I23: =SUM(I11:I21) -> 356.8 | J23: end of line
A24: Lapse (-) | B24: =+B23/-2 -> 0 | C24: =+C23/-2 -> 0 | D24: =+D23/-2 -> -2.5 | E24: =+E23/-2 -> -178.4 | F24: =+F23/-2 -> 0 | G24: =+G23/-2 -> 0 | H24: =+B24 -> 0 | I24: =SUM(C24,G24,E24,) -> -178.4 | J24: end of line
A25: Other personnel compensation | H25: =SUM(B25,F25,D25) -> 0 | I25: =SUM(C25,G25,E25,) -> 0 | J25: end of line
J26: end of line
A27: Total FTE & personnel compensation | B27: =SUM(B23:B25) -> 0 | C27: =SUM(C23:C25) -> 0 | D27: =SUM(D23:D25) -> 2.5 | E27: =SUM(E23:E25) -> 178.4 | F27: =SUM(F23:F25) -> 0 | G27: =SUM(G23:G25) -> 0 | H27: 3 | I27: =SUM(I23:I25) -> 178.4 | J27: end of line
A28: Personnel benefits | E28: =47+4 -> 51 | H28: =SUM(F28,D28,B28) -> 0 | I28: =SUM(G28,E28,C28) -> 51 | J28: end of line
A29: Travel and transportation of persons | E29: =33+21 -> 54 | H29: =SUM(F29,D29,B29) -> 0 | I29: =SUM(G29,E29,C29) -> 54 | J29: end of line
A30: Transportation of things | E30: 2 | H30: =SUM(F30,D30,B30) -> 0 | I30: =SUM(G30,E30,C30) -> 2 | J30: end of line
A31: GSA rent | E31: 0 | H31: =SUM(F31,D31,B31) -> 0 | I31: =SUM(G31,E31,C31) -> 0 | J31: end of line
A32: Communication, rents, and utilities | E32: 21 | H32: =SUM(F32,D32,B32) -> 0 | I32: =SUM(G32,E32,C32) -> 21 | J32: end of line
A33: Printing | E33: 1 | H33: =SUM(F33,D33,B33) -> 0 | I33: =SUM(G33,E33,C33) -> 1 | J33: end of line
A34: Advisory and assistance services | E34: 0 | H34: =SUM(F34,D34,B34) -> 0 | I34: =SUM(G34,E34,C34) -> 0 | J34: end of line
A35: Other services | E35: =24 -> 24 | G35: -16 | H35: =SUM(F35,D35,B35) -> 0 | I35: =SUM(G35,E35,C35) -> 8 | J35: end of line
A36: Purchases of goods & services from Government accounts | E36: 4 | H36: =SUM(F36,D36,B36) -> 0 | I36: =SUM(G36,E36,C36) -> 4 | J36: end of line
A37: Research and development contracts | E37: 0 | H37: =SUM(F37,D37,B37) -> 0 | I37: =SUM(G37,E37,C37) -> 0 | J37: end of line
A38: Operation and maintenance of equipment | E38: 0 | H38: =SUM(F38,D38,B38) -> 0 | I38: =SUM(G38,E38,C38) -> 0 | J38: end of line
A39: Supplies and materials | E39: 5 | H39: =SUM(F39,D39,B39) -> 0 | I39: =SUM(G39,E39,C39) -> 5 | J39: end of line
A40: Equipment | E40: 51 | H40: =SUM(F40,D40,B40) -> 0 | I40: =SUM(G40,E40,C40) -> 51 | J40: end of line
...

Sheet K. Summary by Grade
A1: K: Summary of Requirements by Grade | J1: end of line
J2: end of line
J3: end of line
A4: Summary of Requirements by Grade | J4: end of line
A5: =+'B. Summary of Requirements '!A5 -> Community Relations Service | J5: end of line
A6: =+'B. Summary of Requirements '!A6 -> Salaries and Expenses | J6: end of line
J7: end of line
J8: end of line
A9: Grades and Salary Ranges | B9: 2011 Enacted w/Rescissions | D9: 2012 Enacted | F9: 2013 Request | H9: Increase/Decrease | J9: end of line
J10: end of line
B11: Pos. | C11: Amount | D11: Pos. | E11: Amount | F11: Pos. | G11: Amount | H11: Pos. | I11: Amount | J11: end of line
A12: GS-15, $123,758 - 155,500 | B12: 14 | D12: 14 | F12: 14 | H12: =F12-D12 -> 0 | J12: end of line
A13: GS-14, $105,211 - 136,771 | B13: 9 | D13: 9 | F13: 10 | H13: =F13-D13 -> 1 | J13: end of line
A14: GS-13, $89,033 - 115,742 | B14: 6 | D14: 6 | F14: 6 | H14: =F14-D14 -> 0 | J14: end of line
A15: GS-12, $74,872 - 97,333 | B15: 9 | D15: 9 | F15: 9 | H15: =F15-D15 -> 0 | J15: end of line
A16: GS-11, $62,467 - 81,204 | B16: 15 | D16: 15 | F16: 19 | H16: =F16-D16 -> 4 | J16: end of line
A17: GS-9, $51,630 - 67,114 | B17: 3 | D17: 3 | F17: 3 | H17: =F17-D17 -> 0 | J17: end of line
A18: Total, Appropriated Positions | B18: =SUM(B12:B17) -> 56 | D18: =SUM(D12:D17) -> 56 | F18: =SUM(F12:F17) -> 61 | H18: =SUM(H12:H17) -> 5 | J18: end of line
A19: Average SES Salary | C19: 0 | E19: 0 | G19: 0 | J19: end of line
A20: Average GS Salary | C20: 101 | E20: 101 | G20: 101 | J20: end of line
A21: Average GS Grade | C21: 13 | E21: 13 | G21: 13 | J21: end of sheet

Sheet L. Summary by Object Class
A1: L: Summary of Requirements by Object Class | M1: end of line
M2: end of line
A3: Summary of Requirements by Object Class | M3: end of line
A4: =+'B. Summary of Requirements '!A5 -> Community Relations Service | M4: end of line
A5: =+'B. Summary of Requirements '!A6 -> Salaries and Expenses | M5: end of line
A6: (Dollars in Thousands) | M6: end of line
M7: end of line
A8: Object Classes | B8: 2011 Actuals | D8: 2012 Enacted | F8: 2013 Request | H8: Increase/Decrease | M8: end of line
B9: FTE | C9: Amount | D9: FTE | E9: Amount | F9: FTE | G9: Amount | H9: FTE | I9: Amount | M9: end of line
A10: 11.1 Direct FTE & personnel compensation | B10: 44 | C10: 4683 | D10: 56 | E10: =C10/B10*44+((C10/B10*1)*0.5)+((C10/B10*1)*0.41)+(155.5*0.16)+115 -> 4919.733 | F10: =56+5 -> 61 | G10: =5027+179+23+25 -> 5254 | H10: =F10-D10 -> 5 | I10: =G10-E10 -> 334.26705 | M10: end of line
A11: 11.3 Other than full-time permanent | B11: 0 | C11: 56 | D11: 0 | E11: 50 | F11: 0 | G11: 50 | H11: =F11-D11 -> 0 | I11: =G11-E11 -> 0 | J11: atb | K11: enhance | M11: end of line
A12: 11.5 Total, Other personnel compensation | B12: =B13+B14 -> 0 | C12: 4 | D12: =D13+D14 -> 0 | E12: 25 | F12: =F13+F14 -> 0 | G12: 25 | H12: =F12-D12 -> 0 | I12: =G12-E12 -> 0 | J12: 93 | M12: end of line
A13: Overtime | H13: =F13-D13 -> 0 | I13: =G13-E13 -> 0 | M13: end of line
A14: Other Compensation | H14: =F14-D14 -> 0 | I14: =G14-E14 -> 0 | M14: end of line
A15: 11.8 Special personal services payments | H15: =F15-D15 -> 0 | I15: =G15-E15 -> 0 | M15: end of line
A16: Total | B16: =+B10+B11+B12+B15 -> 44 | C16: =+C10+C11+C12+C15 -> 4743 | D16: =+D10+D11+D12+D15 -> 56 | E16: =+E10+E11+E12+E15 -> 4994.733 | F16: =+F10+F11+F12+F15 -> 61 | G16: =+G10+G11+G12+G15 -> 5329 | H16: =+H10+H11+H12+H15 -> 5 | I16: =+I10+I11+I12+I15 -> 334.26705 | J16: =697+630+957+2333 -> 4617 | K16: =2451-93 -> 2358 | L16: =+E16-G16 -> -334.26705 | M16: end of line
A17: Other Object Classes: | M17: end of line
A18: 12.0 Personnel benefits | C18: 1353 | E18: =E10*0.2853 -> 1403.5998 | G18: =1434+47+4 -> 1485 | I18: =G18-E18 -> 81.400188 | J18: 359 | K18: =1171+93 -> 1264 | L18: =+E18-G18 -> -81.400188 | M18: end of line
A19: 21.0 Travel and transportation of persons | C19: 668 | E19: 750 | G19: =750+5 -> 755 | I19: =G19-E19 -> 5 | K19: 110 | L19: =+E19-G19 -> -5 | M19: end of line
A20: 22.0 Transportation of things | C20: 52 | E20: 40 | G20: =40+2 -> 42 | I20: =G20-E20 -> 2 | K20: 0 | L20: =+E20-G20 -> -2 | M20: end of line
A21: 23.1 GSA rent | C21: 1377 | E21: 1402 | G21: =1402+76 -> 1478 | I21: =G21-E21 -> 76 | J21: =4220-576 -> 3644 | L21: =+E21-G21 -> -76 | M21: end of line
A22: 23.2 Moving/Lease Expirations/Contract Parking | C22: 109 | E22: 111 | G22: 111 | I22: =G22-E22 -> 0 | L22: =+E22-G22 -> 0 | M22: end of line
A23: 23.3 Comm., util., & other misc. charges | C23: 312 | E23: 315 | G23: =315+21 -> 336 | I23: =G23-E23 -> 21 | J23: 332 | K23: 175 | L23: =+E23-G23 -> -21 | M23: end of line
A24: 24.0 Printing and reproduction | C24: 2 | E24: 1 | G24: =1+1 -> 2 | I24: =G24-E24 -> 1 | L24: =+E24-G24 -> -1 | M24: end of line
A25: 25.1 Advisory and assistance services | C25: 78 | E25: 25 | G25: 25 | I25: =G25-E25 -> 0 | K25: 14918 | L25: =+E25-G25 -> 0 | M25: end of line
A26: 25.2 Other services | C26: 488 | E26: 489 | G26: 490 | I26: =G26-E26 -> 1 | J26: 276 | K26: 14853 | L26: =+E26-G26 -> -1 | M26: end of line
A27: 25.3 Purchases of goods & services from Government accounts (Antennas, DHS Sec. Etc.) | C27: 1656 | E27: =784+537+351 -> 1672 | G27: =784+537+351+3 -> 1675 | I27: =G27-E27 -> 3 | K27: 135 | L27: =+E27-G27 -> -3 | M27: end of line
A28: 25.4 Operation and maintenance of facilities | C28: 40 | E28: 40 | G28: 40 | I28: =G28-E28 -> 0 | L28: =+E28-G28 -> 0 | M28: end of line
A29: 25.5 Research and development contracts | C29: 0 | E29: 0 | G29: 0 | I29: =G29-E29 -> 0 | L29: =+E29-G29 -> 0 | M29: end of line
A30: 25.6 Medical Care | C30: 4 | E30: 4 | G30: 4 | I30: =G30-E30 -> 0 | L30: =+E30-G30 -> 0
A31: 25.7 Operation and maintenance of equipment | C31: 67 | E31: 69 | G31: 68 | I31: =G31-E31 -> -1 | K31: 10 | L31: =+E31-G31 -> 1 | M31: end of line
A32: 26.0 Supplies and materials | C32: 152 | E32: 90 | G32: =90+5 -> 95 | I32: =G32-E32 -> 5 | K32: 85 | L32: =+E32-G32 -> -5 | M32: end of line
A33: 31.0 Equipment | C33: 64 | E33: 50 | G33: =50+18+14+19 -> 101 | I33: =G33-E33 -> 51 | K33: 37758 | L33: =+E33-G33 -> -51 | M33: end of line
A34: Total obligations | C34: =SUM(C16:C33) -> 11165 | E34: =SUM(E16:E33) -> 11456.333 | G34: =SUM(G16:G33) -> 12036 | I34: =SUM(I16:I33) -> 579.66723 | J34: =SUM(J12:J33) -> 9321 | K34: =SUM(K16:K33) -> 71666 | L34: =+E34-G34 -> -579.66723 | M34: end of line
A35: Unobligated balance, start of year | M35: end of line
A36: Unobligated balance, end of year | M36: end of line
A37: Recoveries of prior year obligations | M37: end of line
A38: Total DIRECT requirements | C38: =SUM(C34:C37) -> 11165 | E38: =SUM(E34:E37) -> 11456.333 | G38: =SUM(G34:G37) -> 12036 | M38: end of line
M40: end of sheet
A193: 2012 template
