Workbook
Name _11POS_BY_CAT: #REF!
Name _1ATTORNEY_SUPP: #REF!
Name _2ATTORNEY_SUPP: #REF!
Name _3GA_ROLLUP: 'B. Summary of Requirements '!#REF!
Name _4GA_ROLLUP: #REF!
Name _5GA_ROLLUP: [1]SumReq!#REF!
Name _7GA_ROLLUP: #REF!
Name _8POS_BY_CAT: #REF!
Name _9POS_BY_CAT: #REF!
Name DL: 'B. Summary of Requirements '!$A$3:$X$54
Name DL: #REF!
Name EXECSUPP: 'B. Summary of Requirements '!#REF!
Name EXECSUPP: #REF!
Name EXECSUPP: #REF!
Name FY0711.1: #REF!
Name FY0711.5: #REF!
Name FY0712.1: #REF!
Name FY0721.0: #REF!
Name FY0722.0: #REF!
Name FY0723.1: #REF!
Name FY0723.2: #REF!
Name FY0723.3: #REF!
Name FY0724.0: #REF!
Name FY0725.2: #REF!
Name FY0725.3: #REF!
Name FY0725.6: #REF!
Name FY0726.0: #REF!
Name FY0731.0: #REF!
Name FY0732.0: #REF!
Name FY07Ling: #REF!
Name FY07Mult: #REF!
Name FY07PEPI: #REF!
Name FY07Tot: #REF!
Name FY07Train: #REF!
Name FY0811.1: #REF!
Name FY0811.5: #REF!
Name FY0812.1: #REF!
Name FY0821.0: #REF!
Name FY0822.0: #REF!
Name FY0823.1: #REF!
Name FY0823.2: #REF!
Name FY0823.3: #REF!
Name FY0824.0: #REF!
Name FY0825.2: #REF!
Name FY0825.3: #REF!
Name FY0825.6: #REF!
Name FY0826.0: #REF!
Name FY0831.0: #REF!
Name FY0832.0: #REF!
Name FY08Ling: #REF!
Name FY08Mult: #REF!
Name FY08PEPI: #REF!
Name FY08Tot: #REF!
Name FY08Train: #REF!
Name FY0911.1: #REF!
Name FY0911.5: #REF!
Name FY0912.1: #REF!
Name FY0921.0: #REF!
Name FY0922.0: #REF!
Name FY0923.1: #REF!

Sheet A. Organization Chart
A1: A: Organizational Chart | N1: end of line
N2: end of line
N3: end of line
N4: end of line
N5: end of line
N6: end of line
N7: end of line
N8: end of line
N9: end of line
N10: end of line
N11: end of line
N12: end of line
N13: end of line
... N29: end of sheet
A198: 2012 template
A254: FY 2011 CJ Submission

Sheet B. Summary of Requirements 
A1: B: Summary of Requirements | Y1: end of line
Y2: end of line
Y3: end of line
A4: Summary of Requirements | Y4: end of line
A5: Office of the Solicitor General | Y5: end of line
A6: Salaries and Expenses | Y6: end of line
A7: (Dollars in Thousands) | Y7: end of line
Y8: end of line
Y9: end of line
Y10: end of line
V11: FY 2013 Request | Y11: end of line
V12: Perm. Pos. | W12: FTE | X12: Amount | Y12: end of line
Y13: end of line
A14: 2011 Enacted | V14: 48 | W14: 49 | X14: 10725 | Y14: end of line
A15: 2012 Enacted | V15: 48 | W15: 49 | X15: 10724 | Y15: end of line
A16: 2012 Rescissions | Y16: end of line
A17: Total 2012 Enacted | V17: =+V16+V15 -> 48 | W17: =+W16+W15 -> 49 | X17: =+X16+X15 -> 10724 | Y17: end of line
A18: Adjustments to Base | Y18: end of line
A19: Transfers: | Y19: end of line
A20: JCON and JCON S/TS | V20: 0 | W20: 0 | X20: 21 | Y20: end of line
A21: Professional Responsiblity Advisory Office (PRAO) | V21: 0 | W21: 0 | X21: -10 | Y21: end of line
A22: Increases: | Y22: end of line
A23: Pay and Benefits | V23: 0 | W23: 0 | X23: 272 | Y23: end of line
A24: Domestic Rent and Facilities | V24: 0 | W24: 0 | X24: 29 | Y24: end of line
A25: Subtotal Increases | V25: =SUM(V23:V24) -> 0 | W25: =SUM(W23:W24) -> 0 | X25: =SUM(X23:X24) -> 301 | Y25: end of line
A26: Total Adjustments to Base | V26: =V25 -> 0 | W26: =W25 -> 0 | X26: =+X25+X20+X21 -> 312 | Y26: end of line
A27: Total Adjustments to Base and Technical Adjustments | V27: =V26 -> 0 | W27: =W26 -> 0 | X27: =X26 -> 312 | Y27: end of line
A28: 2013 Current Services | V28: =+V27+V17 -> 48 | W28: =+W27+W17 -> 49 | X28: =+X27+X17 -> 11036 | Y28: end of line
A29: Program Changes | Y29: end of line
A30: Offsets: | Y30: end of line
A31: Administrative Functions Consolidation | V31: 0 | W31: 0 | X31: -231 | Y31: end of line
A32: Subtotal Offsets | V32: =SUM(V31:V31) -> 0 | W32: =SUM(W31:W31) -> 0 | X32: =SUM(X31:X31) -> -231 | Y32: end of line
A33: Total Program Changes | V33: =SUM(V32) -> 0 | W33: =SUM(W32) -> 0 | X33: =SUM(X32) -> -231 | Y33: end of line
A34: 2013 Total Request | V34: =V28+V33 -> 48 | W34: =W28+W33 -> 49 | X34: =X28+X33 -> 10805 | Y34: end of line
A35: 2012 - 2013 Total Change | V35: =+V34-V14 -> 0 | W35: =+W34-W14 -> 0 | X35: =+X34-X17 -> 81 | Y35: end of line
Y36: end of line
A37: NOTE: All FTE numbers in this table reflect authorized FTE, which is the total number of FTE available to a component. Because the FY 2013 President’s Budget Appendix builds the FTE request using actual FTE rather than authorized, it may not | Y37: end of line
A38: match the FY 2012 FTE enacted and FY 2013 FTE request reflected in this table. | Y38: end of line
Y39: end of line
Y40: end of line
...

Sheet C. Increases Offsets
A1: C: Program Increases/Offsets By Decision Unit | H1: end of line
H2: end of line
H3: end of line
A4: FY 2013 Program Increases/Offsets By Decision Unit | H4: end of line
A5: ='B. Summary of Requirements '!A43 -> Office of the Solicitor General | H5: end of line
A6: (Dollars in Thousands) | H6: end of line
H7: end of line
H8: end of line
A9: Program Increases | B9: Location of Description by Decision Unit | C9: Federal Appellate Activity | G9: Total Increases | H9: end of line
C10: Pos. | D10: Agt./Atty. | E10: FTE | F10: Amount | H10: end of line
A11: N/A | B11: N/A | C11: 0 | D11: 0 | E11: 0 | F11: 0 | G11: =+F11 -> 0 | H11: end of line
A12: Total Program Increases | C12: =SUM(C11:C11) -> 0 | D12: =SUM(D11:D11) -> 0 | E12: =SUM(E11:E11) -> 0 | F12: =SUM(F11:F11) -> 0 | G12: =SUM(G11) -> 0 | H12: end of line
A13: Program Offsets | B13: Location of Description by Decision Unit | C13: Federal Appellate Activity | G13: Total Offsets | H13: end of line
C14: Pos. | D14: Agt./Atty. | E14: FTE | F14: Amount | H14: end of line
A15: Administrative Functions Consolidation | B15: Federal Appellate Activity | C15: 0 | D15: 0 | E15: 0 | F15: -231 | G15: =+F15 -> -231 | H15: end of line
A16: Total Offsets | C16: =SUM(C15:C15) -> 0 | D16: =SUM(D15:D15) -> 0 | E16: =SUM(E15:E15) -> 0 | F16: =SUM(F15:F15) -> -231 | G16: =SUM(G15:G15) -> -231 | H16: end of sheet

Sheet D. Strategic Goals & Objectives
A1: D: Resources by DOJ Strategic Goal and Strategic Objective | Q1: end of line
Q2: end of line
A3: Resources by Department of Justice Strategic Goal/Objective | Q3: end of line
A4: ='B. Summary of Requirements '!A5:X5 -> Office of the Solicitor General | Q4: end of line
A5: (Dollars in Thousands) | Q5: end of line
Q6: end of line
Q7: end of line
C8: 2011 Appropriation Enacted | F8: 2012 Enacted | I8: 2013 Current Services | K8: 2013 | O8: 2013 Request | Q8: end of line
K9: Increases | M9: Offsets | Q9: end of line
A10: Strategic Goal and Strategic Objective | Q10: end of line
C11: Direct, Reimb. Other FTE | D11: Direct Amount $000s | F11: Direct, Reimb. Other FTE | G11: Direct Amount $000s | I11: Direct, Reimb. Other FTE | J11: Direct Amount $000s | K11: Direct, Reimb. Other FTE | L11: Direct Amount $000s | M11: Direct, Reimb. Other FTE | N11: Direct Amount $000s | O11: Direct, Reimb. Other FTE | P11: Direct Amount $000s | Q11: end of line
Q12: end of line
A13: Goal 1: Prevent Terrorism and Promote the Nation's Security Consistent with the Rule of Law | Q13: end of line
A14: 1.1 Prevent, disrupt, and defeat terrorist operations before they occur | I14: =+F14+C14 -> 0 | J14: =+G14+D14 -> 0 | O14: =+I14+K14+M14 -> 0 | P14: =+J14+L14+N14 -> 0 | Q14: end of line
A15: 1.2 Prosecute those involved in terrorist acts | I15: =+F15+C15 -> 0 | J15: =+G15+D15 -> 0 | O15: =+I15+K15+M15 -> 0 | P15: =+J15+L15+N15 -> 0 | Q15: end of line
A16: 1.3 Combat espionage against the United States | I16: =+F16+C16 -> 0 | J16: =+G16+D16 -> 0 | O16: =+I16+K16+M16 -> 0 | P16: =+J16+L16+N16 -> 0 | Q16: end of line
A17: Subtotal, Goal 1 | C17: =SUM(C14:C16) -> 0 | D17: =SUM(D14:D16) -> 0 | F17: =SUM(F14:F16) -> 0 | G17: =SUM(G14:G16) -> 0 | I17: =SUM(I14:I16) -> 0 | J17: =SUM(J14:J16) -> 0 | K17: =SUM(K14:K16) -> 0 | L17: =SUM(L14:L16) -> 0 | M17: =SUM(M14:M16) -> 0 | N17: =SUM(N14:N16) -> 0 | O17: =SUM(O14:O16) -> 0 | P17: =SUM(P14:P16) -> 0 | Q17: end of line
Q18: end of line
A19: Goal 2: Prevent Crime, Protect the Rights of the American People, and Enforce Federal Law | Q19: end of line
A20: 2.1 Combat the threat, incidence, and prevalence of violent crime | I20: =+F20+C20 -> 0 | J20: =+G20+D20 -> 0 | O20: =+I20+K20+M20 -> 0 | P20: =+J20+L20+N20 -> 0 | Q20: end of line
A21: 2.2 Prevent and intervene in crimes against vulnerable populations, uphold the rights of, and improve services to, America's crime victims | I21: =+F21+C21 -> 0 | J21: =+G21+D21 -> 0 | O21: =+I21+K21+M21 -> 0 | P21: =+J21+L21+N21 -> 0 | Q21: end of line
A22: 2.3 Combat the threat, trafficking, and use of illegal drugs and the diversion of licit drugs | I22: =+F22+C22 -> 0 | J22: =+G22+D22 -> 0 | O22: =+I22+K22+M22 -> 0 | P22: =+J22+L22+N22 -> 0 | Q22: end of line
A23: 2.4 Combat corruption, economic crimes, and international organized crime | I23: =+F23+C23 -> 0 | J23: =+G23+D23 -> 0 | O23: =+I23+K23+M23 -> 0 | P23: =+J23+L23+N23 -> 0 | Q23: end of line
A24: 2.5 Promote and protect Americans' civil rights | I24: =+F24+C24 -> 0 | J24: =+G24+D24 -> 0 | O24: =+I24+K24+M24 -> 0 | P24: =+J24+L24+N24 -> 0 | Q24: end of line
A25: 2.6 Protect the federal fisc and defend the interests of the United States | C25: 49 | D25: 10725 | F25: 49 | G25: 10724 | I25: 49 | J25: 11036 | K25: 0 | L25: 0 | N25: -231 | O25: =+I25+K25+M25 -> 49 | P25: =+J25+L25+N25 -> 10805 | Q25: end of line
A27: Subtotal, Goal 2 | C27: =SUM(C20:C25) -> 49 | D27: =SUM(D20:D25) -> 10725 | F27: =SUM(F20:F25) -> 49 | G27: =SUM(G22:G25) -> 10724 | I27: =SUM(I20:I25) -> 49 | J27: =SUM(J20:J25) -> 11036 | K27: =SUM(K20:K25) -> 0 | L27: =SUM(L20:L25) -> 0 | M27: =SUM(M20:M25) -> 0 | N27: =SUM(N20:N25) -> -231 | O27: =SUM(O20:O25) -> 49 | P27: =SUM(P20:P25) -> 10805 | Q27: end of line
Q28: end of line
A29: Goal 3: Ensure and Support the Fair, Impartial, Efficient, and Transparent Administration of Justice at the Federal, State, Local, Tribal and International Levels | Q29: end of line
A30: 3.1 Promote and strengthen relationships and strategies for the administration of justice with state, local, tribal and international law enforcement | I30: =+F30+C30 -> 0 | J30: =+G30+D30 -> 0 | O30: =+I30+K30+M30 -> 0 | P30: =+J30+L30+N30 -> 0 | Q30: end of line
A31: 3.2 Protect judges, witnesses, and other participants in federal proceedings; apprehend fugitives; and ensure the appearance of criminal defendants for judicial proceedings or confinement | I31: =+F31+C31 -> 0 | J31: =+G31+D31 -> 0 | O31: =+I31+K31+M31 -> 0 | P31: =+J31+L31+N31 -> 0 | Q31: end of line
A32: 3.3 Provide for the safe, secure, humane, and cost-effective confinement of detainees awaiting trial and/or sentencing, and those in the custody of the Federal Prison System | I32: =+F32+C32 -> 0 | J32: =+G32+D32 -> 0 | O32: =+I32+K32+M32 -> 0 | P32: =+J32+L32+N32 -> 0 | Q32: end of line
A33: 3.4 Adjudicate all immigration cases promptly and impartially in accordance with due process | I33: =+F33+C33 -> 0 | J33: =+G33+D33 -> 0 | O33: =+I33+K33+M33 -> 0 | P33: =+J33+L33+N33 -> 0 | Q33: end of line
A34: Subtotal, Goal 3 | C34: =SUM(C30:C33) -> 0 | D34: =SUM(D30:D33) -> 0 | F34: =SUM(F30:F33) -> 0 | G34: =SUM(G30:G33) -> 0 | I34: =SUM(I30:I33) -> 0 | J34: =SUM(J30:J33) -> 0 | K34: =SUM(K30:K33) -> 0 | L34: =SUM(L30:L33) -> 0 | M34: =SUM(M30:M33) -> 0 | N34: =SUM(N30:N33) -> 0 | O34: =SUM(O30:O33) -> 0 | P34: =SUM(P30:P33) -> 0 | Q34: end of line
Q35: end of line
A36: GRAND TOTAL | C36: =C17+C27+C34 -> 49 | D36: =D17+D27+D34 -> 10725 | F36: =F17+F27+F34 -> 49 | G36: =G17+G27+G34 -> 10724 | I36: =I17+I27+I34 -> 49 | J36: =J17+J27+J34 -> 11036 | K36: =K17+K27+K34 -> 0 | L36: =L17+L27+L34 -> 0 | M36: =M17+M27+M34 -> 0 | N36: =N17+N27+N34 -> -231 | O36: =O17+O27+O34 -> 49 | P36: =P17+P27+P34 -> 10805 | Q36: end of sheet

Sheet E. ATB Justification
A1: E. Justification for Base Adjustments | J1: end of line
J2: end of line
A3: Justification for Base Adjustments | J3: end of line
A4: =+'B. Summary of Requirements '!A5 -> Office of the Solicitor General | J4: end of line
J5: end of line
J6: end of line
A7: Transfers | J7: end of line
G8: POS | H8: FTE | I8: Amount
A9: JCON and JCON S/TS. A transfer of $21,000 is included in support of the Department's JCON and JCON S/TS programs which will be moved to the Working Capital Fund and provided as a billable service in FY 2013. | G9: 0 | H9: 0 | I9: 21000
A12: Professional Responsibility Advisory Office (PRAO). A Transfer of $10,000 to Professional Responsibility Advisory Office (PRAO) into the General Administration approriation will centralize appropriated funding and elimate the current reimbursable financing process. The centralization of the funding is administratively advantageous because it elimates the paper-intensive reimburement process. | G12: 0 | H12: 0 | I12: -10000 | J12: end of line
A14: Increases | J14: end of line
J15: end of line
A16: 2013 Pay Raise. This request provides for a proposed 0.5 percent pay raise to be effective in January of 2013. The amount requested, $24,000, represents the pay amounts for 3/4 of the fiscal year plus appropriate benefits ($18,000 for pay and $6,000 for benefits). | G16: 0 | H16: 0 | I16: 24000 | J16: end of line
J17: end of line
A18: Base Pay Adjustments. In FY 2013 an upward adjustment to OSG’s base personnel funding is required. The Office has experienced an upward shift in personnel costs since budgeted levels were last calculated for the FY 2010 President’s Budget; with most costs in OSG’s budget being non-discretionary costs such as salary and rent, these upward costs cannot be absorbed by the base. As a result, OSG will not be able to afford its positions and effectively carry out its mission without an upward adjustment to base of $170,000. | G18: 0 | H18: 0 | I18: 170000 | J18: end of line
J19: end of line
A20: Retirement. Agency retirement contributions increase as employees under CSRS retire and are replaced by FERS employees. Based on OPM government-wide estimates, we project that the DOJ workforce will convert from CSRS to FERS at a rate of 1.3 percent per year. The requested increase of $11,000 is necessary to meet our increased retirement obligations as a result of this conversion. | G20: 0 | H20: 0 | I20: 11000 | J20: end of line
J21: end of line
A22: FERS Rate Increase. On June 11, 2010, the Board of Actuaries of the Civil Service Retirement System recommended a new set of economic assumptions for the Civil Service Retirement System (CSRS) and the Federal Employees Retirement System (FERS). In accordance with this change, effective October 1, 2011 (FY 2012), the normal cost of regular retirement under FERS will increase from the current level of 12.5% of pay to 12.7%. The total FERS contribution for Law Enforcement retirement will increase from 27.0% to 27.6%. This will result in new agency contribution rates of 11.9% for regular costs (up from the current 11.7%) and 26.3% for law enforcement personnel (up from the current 25.7%). The amount requested, $10,000, represents the funds needed to cover this increase. | G22: 0 | H22: 0 | I22: 10000 | J22: end of line
J23: end of line
A24: Health Insurance. Effective January 2013, this component's contribution to Federal employees' health insurance premiums increased by 10 percent. Applied against the 2012 estimate of $268,000, the additional amount required is $30,000. | G24: 0 | H24: 0 | I24: 30000 | J24: end of line
A25: Changes in Compensable Days. The decreased cost for one compensable day in FY 2013 compared to FY 2012 is calculated by dividing the FY 2012 estimated personnel compensation $5,603 and applicable benefits $1,057 by 261 compensable days. | G25: 0 | H25: 0 | I25: 27000 | J25: end of line
J26: end of line
A27: General Services Administration (GSA) Rent. GSA will continue to charge rental rates that approximate those charged to commercial tenants for equivalent space and related services. The requested increase of $29,000 is required to meet our commitment to GSA. The costs associated with GSA rent were derived through the use of an automated system, which uses the latest inventory data, including rate increases to be effective in FY 2013 for each building currently occupied by Department of Justice components, as well as the costs of new space to be occupied. GSA provided data on the rate increases. | G27: 0 | H27: 0 | I27: 26000 | J27: end of line
A29: Guard Services: Security Charges. Guard Service includes thoses costs paid directly by DOJ and those paid to Department of Homeland Security (DHS). The requested increase of $3,000.00 is required to meet our commitmentto DHS and other security costs. | G29: 0 | H29: 0 | I29: 3000 | J29: end of line
F31: Total Increase: | G31: =SUM(G15:G29) -> 0 | H31: =SUM(H15:H29) -> 0 | I31: =SUM(I8:I29) -> 312000 | J31: end of line
J32: end of line
J33: end of line
J34: end of line
F35: Total ATB: | G35: =+G31 -> 0 | H35: =+H31 -> 0 | I35: =+I31 -> 312000 | J35: end of sheet

Sheet F. 2011 Crosswalk
A1: F: Crosswalk of 2011 Availability | P1: end of line
P2: end of line
A3: =+'B. Summary of Requirements '!A5 -> Office of the Solicitor General | P3: end of line
A4: =+'B. Summary of Requirements '!A6 -> Salaries and Expenses | P4: end of line
A5: (Dollars in Thousands) | P5: end of line
P6: end of line
P7: end of line
A8: Decision Unit | B8: FY 2011 Enacted Without Balance Rescissions | E8: Balance Rescissions | H8: Reprogrammings / Transfers | K8: Carryover | L8: Recoveries | M8: 2011 Availability | P8: end of line
P9: end of line
B10: Pos. | C10: FTE | D10: Amount | E10: Pos. | F10: FTE | G10: Amount | H10: Pos. | I10: FTE | J10: Amount | K10: Amount | L10: Amount | M10: Pos. | N10: FTE | O10: Amount | P10: end of line
A11: Federal Appellate Activity | B11: 48 | C11: 49 | D11: 10725 | E11: 0 | F11: 0 | G11: 0 | H11: 0 | I11: 0 | J11: 0 | K11: 0 | L11: 0 | M11: =B11+E11+H11 -> 48 | N11: =C11+F11+I11 -> 49 | O11: =D11+G11+J11+K11+L11 -> 10725 | P11: end of line
A12: Decision Unit 2 | M12: =B12+E12+H12 -> 0 | N12: =C12+F12+I12 -> 0 | O12: =D12+G12+J12+K12+L12 -> 0 | P12: end of line
A13: Decision Unit 3 | M13: =B13+E13+H13 -> 0 | N13: =C13+F13+I13 -> 0 | O13: =D13+G13+J13+K13+L13 -> 0 | P13: end of line
A14: Decision Unit 4 | M14: =B14+E14+H14 -> 0 | N14: =C14+F14+I14 -> 0 | O14: =D14+G14+J14+K14+L14 -> 0 | P14: end of line
A15: TOTAL | B15: =SUM(B11:B14) -> 48 | C15: =SUM(C11:C14) -> 49 | D15: =SUM(D11:D14) -> 10725 | E15: =SUM(E11:E14) -> 0 | F15: =SUM(F11:F14) -> 0 | G15: =SUM(G11:G14) -> 0 | H15: =SUM(H11:H14) -> 0 | I15: =SUM(I11:I14) -> 0 | ... O15: =SUM(O11:O14) -> 10725 | P15: end of line
A16: Reimbursable FTE | N16: =C16+F16+I16 -> 0 | P16: end of line
A17: Total FTE | C17: =SUM(C15:C16) -> 49 | F17: =+F15+F16 -> 0 | I17: =+I15+I16 -> 0 | K17: 0 | L17: 0 | N17: =SUM(N15:N16) -> 49 | P17: end of line
A18: Other FTE | P18: end of line
A19: LEAP | N19: =C19+F19+I19 -> 0 | P19: end of line
A20: Overtime | N20: =C20+F20+I20 -> 0 | P20: end of line
A21: Total Compensable FTE | C21: =C20+C19+C17 -> 49 | F21: =F20+F19+F17 -> 0 | I21: =I20+I19+I17 -> 0 | N21: =N20+N19+N17 -> 49 | P21: end of line
P29: end of sheet

Sheet (G) 2012 Crosswalk
A1: G: Crosswalk of 2012 Availability | S1: end of line
S2: end of line
A3: Crosswalk of 2012 Availability | S3: end of line
A4: =+'B. Summary of Requirements '!A5 -> Office of the Solicitor General | S4: end of line
A5: =+'B. Summary of Requirements '!A6 -> Salaries and Expenses | S5: end of line
A6: (Dollars in Thousands) | S6: end of line
S7: end of line
S8: end of line
A9: Decision Unit | B9: FY 2012 Enacted Without Balance Rescissions | E9: Balance Rescissions | H9: Supplementals | K9: Reprogrammings / Transfers | N9: Carryover | O9: Recoveries | P9: 2012 Availability | S9: end of line
S10: end of line
B11: Pos. | C11: FTE | D11: Amount | E11: Pos. | F11: FTE | G11: Amount | H11: Pos. | I11: FTE | J11: Amount | K11: Pos. | L11: FTE | M11: Amount | N11: Amount | O11: Amount | P11: Pos. | Q11: FTE | R11: Amount | S11: end of line
A12: Federal Appellate Activity | B12: 48 | C12: 49 | D12: 10724 | E12: 0 | F12: 0 | G12: 0 | K12: 0 | L12: 0 | M12: 0 | N12: 0 | O12: 0 | P12: =B12+E12+H12+K12 -> 48 | Q12: =C12+F12+I12+L12 -> 49 | R12: =D12+G12+J12+M12+N12+O12 -> 10724 | S12: end of line
A13: TOTAL | B13: =SUM(B12:B12) -> 48 | C13: =SUM(C12:C12) -> 49 | D13: =SUM(D12:D12) -> 10724 | E13: =SUM(E12:E12) -> 0 | F13: =SUM(F12:F12) -> 0 | G13: =SUM(G12:G12) -> 0 | H13: =SUM(H12:H12) -> 0 | I13: =SUM(I12:I12) -> 0 | ... R13: =SUM(R12:R12) -> 10724 | S13: end of line
A14: Reimbursable FTE | Q14: =C14+F14+I14+L14 -> 0 | S14: end of line
A15: Total FTE | C15: =SUM(C13:C14) -> 49 | F15: =+F13+F14 -> 0 | I15: =+I13+I14 -> 0 | L15: =+L13+L14 -> 0 | Q15: =SUM(Q13:Q14) -> 49 | S15: end of line
A16: Other FTE | S16: end of line
A17: LEAP | C17: 0 | F17: 0 | I17: 0 | L17: 0 | Q17: =C17+F17+I17+L17 -> 0 | S17: end of line
A18: Overtime | C18: 0 | F18: 0 | I18: 0 | L18: 0 | Q18: =C18+F18+I18+L18 -> 0 | S18: end of line
A19: Total Compensable FTE | C19: =C18+C17+C15 -> 49 | F19: =F18+F17+F15 -> 0 | I19: =I18+I17+I15 -> 0 | L19: =L18+L17+L15 -> 0 | Q19: =Q18+Q17+Q15 -> 49 | S19: end of line
S20: end of sheet

Sheet H. Reimbursable Resources
A1: H: Summary of Reimbursable Resources | O1: end of line
O2: end of line
A3: Summary of Reimbursable Resources | O3: end of line
A4: =+'B. Summary of Requirements '!A5 -> Office of the Solicitor General | O4: end of line
A5: =+'B. Summary of Requirements '!A6 -> Salaries and Expenses | O5: end of line
A6: (Dollars in Thousands) | O6: end of line
O7: end of line
A8: Collections by Source | C8: 2011 Enacted | F8: 2012 Planned | I8: 2013 Request | L8: Increase/Decrease | O8: end of line
C9: Pos. | D9: FTE | E9: Amount | F9: Pos. | G9: FTE | H9: Amount | I9: Pos. | J9: FTE | K9: Amount | L9: Pos. | M9: FTE | N9: Amount | O9: end of line
A10: OARM | E10: 3 | H10: 0 | K10: 0 | L10: =I10-F10 -> 0 | M10: =J10-G10 -> 0 | N10: -3 | O10: end of line
O11: end of line
A12: Budgetary Resources: | C12: =SUM(C10:C11) -> 0 | D12: =SUM(D10:D11) -> 0 | E12: =SUM(E10:E11) -> 3 | F12: =SUM(F10:F11) -> 0 | G12: =SUM(G10:G11) -> 0 | H12: =SUM(H10:H11) -> 0 | I12: =SUM(I10:I11) -> 0 | J12: =SUM(J10:J11) -> 0 | ... N12: =SUM(N10:N11) -> -3 | O12: end of sheet
O13: end of sheet

Sheet I. Permanent Positions
A1: I: Detail of Permanent Positions by Category | L1: end of line
L2: end of line
L3: end of line
A4: Detail of Permanent Positions by Category | L4: end of line
A5: =+'B. Summary of Requirements '!A5 -> Office of the Solicitor General | L5: end of line
A6: =+'B. Summary of Requirements '!A6 -> Salaries and Expenses | L6: end of line
L7: end of line
L8: end of line
A9: Category | B9: 2011 Enacted | D9: 2012 Enacted | F9: 2013 Request | L9: end of line
B10: Total Authorized | C10: Total Reimbursable | D10: Total Authorized | E10: Total Reimbursable | F10: ATBs | G10: Program Increases | H10: Program Decreases | I10: Total Pr. Changes | J10: Total Authorized | K10: Total Reimbursable | L10: end of line
L11: end of line
A12: Intelligence Series (132) | L12: end of line
A13: Personnel Management (200-299) | L13: end of line
A14: Clerical and Office Services (300-399) | B14: 17 | D14: 17 | J14: 17 | L14: end of line
A15: Accounting and Budget (500-599) | B15: 1 | D15: 1 | J15: 1 | L15: end of line
A16: Attorneys (905) | B16: 22 | D16: 22 | J16: 22 | L16: end of line
A17: Paralegals / Other Law (900-998) | B17: 6 | D17: 6 | J17: 6 | L17: end of line
A18: Information & Arts (1000-1099) | B18: 2 | D18: 2 | J18: 2 | L18: end of line
A19: Business & Industry (1100-1199) | L19: end of line
A20: Library (1400-1499) | L20: end of line
A21: Equipment/Facilities Services (1600-1699) | L21: end of line
A22: Miscellaneous Inspectors Series (1802) | L22: end of line
A23: Criminal Investigative Series (1811) | L23: end of line
A24: Supply Services (2000-2099) | L24: end of line
A25: Motor Vehicle Operations (5703) | L25: end of line
A26: Information Technology Mgmt (2210) | L26: end of line
A27: Security Specialists (080) | L27: end of line
A28: Miscellaneous Operations (010-099) | L28: end of line
A29: Total | B29: =SUM(B12:B28) -> 48 | C29: =SUM(C12:C28) -> 0 | D29: =SUM(D12:D28) -> 48 | E29: =SUM(E12:E28) -> 0 | F29: =SUM(F12:F28) -> 0 | G29: =SUM(G12:G28) -> 0 | H29: =SUM(H12:H28) -> 0 | I29: =SUM(I12:I28) -> 0 | ... K29: =SUM(K12:K28) -> 0 | L29: end of line
A30: Headquarters (Washington, D.C.) | B30: 48 | D30: 48 | I30: =G30+H30 -> 0 | J30: =D30+F30+I30 -> 48 | K30: =SUM(K13:K29) -> 0
A31: U.S. Field | L31: end of line
A32: Foreign Field | I32: =G32+H32 -> 0 | J32: =D32+F32+I32 -> 0 | L32: end of line
A33: Total | B33: =SUM(B30:B32) -> 48 | C33: =SUM(C30:C32) -> 0 | D33: =SUM(D30:D32) -> 48 | E33: =SUM(E30:E32) -> 0 | F33: =SUM(F30:F32) -> 0 | G33: =SUM(G30:G32) -> 0 | H33: =SUM(H30:H32) -> 0 | I33: =SUM(I30:I32) -> 0 | ... K33: =SUM(K30:K32) -> 0 | L33: end of sheet

Sheet K. Summary by Grade
A1: K: Summary of Requirements by Grade | J1: end of line
J2: end of line
J3: end of line
A4: Summary of Requirements by Grade | J4: end of line
A5: =+'B. Summary of Requirements '!A5 -> Office of the Solicitor General | J5: end of line
A6: =+'B. Summary of Requirements '!A6 -> Salaries and Expenses | J6: end of line
J7: end of line
J8: end of line
A9: Grades and Salary Ranges | B9: 2011 Enacted w/Rescissions | D9: 2012 Enacted | F9: 2013 Request | H9: Increase/Decrease | J9: end of line
J10: end of line
B11: Pos. | C11: Amount | D11: Pos. | E11: Amount | F11: Pos. | G11: Amount | H11: Pos. | I11: Amount | J11: end of line
A12: Executive Level III | B12: 1 | D12: 1 | F12: 1 | H12: =F12-D12 -> 0 | J12: end of line
A13: SES, $119,554 - 179,700 | B13: 4 | D13: 4 | F13: 4 | H13: =F13-D13 -> 0 | J13: end of line
A14: GS-15, $123,758 - 155,500 | B14: 17 | D14: 17 | F14: 17 | H14: =F14-D14 -> 0 | J14: end of line
A15: GS-14, $105,211 - 136,771 | B15: 3 | D15: 3 | F15: 3 | H15: =F15-D15 -> 0 | J15: end of line
A16: GS-13, $89,033 - 115,742 | B16: 3 | D16: 3 | F16: 4 | H16: =F16-D16 -> 1 | J16: end of line
A17: GS-12, $74,872 - 97,333 | B17: 8 | D17: 9 | F17: 8 | H17: =F17-D17 -> -1 | J17: end of line
A18: GS-11, $62,467 - 81,204 | B18: 5 | D18: 5 | F18: 5 | H18: =F18-D18 -> 0 | J18: end of line
A19: GS-10, $56,857 - 73,917 | H19: =F19-D19 -> 0 | J19: end of line
A20: GS-9, $51,630 - 67,114 | B20: 7 | D20: 6 | F20: 6 | H20: =F20-D20 -> 0 | J20: end of line
A21: GS-8, $46,745 - 60,765 | H21: =F21-D21 -> 0 | J21: end of line
A22: GS-7, $42,209 - 54,875 | H22: =F22-D22 -> 0 | J22: end of line
A23: GS-6, $37,983 - 49,375 | H23: =F23-D23 -> 0 | J23: end of line
A24: GS-5, $34,075 - 44,293 | H24: =F24-D24 -> 0 | J24: end of line
A25: GS-4, $30,456 - 39,590 | H25: =F25-D25 -> 0 | J25: end of line
A26: GS-3, $27,130 - 35,269 | H26: =F26-D26 -> 0 | J26: end of line
A27: GS-2, $24,865 - 31,292 | H27: =F27-D27 -> 0 | J27: end of line
A28: GS-1, $22,115 - 27,663 | H28: =F28-D28 -> 0 | J28: end of line
A29: Total, Appropriated Positions | B29: =SUM(B12:B28) -> 48 | D29: =SUM(D12:D28) -> 48 | F29: =SUM(F12:F28) -> 48 | H29: =SUM(H12:H28) -> 0 | J29: end of line
A30: Average SES Salary | C30: 152700 | E30: 152700 | G30: 152700 | J30: end of line
A31: Average GS Salary | C31: 94494 | E31: 94494 | G31: 94494 | J31: end of line
A32: Average GS Grade | C32: 13 | E32: 13 | G32: 13 | J32: end of sheet

Sheet L. Summary by Object Class
A1: L: Summary of Requirements by Object Class | M1: end of line
M2: end of line
A3: Summary of Requirements by Object Class | M3: end of line
A4: =+'B. Summary of Requirements '!A5 -> Office of the Solicitor General | M4: end of line
A5: =+'B. Summary of Requirements '!A6 -> Salaries and Expenses | M5: end of line
A6: (Dollars in Thousands) | M6: end of line
M7: end of line
A8: Object Classes | B8: 2011 Actuals | D8: 2012 Enacted | F8: 2013 Request | H8: Increase/Decrease | M8: end of line
B9: FTE | C9: Amount | D9: FTE | E9: Amount | F9: FTE | G9: Amount | H9: FTE | I9: Amount | M9: end of line
A10: 11.1 Direct FTE & personnel compensation | B10: 38 | C10: 4496 | D10: 43 | E10: 5201 | F10: 43 | G10: 5265 | H10: =F10-D10 -> 0 | I10: =G10-E10 -> 64 | M10: end of line
A11: 11.3 Other than full-time permanent | B11: 8 | C11: 912 | D11: 6 | E11: 626 | F11: 6 | G11: 464 | H11: =F11-D11 -> 0 | I11: =G11-E11 -> -162 | J11: atb | K11: enhance | M11: end of line
A12: 11.5 Total, Other personnel compensation | C12: 313 | E12: 302 | G12: 362 | H12: 0 | I12: =G12-E12 -> 60 | J12: 93 | M12: end of line
A13: Overtime | H13: =F13-D13 -> 0 | I13: =G13-E13 -> 0 | M13: end of line
A14: Other Compensation | H14: =F14-D14 -> 0 | I14: =G14-E14 -> 0 | M14: end of line
A15: 11.8 Special personal services payments | H15: =F15-D15 -> 0 | I15: =G15-E15 -> 0 | M15: end of line
A16: Total | B16: =+B10+B11 -> 46 | C16: =+C10+C11+C12+C15 -> 5721 | D16: =+D10+D11 -> 49 | E16: =+E10+E11+E12+E15 -> 6129 | F16: =+F10+F11 -> 49 | G16: =+G10+G11+G12+G15 -> 6091 | H16: =+H10+H11+H12+H15 -> 0 | I16: =+I10+I11+I12+I15 -> -38 | J16: =697+630+957+2333 -> 4617 | K16: =2451-93 -> 2358 | L16: =+E16-G16 -> 38 | M16: end of line
A17: Other Object Classes: | M17: end of line
A18: 12.0 Personnel benefits | C18: 1486 | E18: 1597 | G18: 1619 | I18: =G18-E18 -> 22 | J18: 359 | K18: =1171+93 -> 1264 | L18: =+E18-G18 -> -22 | M18: end of line
A19: 21.0 Travel and transportation of persons | C19: 33 | E19: 40 | G19: 40 | I19: =G19-E19 -> 0 | K19: 110 | L19: =+E19-G19 -> 0 | M19: end of line
A20: 22.0 Transportation of things | C20: 308 | E20: 323 | G20: 352 | I20: =G20-E20 -> 29 | K20: 0 | L20: =+E20-G20 -> -29 | M20: end of line
A21: 23.1 GSA rent | C21: 1447 | E21: 1456 | G21: 1482 | I21: =G21-E21 -> 26 | J21: =4220-576 -> 3644 | L21: =+E21-G21 -> -26 | M21: end of line
A22: 23.2 Moving/Lease Expirations/Contract Parking | C22: 94 | E22: 95 | G22: 97 | I22: =G22-E22 -> 2 | L22: =+E22-G22 -> -2 | M22: end of line
A23: 23.3 Comm., util., & other misc. charges | C23: 75 | E23: 86 | G23: 80 | I23: =G23-E23 -> -6 | J23: 332 | K23: 175 | L23: =+E23-G23 -> 6 | M23: end of line
A24: 24.0 Printing and reproduction | C24: 206 | E24: 220 | G24: 215 | I24: =G24-E24 -> -5 | L24: =+E24-G24 -> 5 | M24: end of line
A25: 25.1 Advisory and assistance services | I25: =G25-E25 -> 0 | K25: 14918 | L25: =+E25-G25 -> 0 | M25: end of line
A26: 25.2 Other services | C26: 709 | E26: 314 | G26: 383 | I26: =G26-E26 -> 69 | J26: 276 | K26: 14853 | L26: =+E26-G26 -> -69 | M26: end of line
A27: 25.3 Purchases of goods & services from Government accounts (Antennas, DHS Sec. Etc.) | C27: 298 | E27: 286 | G27: 279 | I27: =G27-E27 -> -7 | K27: 135 | L27: =+E27-G27 -> 7 | M27: end of line
A28: 25.4 Operation and maintenance of facilities | I28: =G28-E28 -> 0 | L28: =+E28-G28 -> 0 | M28: end of line
A29: 25.6 Medical | C29: 5 | E29: 5 | G29: 5 | I29: =G29-E29 -> 0 | L29: =+E29-G29 -> 0 | M29: end of line
A30: 25.7 Operation and maintenance of equipment | C30: 28 | E30: 43 | G30: 27 | I30: =G30-E30 -> -16 | K30: 10 | L30: =+E30-G30 -> 16 | M30: end of line
A31: 26.0 Supplies and materials | C31: 89 | E31: 90 | G31: 97 | I31: =G31-E31 -> 7 | K31: 85 | L31: =+E31-G31 -> -7 | M31: end of line
A32: 31.0 Equipment | C32: 104 | E32: 40 | G32: 38 | I32: =G32-E32 -> -2 | K32: 37758 | L32: =+E32-G32 -> 2 | M32: end of line
A33: Total obligations | C33: =SUM(C16:C32) -> 10603 | E33: =SUM(E16:E32) -> 10724 | G33: =SUM(G16:G32) -> 10805 | I33: =SUM(I16:I32) -> 81 | J33: =SUM(J12:J32) -> 9321 | K33: =SUM(K16:K32) -> 71666 | L33: =+E33-G33 -> -81 | M33: end of line
A34: Unobligated balance, start of year | M34: end of line
A35: Unobligated balance, expiring | C35: 122 | M35: end of line
A36: Recoveries of prior year obligations | M36: end of line
A37: Total DIRECT requirements | C37: =SUM(C33:C36) -> 10725 | E37: =SUM(E33:E36) -> 10724 | G37: =SUM(G33:G36) -> 10805 | M37: end of line
A39: Reimbursable FTE: | M39: end of line
A40: Full-time permanent | B40: 0 | C40: 0 | D40: 0 | E40: 0 | F40: 0 | G40: 0 | M40: end of line
A41: 23.1 GSA rent (Reimbursable) | C41: 0 | E41: 0 | G41: 0 | M41: end of line
...
