Workbook
Name _10POS_BY_CAT: '[1]Summ Atty Agt'!#REF!
Name _11POS_BY_CAT: #REF!
Name _11POS_BY_CAT: #REF!
Name _11POS_BY_CAT: #REF!
Name _1ATTORNEY_SUPP: #REF!
Name _1ATTORNEY_SUPP: #REF!
Name _2ATTORNEY_SUPP: #REF!
Name _2ATTORNEY_SUPP: #REF!
Name _2ATTORNEY_SUPP: #REF!
Name _3GA_ROLLUP: 'B. Summary of Requirements_Cons'!#REF!
Name _3GA_ROLLUP: 'B. Summary of Requirements_SE '!#REF!
Name _4GA_ROLLUP: #REF!
Name _5GA_ROLLUP: [2]SumReq!#REF!
Name _6GA_ROLLUP: '[1]Sum of Req'!#REF!
Name _7GA_ROLLUP: #REF!
Name _7GA_ROLLUP: #REF!
Name _7GA_ROLLUP: #REF!
Name _8POS_BY_CAT: #REF!
Name _8POS_BY_CAT: #REF!
Name _9POS_BY_CAT: #REF!
Name DL: 'B. Summary of Requirements_Cons'!$A$3:$U$43
Name DL: 'B. Summary of Requirements_SE '!$A$3:$U$65
Name DL: #REF!
Name DL: #REF!
Name EXECSUPP: 'B. Summary of Requirements_Cons'!#REF!
Name EXECSUPP: 'B. Summary of Requirements_SE '!#REF!
Name EXECSUPP: #REF!
Name EXECSUPP: '[1]Sum of Req'!#REF!
Name EXECSUPP: #REF!
Name EXECSUPP: #REF!
Name FY0711.1: #REF!
Name FY0711.1: #REF!
Name FY0711.1: #REF!
Name FY0711.5: #REF!
Name FY0711.5: #REF!
Name FY0711.5: #REF!
Name FY0712.1: #REF!
Name FY0712.1: #REF!
Name FY0712.1: #REF!
Name FY0721.0: #REF!
Name FY0721.0: #REF!
Name FY0721.0: #REF!
Name FY0722.0: #REF!
Name FY0722.0: #REF!
Name FY0722.0: #REF!
Name FY0723.1: #REF!
Name FY0723.1: #REF!
Name FY0723.1: #REF!
Name FY0723.2: #REF!
Name FY0723.2: #REF!
Name FY0723.2: #REF!
Name FY0723.3: #REF!
Name FY0723.3: #REF!
Name FY0723.3: #REF!
Name FY0724.0: #REF!
Name FY0724.0: #REF!
Name FY0724.0: #REF!
Name FY0725.2: #REF!
Name FY0725.2: #REF!
Name FY0725.2: #REF!

Sheet A. Organization Chart
A1: A: Organizational Chart | N1: end of line
N2: end of line
N3: end of line
N4: end of line
N5: end of line
N6: end of line
N7: end of line
N8: end of line
N9: end of line
N10: end of line
N11: end of line
N12: end of line
N13: end of line
... N44: end of sheet
A200: 2012 template
A256: FY 2011 CJ Submission

Sheet B. Summary of Requirements_SE 
A1: B: Summary of Requirements | V1: end of line
V2: end of line
V3: end of line
A4: Summary of Requirements | V4: end of line
A5: United States Marshals Service | V5: end of line
A6: Salaries and Expenses | V6: end of line
A7: (Dollars in Thousands) | V7: end of line
V8: end of line
V9: end of line
V10: end of line
S11: FY 2013 Request | V11: end of line
S12: Perm. Pos. | T12: FTE | U12: Amount | V12: end of line
V13: end of line
A14: 2011 Enacted | S14: 5544 | T14: 5459 | U14: 1123511 | V14: end of line
A15: 2012 Enacted without Balance Rescissions | S15: 5544 | T15: 5459 | U15: 1174000 | V15: end of line
A16: 2012 Rescission of Balances | S16: 0 | T16: 0 | U16: -2200 | V16: end of line
A17: Total 2012 Enacted with Balance Rescissions | S17: =+S16+S15 -> 5544 | T17: =+T16+T15 -> 5459 | U17: =+U16+U15 -> 1171800 | V17: end of line
A18: Technical Adjustments | V18: end of line
A19: Restoration of Rescission - USMS S&E | S19: 0 | T19: 0 | U19: 2200 | V19: end of line
A20: Adjustments to Base | V20: end of line
A21: Transfers: | V21: end of line
A22: JABS - To Components | S22: 0 | T22: 0 | U22: 2755 | V22: end of line
A23: JCON and JCON S/TS - To Components | S23: 0 | T23: 0 | U23: 2774 | V23: end of line
A24: LEWC - To Components | S24: 0 | T24: 0 | U24: 3700 | V24: end of line
A25: Office of Information Policy (OIP) - From Components | S25: 0 | T25: 0 | U25: -100 | V25: end of line
A26: Professional Responsibility Advisory Office (PRAO) - From Components | S26: 0 | T26: 0 | U26: -8 | V26: end of line
A27: Subtotal Transfers | S27: =SUM(S22:S26) -> 0 | T27: =SUM(T22:T26) -> 0 | U27: =SUM(U22:U26) -> 9121 | V27: end of line
A28: Increases: | V28: end of line
A29: Pay and Benefits | S29: 0 | T29: 0 | U29: 11204 | V29: end of line
A30: Domestic Rent and Facilities | S30: 0 | T30: 0 | U30: 16223 | V30: end of line
A31: Other Adjustments | S31: 0 | T31: 0 | U31: 1200 | V31: end of line
A32: Foreign Expenses | S32: 0 | T32: 0 | U32: 60 | V32: end of line
A33: Subtotal Increases | S33: =SUM(S29:S32) -> 0 | T33: =SUM(T29:T32) -> 0 | U33: =SUM(U29:U32) -> 28687 | V33: end of line
A34: Total Adjustments to Base | S34: =SUM(S27,S33) -> 0 | T34: =SUM(T27,T33) -> 0 | U34: =SUM(U27,U33) -> 37808 | V34: end of line
A35: Total Adjustments to Base and Technical Adjustments | S35: =S34+S19 -> 0 | T35: =T34+T19 -> 0 | U35: =U34+U19 -> 40008 | V35: end of line
A36: 2013 Current Services | S36: =+S35+S17 -> 5544 | T36: =+T35+T17 -> 5459 | U36: =+U35+U17 -> 1211808 | V36: end of line
A37: Program Changes | V37: end of line
A38: Offsets: | V38: end of line
A39: IT Savings | S39: 0 | T39: 0 | U39: -1254 | V39: end of line
A40: Administrative Efficiencies | S40: 0 | T40: 0 | U40: =-12066+5000 -> -7066 | V40: end of line
...

Sheet B. Summary of Requirements_Cons
A1: B: Summary of Requirements | V1: end of line
V2: end of line
V3: end of line
A4: Summary of Requirements | V4: end of line
A5: United States Marshals Service | V5: end of line
A6: Construction | V6: end of line
A7: (Dollars in Thousands) | V7: end of line
V8: end of line
V9: end of line
V10: end of line
S11: FY 2013 Request | V11: end of line
S12: Perm. Pos. | T12: FTE | U12: Amount | V12: end of line
V13: end of line
A14: 2011 Enacted | S14: 0 | T14: 0 | U14: 16592 | V14: end of line
A15: 2012 Enacted with Balance Rescissions | S15: 0 | T15: 0 | U15: 15000 | V15: end of line
A17: Adjustments to Base | V17: end of line
A18: Total Adjustments to Base | S18: 0 | T18: 0 | U18: 0 | V18: end of line
A19: 2013 Current Services | S19: =SUM(S15:S18) -> 0 | T19: =SUM(T15:T18) -> 0 | U19: =SUM(U15:U18) -> 15000 | V19: end of line
A20: Program Changes | V20: end of line
A21: Program Offset - Construction | S21: 0 | T21: 0 | U21: -5000 | V21: end of line
A22: Total Program Changes | S22: =+S21 -> 0 | T22: =+T21 -> 0 | U22: =+U21 -> -5000 | V22: end of line
A23: 2013 Total Request | S23: =S19+S22 -> 0 | T23: =T19+T22 -> 0 | U23: =U19+U22 -> 10000 | V23: end of line
A24: 2012 - 2013 Total Change | S24: =+S23-S15 -> 0 | T24: =+T23-T15 -> 0 | U24: =+U23-U15 -> -5000 | V24: end of line
V25: end of line
V26: end of line
V27: end of line
V28: end of line
V29: end of line
V30: end of line
A31: Summary of Requirements | V31: end of line
A32: =A5 -> United States Marshals Service | V32: end of line
A33: =+A6 -> Construction | V33: end of line
A34: (Dollars in Thousands) | V34: end of line
V35: end of line
V36: end of line
V37: end of line
V38: end of line
V39: end of line
A40: Estimates by budget activity | D40: 2011 Enacted | G40: 2012 Enacted with Balance Rescissions | J40: 2013 Adjustments to Base and Technical Adjustments | M40: 2013 Current Services | P40: 2013 Offsets | S40: 2013 Request with Balance Rescissions | V40: end of line
V41: end of line
...

Sheet C. Increases Offsets
A1: C: Program Increases/Offsets By Decision Unit | I1: end of line
I2: end of line
I3: end of line
A4: FY 2013 Program Increases/Offsets By Decision Unit | I4: end of line
A5: ='B. Summary of Requirements_SE '!A54 -> United States Marshals Service | I5: end of line
A6: ='B. Summary of Requirements_SE '!A55 -> Salaries and Expenses | I6: end of line
A7: (Dollars in Thousands) | I7: end of line
I8: end of line
I9: end of line
A10: Program Offsets | B10: Location of Description by Decision Unit | C10: Judicial and Courthouse Security | D10: Fugitive Apprehension | E10: Prisoner Security and Transportation | F10: Protection of Witnesses | G10: Tactical Operations | H10: Total Offsets | I10: end of line
C11: Amount | D11: Amount | E11: Amount | F11: Amount | G11: Amount | I11: end of line
I12: end of line
A13: IT Savings | B13: All Decision Units | C13: -186 | D13: -204 | E13: -635 | F13: -10 | G13: -219 | H13: =+C13+D13+E13+F13+G13 -> -1254 | I13: end of line
A14: Administrative Efficiencies | B14: All Decision Units | C14: -1834 | D14: -2026 | E14: -2488 | F14: -175 | G14: -543 | H14: =+C14+D14+E14+F14+G14 -> -7066 | I14: end of line
I15: end of line
A16: Total Offsets | C16: =SUM(C12:C15) -> -2020 | D16: =SUM(D12:D15) -> -2230 | E16: =SUM(E12:E15) -> -3123 | F16: =SUM(F12:F15) -> -185 | G16: =SUM(G12:G15) -> -762 | H16: =SUM(H12:H15) -> -8320 | I16: end of line
I17: end of line
I18: end of line
A19: FY 2013 Program Increases/Offsets By Decision Unit | I19: end of line
A20: =+'B. Summary of Requirements_Cons'!A32:U32 -> United States Marshals Service | I20: end of line
A21: =+'B. Summary of Requirements_Cons'!A33:U33 -> Construction | I21: end of line
A22: (Dollars in Thousands) | I22: end of line
I23: end of line
I24: end of line
A25: Program Offsets | B25: Location of Description by Decision Unit | C25: Construction | D25: Total Offsets | I25: end of line
C26: Amount | I26: end of line
I27: end of line
A28: Construction | B28: Construction | C28: -5000 | D28: =+C28 -> -5000 | I28: end of line
I29: end of line
A30: Total Offset | C30: =SUM(C27:C29) -> -5000 | D30: =SUM(D27:D29) -> -5000 | I30: end of sheet

Sheet D. Strategic Goals & Objectives
A1: D: Resources by DOJ Strategic Goal and Strategic Objective | O1: end of line
O2: end of line
A3: Resources by Department of Justice Strategic Goal/Objective | O3: end of line
A4: ='B. Summary of Requirements_SE '!A5:U5 -> United States Marshals Service | O4: end of line
A5: (Dollars in Thousands) | O5: end of line
O6: end of line
O7: end of line
C8: 2011 Enacted | F8: 2012 Enacted with Balance Rescissions | I8: 2013 Current Services | K8: 2013 | M8: 2013 Request with Balance Rescissions | O8: end of line
K9: Offsets and Rescission of Balances | O9: end of line
A10: Strategic Goal and Strategic Objective | O10: end of line
C11: Direct, Reimb. Other FTE | D11: Direct Amount $000s | F11: Direct, Reimb. Other FTE | G11: Direct Amount $000s | I11: Direct, Reimb. Other FTE | J11: Direct Amount $000s | K11: Direct, Reimb. Other FTE | L11: Direct Amount $000s | M11: Direct, Reimb. Other FTE | N11: Direct Amount $000s | O11: end of line
O12: end of line
A13: Goal 1: Prevent Terrorism and Promote the Nation's Security Consistent with the Rule of Law | O13: end of line
A14: 1.1 Prevent, disrupt, and defeat terrorist operations before they occur | C14: =385+2+8 -> 395 | D14: =105898+325+739+1064 -> 108026 | F14: =391+2 -> 393 | G14: =103942+325+739 -> 105006 | I14: =391+2 -> 393 | J14: =+G14+((F14*128)*0.005) -> 105257.52 | K14: 0 | L14: =103942+325+730-J14 -> -260.52 | M14: =+I14+K14 -> 393 | N14: =+J14+L14 -> 104997 | O14: end of line
A15: Subtotal, Goal 1 | C15: =SUM(C14:C14) -> 395 | D15: =SUM(D14:D14) -> 108026 | F15: =SUM(F14:F14) -> 393 | G15: =SUM(G14:G14) -> 105006 | I15: =SUM(I14:I14) -> 393 | J15: =SUM(J14:J14) -> 105257.52 | K15: =SUM(K14:K14) -> 0 | L15: =SUM(L14:L14) -> -260.52 | M15: =SUM(M14:M14) -> 393 | N15: =SUM(N14:N14) -> 104997 | O15: end of line
O16: end of line
A17: Goal 2: Prevent Crime, Protect the Rights of the American People, and Enforce Federal Law | O17: end of line
A18: 2.1 Combat the threat, incidence, and prevalence of violent crime | C18: =443-132-29+1 -> 283 | D18: =139547-33161-4264 -> 102122 | F18: =443-132-29 -> 282 | G18: =145745-33669-4880 -> 107196 | I18: 282 | J18: =+G18+((F18*128)*0.005) -> 107376.48 | K18: 0 | L18: =144960-33535-4885-J18 -> -836.48 | M18: =+I18+K18 -> 282 | N18: =+J18+L18 -> 106540 | O18: end of line
A19: 2.2 Prevent and intervene in crimes against vulnerable populations, uphold the rights of, and improve services to, America's crime victims | C19: 161 | D19: 37425 | F19: 161 | G19: 38549 | I19: 161 | J19: =+G19+((I19*128)*0.005) -> 38652.04 | K19: 0 | L19: =38419-J19 -> -233.04 | M19: =+I19+K19 -> 161 | N19: =+J19+L19 -> 38419 | O19: end of line
A20: 2.3 Combat the threat, trafficking, and use of illegal drugs and the diversion of licit drugs | C20: =1163+8+42 -> 1213 | D20: 245333 | F20: =1139+8+43 -> 1190 | G20: 248880 | I20: =1139+8+43 -> 1190 | J20: =+G20+(((1190-8-43)*128)*0.005) -> 249608.96 | K20: -1 | L20: =250828-J20 -> 1219.04 | M20: =+I20+K20 -> 1189 | N20: =+J20+L20 -> 250828 | O20: end of line
A21: Subtotal, Goal 2 | C21: =SUM(C18:C20) -> 1657 | D21: =SUM(D18:D20) -> 384880 | F21: =SUM(F18:F20) -> 1633 | G21: =SUM(G18:G20) -> 394625 | I21: =SUM(I18:I20) -> 1633 | J21: =SUM(J18:J20) -> 395637.48 | K21: =SUM(K18:K20) -> -1 | L21: =SUM(L18:L20) -> 149.52 | M21: =SUM(M18:M20) -> 1632 | N21: =SUM(N18:N20) -> 395787 | O21: end of line
O22: end of line
A23: Goal 3: Ensure and Support the Fair, Impartial, Efficient, and Transparent Administration of Justice at the Federal, State, Local, Tribal and International Levels | O23: end of line
A24: 3.1 Promote and strengthen relationships and strategies for the administration of justice with state, local, tribal and international law enforcement | C24: =31+1294 -> 1325 | D24: =15804+189565 -> 205369 | F24: =21+1294 -> 1315 | G24: =15069+214350 -> 229419 | I24: =21+1294 -> 1315 | J24: =+G24+((I24*128)*0.005) -> 230260.6 | K24: 0 | L24: =14845+214676-J24 -> -739.6 | M24: =+I24+K24 -> 1315 | N24: =+J24+L24 -> 229521 | O24: end of line
A25: 3.2 Protect judges, witnesses, and other participants in federal proceedings; apprehend fugitives; and ensure the appearance of criminal defendants for judicial proceedings or confinement | C25: =5814-SUM(C15,C21,C24,C26) -> 1259 | D25: =1123511-SUM(D15,D21,D24,D26) -> 190273 | F25: =5814-SUM(F15,F21,F24,F26) -> 1295 | G25: =1174000-SUM(G15,G21,G24,G26) -> 195148 | I25: =5883-SUM(I15,I21,I24,I26) -> 1364 | J25: =1209608-SUM(J15,J21,J24,J26) -> 221600.4 | K25: =-1-SUM(K15,K21,K24,K26) -> 0 | L25: =-8320-SUM(L15,L21,L24,L26) -> -516.4 | M25: =+I25+K25 -> 1364 | N25: =+J25+L25 -> 221084 | O25: end of line
A26: 3.3 Provide for the safe, secure, humane, and cost-effective confinement of detainees awaiting trial and/or sentencing, and those in the custody of the Federal Prison System | C26: 1178 | D26: 234963 | F26: 1178 | G26: 249802 | I26: 1178 | J26: 256852 | K26: 0 | L26: =249899-J26 -> -6953 | M26: =+I26+K26 -> 1178 | N26: =+J26+L26 -> 249899 | O26: end of line
A27: Subtotal, Goal 3 | C27: =SUM(C24:C26) -> 3762 | D27: =SUM(D24:D26) -> 630605 | F27: =SUM(F24:F26) -> 3788 | G27: =SUM(G24:G26) -> 674369 | I27: =SUM(I24:I26) -> 3857 | J27: =SUM(J24:J26) -> 708713 | K27: =SUM(K24:K26) -> 0 | L27: =SUM(L24:L26) -> -8209 | M27: =SUM(M24:M26) -> 3857 | N27: =SUM(N24:N26) -> 700504 | O27: end of line
O28: end of line
A29: GRAND TOTAL | C29: =C15+C21+C27 -> 5814 | D29: =D15+D21+D27 -> 1123511 | F29: =F15+F21+F27 -> 5814 | G29: =G15+G21+G27 -> 1174000 | I29: =I15+I21+I27 -> 5883 | J29: =J15+J21+J27 -> 1209608 | K29: =K15+K21+K27 -> -1 | L29: =L15+L21+L27 -> -8320 | M29: =M15+M21+M27 -> 5882 | N29: =N15+N21+N27 -> 1201288 | O29: end of line
A30: Rescission of Balances | D30: =D16+D22+D28 -> 0 | G30: -2200 | J30: 2200 | L30: -14400 | N30: =+J30+L30 -> -12200 | O30: end of line
A31: GRAND TOTAL WITH BALANCE RESCISSIONS | C31: =SUM(C29:C30) -> 5814 | D31: =SUM(D29:D30) -> 1123511 | F31: =SUM(F29:F30) -> 5814 | G31: =SUM(G29:G30) -> 1171800 | I31: =SUM(I29:I30) -> 5883 | J31: =SUM(J29:J30) -> 1211808 | K31: =SUM(K29:K30) -> -1 | L31: =SUM(L29:L30) -> -22720 | M31: =SUM(M29:M30) -> 5882 | N31: =SUM(N29:N30) -> 1189088 | O31: end of line
A32: NOTE: FY 2011 and FY 2012 were realigned under the new DOJ Strategic Plan for FY2012 - FY2016. | O32: end of line
O33: end of line
O34: end of line
A35: Resources by Department of Justice Strategic Goal/Objective | O35: end of line
A36: ='B. Summary of Requirements_Cons'!A32:U32 -> United States Marshals Service | O36: end of line
A37: ='B. Summary of Requirements_Cons'!A33:U33 -> Construction | O37: end of line
A38: (Dollars in Thousands) | O38: end of line
O39: end of line
C40: 2011 Enacted | F40: 2012 Enacted with Balance Rescissions | I40: 2013 Current Services | K40: 2013 | M40: 2013 Request with Balance Rescissions | O40: end of line
...

Sheet E. ATB Justification
A1: E. Justification for Base Adjustments | J1: end of line
J2: end of line
A3: Justification for Base Adjustments | J3: end of line
A4: =+'B. Summary of Requirements_SE '!A5 -> United States Marshals Service | J4: end of line
J5: end of line
J6: end of line
G7: POS | H7: FTE | I7: Amount | J7: end of line
A8: Technical Adjustments | D8: Technical Adjustments | J8: end of line
J9: end of line
A10: Restoration of Rescission - USMS S&E | G10: 0 | H10: 0 | I10: 2200 | J10: end of line
A11: Transfers | J11: end of line
J12: end of line
A13: Joint Automated Booking System. A transfer of $2,755 is included in support of the Department's Justice Automated Booking System program which will be moved to the Working Capital Fund and provided as a billable service in FY 2013. | G13: 0 | H13: 0 | I13: 2755 | J13: end of line
J14: end of line
A15: JCON and JCON S/TS. A transfer of $2,774 is included in support of the Department's Justice Consolidated Office Network (JCON) and JCON S/TS programs which will be moved to the Working Capital Fund and provided as a billable service in FY 2013. | G15: 0 | H15: 0 | I15: 2774 | J15: end of line
J16: end of line
A17: Law Enforcement Radios. In FY 2013, the funding for the Department's Radio/Interoperability program is being realigned. This change will generate savings and allow the Department to increase our investments in improved technology and interoperability. As part of the realignment, base operations and maintenance (O&M) funding for radios is being transferred back to components. For USMS, the O&M transfer amount is $3,700. | G17: 0 | H17: 0 | I17: 3700 | J17: end of line
J18: end of line
A19: Office of Information Policy. The component transfers for the Office of Information Policy (OIP) into the General Administration appropriation will centralize appropriated funding and eliminate the current reimbursable financing process. The centralization of the funding is administratively advantageous because it eliminates the paper-intensive reimbursement process. | G19: 0 | H19: 0 | I19: -100 | J19: end of line
J20: end of line
A21: Professional Responsibility Advisory Office. The component transfers for the Professional Responsibility Advisory Office (PRAO) into the General Administration appropriation will centralize appropriated funding and eliminate the current reimbursable financing process. The centralization of the funding is administratively advantageous because it eliminates the paper-intensive reimbursement process. | G21: 0 | H21: 0 | I21: -8 | J21: end of line
F22: Total Transfers: | G22: =SUM(G13:G21) -> 0 | H22: =SUM(H13:H21) -> 0 | I22: =SUM(I13:I21) -> 9121 | J22: end of line
G23: POS | H23: FTE | I23: Amount | J23: end of line
A24: Increases | J24: end of line
J25: end of line
A26: 2013 Pay Raise. This request provides for a proposed 0.5 percent pay raise to be effective in January of 2013. The increase only includes the general pay raise. The amount request, $2,134, represents the pay amounts for 3/4 of the fiscal year plus appropriate benefits ($1,487 for pay and $647 for benefits.) | G26: 0 | H26: 0 | I26: 2134 | J26: end of line
J27: end of line
A28: Changes in Compensable Days. The decreased cost for one compensable day in FY 2013 compared to FY 2012 is calculated by dividing the FY 2012 estimated personnel compensation $1,640 and applicable benefits $714 by 261 compensable days. | G28: 0 | H28: 0 | I28: 2354 | J28: end of line
J29: end of line
A30: Employees Compensation Fund. The $682 increase reflects payments to the Department of Labor for injury benefits paid in the past year under the Federal Employee Compensation Act. This estimate is based on the first quarter of prior year billing and current year estimates. | G30: 0 | H30: 0 | I30: 682 | J30: end of line
J31: end of line
A32: FERS Rate Increase. On June 11, 2010, the Board of Actuaries of the Civil Service Retirement System recommended a new set of economic assumptions for the Civil Service Retirement System (CSRS) and the Federal Employees Retirement System (FERS). In accordance with this change, effective October 1, 2011 (FY 2012), the total Normal Cost of Regular retirement under FERS will increase from the current level of 12.5% of pay to 12.7%. The total FERS contribution for Law Enforcement retirement will increase from 27.0% to 27.6%. This will result in new agency contribution rates of 11.9% for normal costs (up from the current 11.7%) and 26.3% for law enforcement personnel (up from the current 25.7%). The amount requested, $1,963, represents the funds needed to cover this increase. | G32: 0 | H32: 0 | I32: 1963 | J32: end of line
J33: end of line
A34: Health Insurance. Effective January 2013, this component's contribution to Federal employees' health insurance premiums increased by 8.4 percent. Applied against the 2011 estimate of $30,834, the additional amount required is $2,590. | G34: 0 | H34: 0 | I34: 2590 | J34: end of line
J35: end of line
A36: Retirement. Agency retirement contributions increase as employees under CSRS retire and are replaced by FERS employees. Based on OPM government-wide estimates, we project that the DOJ workforce will convert from CSRS to FERS at a rate of 1.3 percent per year. The requested increase of $1,481 is necessary to meet our increased retirement obligations as a result of this conversion. | G36: 0 | H36: 0 | I36: 1481 | J36: end of line
J37: end of line
A38: General Services Administration (GSA) Rent. GSA will continue to charge rental rates that approximate those charged to commercial tenants for equivalent space and related services. The requested increase of $10,396 is required to meet our commitment to GSA. The costs associated with GSA rent were derived through the use of an automated system, which uses the latest inventory data, including rate increases to be effective in FY 2013 for each building currently occupied by Department of Justice components, as well as the costs of new space to be occupied. GSA provided data on the rate increases. | G38: 0 | H38: 0 | I38: 10396 | J38: end of line
J39: end of line
A40: Security Charges. Guard Service includes those costs paid directly by DOJ and those paid to Department of Homeland Security (DHS). The requested increase of $5,827 is required to meet our commitment to DHS and other security costs. | G40: 0 | H40: 0 | I40: 5827 | J40: end of line
...

Sheet F. 2011 Crosswalk
A1: F: Crosswalk of 2011 Availability | P1: end of line
P2: end of line
A3: Crosswalk of 2011 Availability | P3: end of line
A4: =+'B. Summary of Requirements_SE '!A5 -> United States Marshals Service | P4: end of line
A5: =+'B. Summary of Requirements_SE '!A6 -> Salaries and Expenses | P5: end of line
A6: (Dollars in Thousands) | P6: end of line
P7: end of line
P8: end of line
A9: Decision Unit | B9: FY 2011 Enacted Without Balance Rescissions | E9: Rescissions | H9: Reprogrammings / Transfers | K9: Carryover | L9: Recoveries | M9: 2011 Availability | P9: end of line
P10: end of line
B11: Pos. | C11: FTE | D11: Amount | E11: Pos. | F11: FTE | G11: Amount | H11: Pos. | I11: FTE | J11: Amount | K11: Amount | L11: Amount | M11: Pos. | N11: FTE | O11: Amount | P11: end of line
A12: Judicial and Courthouse Security | B12: 2222 | C12: 2189 | D12: 436873 | E12: 0 | F12: 0 | G12: 0 | H12: 0 | I12: 0 | J12: 1225 | K12: =19475+19734 -> 39209 | L12: 5191 | M12: =B12+E12+H12 -> 2222 | N12: =C12+F12+I12 -> 2189 | O12: =D12+G12+J12+K12+L12 -> 482498 | P12: end of line
A13: Fugitive Apprehension | B13: 1744 | C13: 1717 | D13: 380389 | E13: 0 | F13: 0 | G13: 0 | H13: 0 | I13: 0 | J13: 1439 | K13: =7400+930 -> 8330 | L13: 0 | M13: =B13+E13+H13 -> 1744 | N13: =C13+F13+I13 -> 1717 | O13: =D13+G13+J13+K13+L13 -> 390158 | P13: end of line
A14: Protective Security and Transportation | B14: 1194 | C14: 1178 | D14: 234963 | E14: 0 | F14: 0 | G14: 0 | H14: 0 | I14: 0 | J14: 0 | K14: 2554 | L14: 0 | M14: =B14+E14+H14 -> 1194 | N14: =C14+F14+I14 -> 1178 | O14: =D14+G14+J14+K14+L14 -> 237517 | P14: end of line
A15: Protection of Witnesses | B15: 207 | C15: 203 | D15: 34099 | E15: 0 | F15: 0 | G15: 0 | H15: 0 | I15: 0 | J15: 0 | K15: 0 | L15: 0 | M15: =B15+E15+H15 -> 207 | N15: =C15+F15+I15 -> 203 | O15: =D15+G15+J15+K15+L15 -> 34099 | P15: end of line
A16: Tactical Operations | B16: 177 | C16: 172 | D16: 37187 | E16: 0 | F16: 0 | G16: 0 | H16: 0 | I16: 0 | J16: =4040-966-2517+3300 -> 3857 | K16: =222+3976 -> 4198 | L16: 78 | M16: =B16+E16+H16 -> 177 | N16: =C16+F16+I16 -> 172 | O16: =D16+G16+J16+K16+L16 -> 45320 | P16: end of line
A17: TOTAL | B17: =SUM(B12:B16) -> 5544 | C17: =SUM(C12:C16) -> 5459 | D17: =SUM(D12:D16) -> 1123511 | E17: =SUM(E12:E16) -> 0 | F17: =SUM(F12:F16) -> 0 | G17: =SUM(G12:G16) -> 0 | H17: =SUM(H12:H16) -> 0 | I17: =SUM(I12:I16) -> 0 | ... O17: =SUM(O12:O16) -> 1189592 | P17: end of line
A18: Reimbursable FTE | C18: 355 | F18: 0 | I18: 0 | N18: =C18+F18+I18 -> 355 | P18: end of line
A19: Total FTE | C19: =SUM(C17:C18) -> 5814 | F19: =+F17+F18 -> 0 | I19: =+I17+I18 -> 0 | N19: =SUM(N17:N18) -> 5814 | P19: end of line
A20: Other FTE | P20: end of line
A21: LEAP | C21: 639 | F21: 0 | I21: 0 | N21: =C21+F21+I21 -> 639 | P21: end of line
A22: Overtime | C22: 207 | F22: 0 | I22: 0 | N22: =C22+F22+I22 -> 207 | P22: end of line
A23: Total Compensable FTE | C23: =C22+C21+C19 -> 6660 | F23: =F22+F21+F19 -> 0 | I23: =I22+I21+I19 -> 0 | N23: =N22+N21+N19 -> 6660 | P23: end of line
P24: end of line
A25: Transfers: Unobligated balance transfers include USMS (1510/110324) transfers from Department of State (DOS - 1910/110113) to support operations in Afghanistan, $4,040,000; from High Intensity Drug Trafficking Area (HIDTA - 1110/111070 to support the HIDTA program, $164,179; from S&E No-Year (15X0324) for information technology enhancements, $1,225,000; and to Law Enforcement Wireless Communications (LEWC - 15X0132), ($965,790). Appropriations transfers include USMS (1511/120324) transfers from HIDTA 1111/121070, $1,274,593, from DOS 1911/120113, $3,300,000; and to LEWC 15X0132, ($2,517,103). | P25: end of line
P26: end of line
A27: Carryover: Unobligated Balances that were carried over from FY 2010 S&E Multi-Year (1510/110324) include $930,018 for the HIDTA program, $3,975,539 to support the mission in Afghanistan; and $29,651,000 for SWB Supplemental initiatives. Also includes $19,734,328 carryover from S&E No-Year (15X0324), majority of which is for information technology enhancements. | P27: end of line
P28: end of line
A29: Recoveries: Funds recovered from prior year obligations include $5,190,922 from S&E No-Year (15X0324); and $77,556 from S&E Multi-Year (1510/110324). | P29: end of line
P30: end of line
A31: Crosswalk of 2011 Availability | P31: end of line
A32: United States Marshals Service | P32: end of line
A33: =+'B. Summary of Requirements_Cons'!A6:U6 -> Construction | P33: end of line
A34: (Dollars in Thousands) | P34: end of line
P35: end of line
P36: end of line
A37: Decision Unit | B37: FY 2011 Enacted Without Balance Rescissions | E37: Rescissions | H37: Reprogrammings / Transfers | K37: Carryover | L37: Recoveries | M37: 2011 Availability | P37: end of line
P38: end of line
B39: Pos. | C39: FTE | D39: Amount | E39: Pos. | F39: FTE | G39: Amount | H39: Pos. | I39: FTE | J39: Amount | K39: Amount | L39: Amount | M39: Pos. | N39: FTE | O39: Amount | P39: end of line
A40: Construction | B40: 0 | C40: 0 | D40: 16592 | E40: 0 | F40: 0 | G40: 0 | H40: 0 | I40: 0 | J40: 0 | K40: =2054+8000 -> 10054 | L40: 1782 | M40: =B40+E40+H40 -> 0 | N40: =C40+F40+I40 -> 0 | O40: =D40+G40+J40+K40+L40 -> 28428 | P40: end of line
...

Sheet G. 2012 Crosswalk
A1: G: Crosswalk of 2012 Availability | S1: end of line
S2: end of line
A3: Crosswalk of 2012 Availability | S3: end of line
A4: =+'B. Summary of Requirements_SE '!A5 -> United States Marshals Service | S4: end of line
A5: =+'B. Summary of Requirements_SE '!A6 -> Salaries and Expenses | S5: end of line
A6: (Dollars in Thousands) | S6: end of line
S7: end of line
S8: end of line
A9: Decision Unit | B9: FY 2012 Enacted Without Balance Rescissions | E9: Rescissions | H9: Supplementals | K9: Reprogrammings / Transfers | N9: Carryover | O9: Recoveries | P9: 2012 Availability | S9: end of line
S10: end of line
B11: Pos. | C11: FTE | D11: Amount | E11: Pos. | F11: FTE | G11: Amount | H11: Pos. | I11: FTE | J11: Amount | K11: Pos. | L11: FTE | M11: Amount | N11: Amount | O11: Amount | P11: Pos. | Q11: FTE | R11: Amount | S11: end of line
A12: Judicial and Courthouse Security | B12: 2222 | C12: 2189 | D12: 454888 | E12: 0 | F12: 0 | G12: 0 | K12: 0 | L12: 0 | M12: 3000 | N12: 9525 | O12: =1300-O13 -> 1282 | P12: =B12+E12+H12+K12 -> 2222 | Q12: =C12+F12+I12+L12 -> 2189 | R12: =D12+G12+J12+M12+N12+O12 -> 468695 | S12: end of line
A13: Fugitive Apprehension | B13: 1744 | C13: 1717 | D13: 397254 | E13: 0 | F13: 0 | G13: 0 | K13: 0 | L13: 0 | M13: 4 | N13: 1123 | O13: 18 | P13: =B13+E13+H13+K13 -> 1744 | Q13: =C13+F13+I13+L13 -> 1717 | R13: =D13+G13+J13+M13+N13+O13 -> 398399 | S13: end of line
A14: Protective Security and Transportation | B14: 1194 | C14: 1178 | D14: 249802 | E14: 0 | F14: 0 | G14: -2200 | K14: 0 | L14: 0 | M14: 0 | N14: 0 | O14: 0 | P14: =B14+E14+H14+K14 -> 1194 | Q14: =C14+F14+I14+L14 -> 1178 | R14: =D14+G14+J14+M14+N14+O14 -> 247602 | S14: end of line
A15: Protection of Witnesses | B15: 207 | C15: 203 | D15: 34509 | E15: 0 | F15: 0 | G15: 0 | K15: 0 | L15: 0 | M15: 0 | N15: 0 | O15: 0 | P15: =B15+E15+H15+K15 -> 207 | Q15: =C15+F15+I15+L15 -> 203 | R15: =D15+G15+J15+M15+N15+O15 -> 34509 | S15: end of line
A16: Tactical Operations | B16: 177 | C16: 172 | D16: 37547 | E16: 0 | F16: 0 | G16: 0 | K16: 0 | L16: 0 | M16: -2517 | N16: 3300 | O16: 0 | P16: =B16+E16+H16+K16 -> 177 | Q16: =C16+F16+I16+L16 -> 172 | R16: =D16+G16+J16+M16+N16+O16 -> 38330 | S16: end of line
A17: TOTAL | B17: =SUM(B12:B16) -> 5544 | C17: =SUM(C12:C16) -> 5459 | D17: =SUM(D12:D16) -> 1174000 | E17: =SUM(E12:E16) -> 0 | F17: =SUM(F12:F16) -> 0 | G17: =SUM(G12:G16) -> -2200 | H17: =SUM(H12:H16) -> 0 | I17: =SUM(I12:I16) -> 0 | ... R17: =SUM(R12:R16) -> 1187535 | S17: end of line
A18: Reimbursable FTE* | C18: 418 | F18: 0 | L18: 0 | Q18: =C18+F18+I18+L18 -> 418 | S18: end of line
A19: Total FTE | C19: =SUM(C17:C18) -> 5877 | F19: =+F17+F18 -> 0 | I19: =+I17+I18 -> 0 | L19: =+L17+L18 -> 0 | Q19: =SUM(Q17:Q18) -> 5877 | S19: end of line
A20: Other FTE | S20: end of line
A21: LEAP | C21: 639 | F21: 0 | I21: 0 | L21: 0 | Q21: =C21+F21+I21+L21 -> 639 | S21: end of line
A22: Overtime | C22: 207 | F22: 0 | I22: 0 | L22: 0 | Q22: =C22+F22+I22+L22 -> 207 | S22: end of line
A23: Total Compensable FTE | C23: =C22+C21+C19 -> 6723 | F23: =F22+F21+F19 -> 0 | I23: =I22+I21+I19 -> 0 | L23: =L22+L21+L19 -> 0 | Q23: =Q22+Q21+Q19 -> 6723 | S23: end of line
A24: * Excludes additional reimbursable positions and FTE for Centers for Disease Control (CDC) (2) and DOJ supporting Plan Colombia (1). | S24: end of line
A25: Transfers: Unobligated balance transfers include USMS (1511/120324) transfer from High Intensity Drug Trafficking Area (HIDTA - 1111/121070 to support the HIDTA program, $3,900 and planned transfer to Law Enforcement Wireless Communications ((LEWC - 15X0132) ($2,517,123). Also includes S&E No-Year (15X0324) transfer from S&E Prior Year 15110324, $3,000,000. | S25: end of line
P26: end of line | S26: end of line
A27: Carryover: Unobligated Balances that were carried over from FY 2011 S&E Multi-Year (1511/120324) include $1,122,504 for the HIDTA program and $3,300,000 to support the mission in Afghanistan. Also includes $9,525,192 carryover from S&E No-Year (15X0324) to support information technology enhancements. | P27: end of line | S27: end of line
P28: end of line | S28: end of line
A29: Recoveries: Recoveries of prior year obligatations are estimated at $1,300,000 from S&E as reported in the FY 2012 Spend Plan under Section 211 Notifications, to support courthouse security equipment and information technology systems. | P29: end of line | S29: end of line
S30: end of line
A31: Rescissions: Unobligated balance rescission, $2,200,000. | P31: end of line | S31: end of line
S32: end of line
A33: Crosswalk of 2012 Availability | S33: end of line
A34: =+'B. Summary of Requirements_Cons'!A5:U5 -> United States Marshals Service | S34: end of line
A35: =+'B. Summary of Requirements_Cons'!A6:U6 -> Construction | S35: end of line
A36: (Dollars in Thousands) | S36: end of line
S37: end of line
S38: end of line
A39: Decision Unit | B39: FY 2012 Enacted Without Balance Rescissions | E39: Rescissions | H39: Supplementals | K39: Reprogrammings / Transfers | N39: Carryover | O39: Recoveries | P39: 2012 Availability | S39: end of line
S40: end of line
...

Sheet H. Reimbursable Resources
A1: H: Summary of Reimbursable Resources | O1: end of line
O2: end of line
A3: Summary of Reimbursable Resources | O3: end of line
A4: =+'B. Summary of Requirements_SE '!A5 -> United States Marshals Service | O4: end of line
A5: =+'B. Summary of Requirements_SE '!A6 -> Salaries and Expenses | O5: end of line
A6: (Dollars in Thousands) | O6: end of line
O7: end of line
A8: Collections by Source | C8: 2011 Actual | F8: 2012 Planned* | I8: 2013 Request* | L8: Increase/Decrease | O8: end of line
C9: Pos. | D9: FTE | E9: Amount | F9: Pos. | G9: FTE | H9: Amount | I9: Pos. | J9: FTE | K9: Amount | L9: Pos. | M9: FTE | N9: Amount | O9: end of line
A10: Administrative Office of the U.S. Courts (AOUSC) | C10: 64 | D10: 51 | E10: 930 | F10: 76 | G10: 70 | H10: 1208 | I10: 76 | J10: 76 | K10: 1208 | L10: =I10-F10 -> 0 | M10: =J10-G10 -> 6 | N10: =K10-H10 -> 0 | O10: end of line
A11: Assets Forfeiture Fund (AFF) | C11: 187 | D11: 180 | E11: 19437 | F11: 244 | G11: 244 | H11: 25845 | I11: 244 | J11: 244 | K11: 25845 | L11: =I11-F11 -> 0 | M11: =J11-G11 -> 0 | N11: =K11-H11 -> 0 | O11: end of line
A12: Centers for Disease Control (CDC) | C12: 36 | D12: 36 | E12: 8471 | F12: 34 | G12: 34 | H12: 9029 | I12: 34 | J12: 34 | K12: 9029 | L12: =I12-F12 -> 0 | M12: =J12-G12 -> 0 | N12: =K12-H12 -> 0 | O12: end of line
A13: Civilian Response Corps (CRC) | C13: 9 | D13: 8 | E13: 2882 | F13: 9 | G13: 9 | H13: 3187 | I13: 9 | J13: 9 | K13: 3187 | L13: =I13-F13 -> 0 | M13: =J13-G13 -> 0 | N13: =K13-H13 -> 0 | O13: end of line
A14: Department of Defense (DOD) | C14: 0 | D14: 0 | E14: =410+3400 -> 3810 | F14: 0 | G14: 0 | H14: =500+4500 -> 5000 | I14: 0 | J14: 0 | K14: =500+4500 -> 5000 | L14: =I14-F14 -> 0 | M14: =J14-G14 -> 0 | N14: =K14-H14 -> 0 | O14: end of line
A15: Department of Homeland Security (DHS) | C15: 0 | D15: 0 | E15: =2+650+130 -> 782 | F15: 0 | G15: 0 | H15: =2+650 -> 652 | I15: 0 | J15: 0 | K15: =2+650 -> 652 | L15: =I15-F15 -> 0 | M15: =J15-G15 -> 0 | N15: =K15-H15 -> 0 | O15: end of line
A16: Department of Justice (DOJ) | C16: 1 | D16: 1 | E16: =3413+213+13553+1000 -> 18179 | F16: 0 | G16: 0 | H16: =3412+218+105+13483+2000 -> 19218 | I16: 0 | J16: 0 | K16: =3412+218+105+13483+2000 -> 19218 | L16: =I16-F16 -> 0 | M16: =J16-G16 -> 0 | N16: =K16-H16 -> 0 | O16: end of line
A17: Department of State (DOS) | C17: 0 | D17: 0 | E17: =545+8345 -> 8890 | F17: 0 | G17: 0 | H17: =425+8344 -> 8769 | I17: 0 | J17: 0 | K17: =425+8344 -> 8769 | L17: =I17-F17 -> 0 | M17: =J17-G17 -> 0 | N17: =K17-H17 -> 0 | O17: end of line
A18: Executive Office of the U.S. Attorneys (EOUSA) | C18: 0 | D18: 0 | E18: 2275 | F18: 0 | G18: 0 | H18: 2354 | I18: 0 | J18: 0 | K18: 2354 | L18: =I18-F18 -> 0 | M18: =J18-G18 -> 0 | N18: =K18-H18 -> 0 | O18: end of line
A19: Federal Law Enforcement Training Center (FLETC) | C19: 0 | D19: 0 | E19: 15 | F19: 0 | G19: 0 | H19: 15 | I19: 0 | J19: 0 | K19: 15 | L19: =I19-F19 -> 0 | M19: =J19-G19 -> 0 | N19: =K19-H19 -> 0 | O19: end of line
A20: Gang Related Education and Training (GREAT) | C20: 1 | D20: 0 | E20: 0 | F20: 0 | G20: 0 | H20: 0 | I20: 0 | J20: 0 | K20: 0 | L20: =I20-F20 -> 0 | M20: =J20-G20 -> 0 | N20: =K20-H20 -> 0 | O20: end of line
A21: Office of Federal Detention Trustee (OFDT) | C21: 0 | D21: 0 | E21: 1474277 | F21: 0 | G21: 0 | H21: 1509747 | I21: 0 | J21: 0 | K21: 1509747 | L21: =I21-F21 -> 0 | M21: =J21-G21 -> 0 | N21: =K21-H21 -> 0 | O21: end of line
A22: Office of National Drug Control Policy (ONDCP) | C22: 8 | D22: 8 | E22: 1973 | F22: 8 | G22: 8 | H22: 1973 | I22: 8 | J22: 8 | K22: 1973 | L22: =I22-F22 -> 0 | M22: =J22-G22 -> 0 | N22: =K22-H22 -> 0 | O22: end of line
A23: Organized Crime Drug Enforcement Task Force Program (OCDETF) | C23: 42 | D23: 41 | E23: 9190 | F23: 43 | G23: 43 | H23: 9553 | I23: =43-1 -> 42 | J23: =43-1 -> 42 | K23: =9553-410 -> 9143 | L23: =I23-F23 -> -1 | M23: =J23-G23 -> -1 | N23: =K23-H23 -> -410 | O23: end of line
A24: Service of Process (SOP) | C24: 7 | D24: 7 | E24: 1100 | F24: 7 | G24: 7 | H24: 1100 | I24: 7 | J24: 7 | K24: 1100 | L24: =I24-F24 -> 0 | M24: =J24-G24 -> 0 | N24: =K24-H24 -> 0 | O24: end of line
A25: U.S. Tax Court | C25: 3 | D25: 2 | E25: 2064 | F25: 3 | G25: 3 | H25: 2800 | I25: 3 | J25: 3 | K25: 2800 | L25: =I25-F25 -> 0 | M25: =J25-G25 -> 0 | N25: =K25-H25 -> 0 | O25: end of line
A26: Various Federal Sources | C26: 0 | D26: 0 | E26: =1120+400 -> 1520 | F26: 0 | G26: 0 | H26: 1120 | I26: 0 | J26: 0 | K26: 1120 | L26: =I26-F26 -> 0 | M26: =J26-G26 -> 0 | N26: =K26-H26 -> 0 | O26: end of line
O27: end of line
A28: Budgetary Resources: | C28: =SUM(C10:C27) -> 358 | D28: =SUM(D10:D27) -> 334 | E28: =SUM(E10:E27) -> 1555795 | F28: =SUM(F10:F27) -> 424 | G28: =SUM(G10:G27) -> 418 | H28: =SUM(H10:H27) -> 1601570 | I28: =SUM(I10:I27) -> 423 | J28: =SUM(J10:J27) -> 423 | ... N28: =SUM(N10:N27) -> -410 | O28: end of line
A29: * FY 2012-2013 exclude additional reimbursable positions and FTE for CDC (2) and DOJ supporting Plan Colombia (1). | O29: end of sheet

Sheet I. Permanent Positions
A1: I: Detail of Permanent Positions by Category | H1: end of line
H2: end of line
H3: end of line
A4: Detail of Permanent Positions by Category | H4: end of line
A5: =+'B. Summary of Requirements_SE '!A5 -> United States Marshals Service | H5: end of line
A6: =+'B. Summary of Requirements_SE '!A6 -> Salaries and Expenses | H6: end of line
H7: end of line
H8: end of line
A9: Category | B9: 2011 Enacted | D9: 2012 Enacted | F9: 2013 Request | H9: end of line
B10: Total Authorized | C10: Total Reimbursable | D10: Total Authorized \1 | E10: Total Reimbursable \2 | F10: Total Authorized \1 | G10: Total Reimbursable \2 | H10: end of line
H11: end of line
A12: Miscellaneous Occupations (010-099) | B12: 9 | C12: 0 | D12: 3 | E12: 0 | F12: 3 | G12: 0 | H12: end of line
A13: Security Administration (080) | B13: 21 | C13: 18 | D13: 24 | E13: 24 | F13: 24 | G13: 24 | H13: end of line
A14: Social science, Psychology, and Welfare (100-199) | B14: 4 | C14: 0 | D14: 4 | E14: 0 | F14: 4 | G14: 0 | H14: end of line
A15: Intelligence (132) | B15: 19 | C15: 2 | D15: 34 | E15: 3 | F15: 34 | G15: 3 | H15: end of line
A16: Human Resources Management (200-299) | B16: 41 | C16: 0 | D16: 43 | E16: 3 | F16: 43 | G16: 3 | H16: end of line
A17: General Administrative, Clerical, and Office Services (300-399) | B17: 872 | C17: 170 | D17: 808 | E17: 179 | F17: 808 | G17: 179 | H17: end of line
A18: Accounting and Budget (500-599) | B18: 121 | C18: 10 | D18: 125 | E18: 11 | F18: 125 | G18: 11 | H18: end of line
A19: Medical/Public Health (600-699) | B19: 0 | C19: 0 | D19: 2 | E19: 1 | F19: 2 | G19: 1 | H19: end of line
A20: Architecture (808) | B20: 0 | C20: 0 | D20: 3 | E20: 0 | F20: 3 | G20: 0 | H20: end of line
A21: Electronics Technical (856) | B21: 0 | C21: 0 | D21: 0 | E21: 2 | F21: 0 | G21: 2 | H21: end of line
A22: General Attorney (905) | B22: 13 | C22: 1 | D22: 19 | E22: 2 | F22: 19 | G22: 2 | H22: end of line
A23: Paralegal Specialist (950) | B23: 2 | C23: 0 | D23: 1 | E23: 0 | F23: 1 | G23: 0 | H23: end of line
... A28: Miscellaneous Inspectors (1802) | B28: 98 | C28: 0 | D28: 114 | E28: 0 | F28: 114 | G28: 0 | H28: end of line
A29: Criminal Investigative (1811 and 082) | B29: 4134 | C29: 134 | D29: 4134 | E29: =134+29-1 -> 162 | F29: 4134 | G29: 161 | H29: end of line
A30: Supply Services (2000-2099) | B30: 1 | C30: 0 | D30: 0 | E30: 0 | F30: 0 | G30: 0 | H30: end of line
A31: Transportation (2100-2199) | B31: 6 | C31: 0 | D31: 6 | E31: 0 | F31: 6 | G31: 0 | H31: end of line
A32: Information Technology Management (2210) | B32: 82 | C32: 1 | D32: 83 | E32: 3 | F32: 83 | G32: 3 | H32: end of line
A33: Total | B33: =SUM(B12:B32) -> 5544 | C33: =SUM(C12:C32) -> 355 | D33: =SUM(D12:D32) -> 5544 | E33: =SUM(E12:E32) -> 424 | F33: =SUM(F12:F32) -> 5544 | G33: =SUM(G12:G32) -> 423 | H33: end of line
A34: Headquarters (Washington, D.C.) | B34: 673 | C34: 134 | D34: 707 | E34: 159 | F34: 707 | G34: =+E34-1 -> 158 | H34: end of line
A35: U.S. Field | B35: 4854 | C35: 221 | D35: 4820 | E35: =216+29+20 -> 265 | F35: 4820 | G35: =+E35 -> 265 | H35: end of line
A36: Foreign Field | B36: 17 | C36: 0 | D36: 17 | E36: 0 | F36: 17 | G36: 0 | H36: end of line
A37: Total | B37: =SUM(B34:B36) -> 5544 | C37: =SUM(C34:C36) -> 355 | D37: =SUM(D34:D36) -> 5544 | E37: =SUM(E34:E36) -> 424 | F37: =SUM(F34:F36) -> 5544 | G37: =SUM(G34:G36) -> 423 | H37: end of line
A38: \1 Number of administrative positions by category is revised in FY 2012-2013 based on current position allocation plans | H38: end of line
A39: \2 FY 2012-2013 exclude additional reimbursable positions for Centers for Disease Control (CDC) (2) and DOJ supporting Plan Colombia (1) | H39: end of line
H40: end of sheet

Sheet J. Financial Analysis
A1: J: Financial Analysis of Program Changes | X1: end of line
X2: end of line
A3: Financial Analysis of Program Changes | X3: end of line
A4: =+'B. Summary of Requirements_SE '!A5 -> United States Marshals Service | X4: end of line
A5: =+'B. Summary of Requirements_SE '!A6 -> Salaries and Expenses | X5: end of line
A6: (Dollars in Thousands) | X6: end of line
X7: end of line
A8: Grades: | B8: Judicial and Courthouse Security | F8: Fugitive Apprehension | J8: Prisoner Security and Transportation | N8: Protection of Witnesses | R8: Tactical Operations | V8: Program Changes | X8: end of line
B9: IT Savings | D9: Admin Efficiencies | F9: IT Savings | H9: Admin Efficiencies | J9: IT Savings | L9: Admin Efficiencies | N9: IT Savings | P9: Admin Efficiencies | R9: IT Savings | T9: Admin Efficiencies | X9: end of line
B10: Pos. | C10: Amount | D10: Pos. | E10: Amount | F10: Pos. | G10: Amount | H10: Pos. | I10: Amount | J10: Pos. | K10: Amount | L10: Pos. | M10: Amount | N10: Pos. | O10: Amount | P10: Pos. | Q10: Amount | R10: Pos. | S10: Amount | T10: Pos. | U10: Amount | V10: Pos. | W10: Amount | X10: end of line
X11: end of line
A12: Total FTE & personnel compensation | B12: 0 | C12: 0 | D12: 0 | E12: 0 | F12: 0 | G12: 0 | H12: 0 | I12: 0 | J12: 0 | K12: 0 | L12: 0 | M12: 0 | N12: 0 | O12: 0 | P12: 0 | Q12: 0 | R12: 0 | S12: 0 | T12: 0 | U12: 0 | V12: =SUM(B12,D12,F12,H12,J12,L12,N12,P12,R12,T12) -> 0 | W12: =SUM(C12,E12,G12,I12,K12,M12,O12,Q12,S12,U12) -> 0 | X12: end of line
A13: Travel and transportation of persons | B13: 0 | C13: 0 | D13: 0 | E13: -441 | F13: 0 | G13: 0 | H13: 0 | I13: -281 | J13: 0 | K13: 0 | L13: 0 | M13: -731 | N13: 0 | O13: 0 | P13: 0 | Q13: -49 | R13: 0 | S13: 0 | T13: 0 | U13: -53 | V13: =SUM(L13,J13,H13,F13,D13,B13,N13,P13,R13,T13) -> 0 | W13: =SUM(M13,K13,I13,G13,E13,C13,O13,Q13,S13,U13) -> -1555 | X13: end of line
A14: Transportation of things | B14: 0 | C14: 0 | D14: 0 | E14: -33 | F14: 0 | G14: 0 | H14: 0 | I14: -19 | J14: 0 | K14: 0 | L14: 0 | M14: -13 | N14: 0 | O14: 0 | P14: 0 | Q14: -2 | R14: 0 | S14: 0 | T14: 0 | U14: -2 | V14: =SUM(L14,J14,H14,F14,D14,B14,N14,P14,R14,T14) -> 0 | W14: =SUM(M14,K14,I14,G14,E14,C14,O14,Q14,S14,U14) -> -69 | X14: end of line
A15: Communication, rents, and utilities | B15: 0 | C15: 0 | D15: 0 | E15: -572 | F15: 0 | G15: 0 | H15: 0 | I15: -472 | J15: 0 | K15: 0 | L15: 0 | M15: -291 | N15: 0 | O15: 0 | P15: 0 | Q15: -65 | R15: 0 | S15: 0 | T15: 0 | U15: -74 | V15: =SUM(L15,J15,H15,F15,D15,B15,N15,P15,R15,T15) -> 0 | W15: =SUM(M15,K15,I15,G15,E15,C15,O15,Q15,S15,U15) -> -1474 | X15: end of line
A16: Printing | B16: 0 | C16: 0 | D16: 0 | E16: -17 | F16: 0 | G16: 0 | H16: 0 | I16: -14 | J16: 0 | K16: 0 | L16: 0 | M16: -8 | N16: 0 | O16: 0 | P16: 0 | Q16: -2 | R16: 0 | S16: 0 | T16: 0 | U16: -2 | V16: =SUM(L16,J16,H16,F16,D16,B16,N16,P16,R16,T16) -> 0 | W16: =SUM(M16,K16,I16,G16,E16,C16,O16,Q16,S16,U16) -> -43 | X16: end of line
A17: Other services | B17: 0 | C17: 0 | D17: 0 | E17: -321 | F17: 0 | G17: 0 | H17: 0 | I17: -841 | J17: 0 | K17: 0 | L17: 0 | M17: -224 | N17: 0 | O17: 0 | P17: 0 | Q17: -25 | R17: 0 | S17: 0 | T17: 0 | U17: -27 | V17: =SUM(L17,J17,H17,F17,D17,B17,N17,P17,R17,T17) -> 0 | W17: =SUM(M17,K17,I17,G17,E17,C17,O17,Q17,S17,U17) -> -1438 | X17: end of line
A18: Supplies and materials | B18: 0 | C18: 0 | D18: 0 | E18: -143 | F18: 0 | G18: 0 | H18: 0 | I18: -62 | J18: 0 | K18: 0 | L18: 0 | M18: -172 | N18: 0 | O18: 0 | P18: 0 | Q18: -16 | R18: 0 | S18: 0 | T18: 0 | U18: -23 | V18: =SUM(L18,J18,H18,F18,D18,B18,N18,P18,R18,T18) -> 0 | W18: =SUM(M18,K18,I18,G18,E18,C18,O18,Q18,S18,U18) -> -416 | X18: end of line
A19: Equipment | B19: 0 | C19: -186 | D19: 0 | E19: -307 | F19: 0 | G19: -204 | H19: 0 | I19: -337 | J19: 0 | K19: -635 | L19: 0 | M19: -1049 | N19: 0 | O19: -10 | P19: 0 | Q19: -16 | R19: 0 | S19: -219 | T19: 0 | U19: -362 | V19: =SUM(L19,J19,H19,F19,D19,B19,N19,P19,R19,T19) -> 0 | W19: =SUM(M19,K19,I19,G19,E19,C19,O19,Q19,S19,U19) -> -3325 | X19: end of line
A20: Total, 2013 Program Changes Requested | B20: =SUM(B12:B19) -> 0 | C20: =SUM(C12:C19) -> -186 | D20: =SUM(D12:D19) -> 0 | E20: =SUM(E12:E19) -> -1834 | F20: =SUM(F12:F19) -> 0 | G20: =SUM(G12:G19) -> -204 | H20: =SUM(H12:H19) -> 0 | I20: =SUM(I12:I19) -> -2026 | ... W20: =SUM(W12:W19) -> -8320 | X20: end of line
X21: end of line
X22: end of line
A23: Financial Analysis of Program Changes | X23: end of line
A24: =+'B. Summary of Requirements_Cons'!A5:U5 -> United States Marshals Service | X24: end of line
A25: =+'B. Summary of Requirements_Cons'!A6:U6 -> Construction | X25: end of line
A26: (Dollars in Thousands) | X26: end of line
X27: end of line
A28: Grades: | D28: Program Changes | X28: end of line
B29: Construction | X29: end of line
B30: Pos. | C30: Amount | D30: Pos. | E30: Amount | X30: end of line
X31: end of line
A32: Total FTE & personnel compensation | B32: 0 | C32: 0 | D32: =+B32 -> 0 | E32: =+C32 -> 0 | X32: end of line
A33: Other services | B33: 0 | C33: -5000 | D33: =+B33 -> 0 | E33: =+C33 -> -5000 | X33: end of line
A34: Total, 2013 Program Changes Requested | B34: =SUM(B32:B33) -> 0 | C34: =SUM(C32:C33) -> -5000 | D34: =SUM(D32:D33) -> 0 | E34: =SUM(E32:E33) -> -5000 | X34: end of sheet

Sheet K. Summary by Grade
A1: K: Summary of Requirements by Grade | J1: end of line
J2: end of line
J3: end of line
A4: Summary of Requirements by Grade | J4: end of line
A5: =+'B. Summary of Requirements_SE '!A5 -> United States Marshals Service | J5: end of line
A6: =+'B. Summary of Requirements_SE '!A6 -> Salaries and Expenses | J6: end of line
J7: end of line
J8: end of line
A9: Grades and Salary Ranges | B9: 2011 Enacted | D9: 2012 Enacted | F9: 2013 Request | H9: Increase/Decrease | J9: end of line
J10: end of line
B11: Pos. | C11: Amount | D11: Pos. | E11: Amount | F11: Pos. | G11: Amount | H11: Pos. | I11: Amount | J11: end of line
A12: Executive Level IV, $155,500 | B12: 1 | D12: 1 | F12: 1 | H12: =F12-D12 -> 0 | J12: end of line
A13: Senior Level, $119,554 - 179,700 | B13: 36 | D13: 36 | F13: 36 | H13: =F13-D13 -> 0 | J13: end of line
A14: SES, $119,554 - 179,700 | B14: 17 | D14: 17 | F14: 17 | H14: =F14-D14 -> 0 | J14: end of line
A15: GS-15, $123,758 - 155,500 | B15: 175 | D15: 175 | F15: 175 | H15: =F15-D15 -> 0 | J15: end of line
A16: GS-14, $105,211 - 136,771 | B16: 272 | D16: 272 | F16: 272 | H16: =F16-D16 -> 0 | J16: end of line
A17: GS-13, $89,033 - 115,742 | B17: 688 | D17: 1388 | F17: 1388 | H17: =F17-D17 -> 0 | J17: end of line
A18: GS-12, $74,872 - 97,333 | B18: 2698 | D18: 2698 | F18: 2698 | H18: =F18-D18 -> 0 | J18: end of line
A19: GS-11, $62,467 - 81,204 | B19: 310 | D19: 102 | F19: 102 | H19: =F19-D19 -> 0 | J19: end of line
A20: GS-10, $56,857 - 73,917 | B20: 1 | D20: 1 | F20: 1 | H20: =F20-D20 -> 0 | J20: end of line
A21: GS-9, $51,630 - 67,114 | B21: 869 | D21: 377 | F21: 377 | H21: =F21-D21 -> 0 | J21: end of line
A22: GS-8, $46,745 - 60,765 | B22: 37 | D22: 37 | F22: 37 | H22: =F22-D22 -> 0 | J22: end of line
A23: GS-7, $42,209 - 54,875 | B23: 439 | D23: 439 | F23: 439 | H23: =F23-D23 -> 0 | J23: end of line
A24: GS-4, $30,456 - 39,590 | B24: 1 | D24: 1 | F24: 1 | H24: =F24-D24 -> 0 | J24: end of line
A25: Total, Appropriated Positions | B25: =SUM(B12:B24) -> 5544 | D25: =SUM(D12:D24) -> 5544 | F25: =SUM(F12:F24) -> 5544 | H25: =SUM(H12:H24) -> 0 | J25: end of line
A26: Average SES Salary | C26: 167607 | E26: 168271 | G26: =+E26*1.005 -> 169112.35 | J26: end of line
A27: Average GS Salary | C27: 82184 | E27: 87124 | G27: =+E27*1.005 -> 87559.62 | J27: end of line
A28: Average GS Grade | C28: 11.36 | E28: 11.79 | G28: 11.79 | J28: end of sheet
A29: Note: Number of positions by grade is revised based on current allocation plans.

Sheet L. Summary by Object Class_SE
A1: L: Summary of Requirements by Object Class | M1: end of line
M2: end of line
A3: Summary of Requirements by Object Class | M3: end of line
A4: =+'B. Summary of Requirements_SE '!A5 -> United States Marshals Service | M4: end of line
A5: =+'B. Summary of Requirements_SE '!A6 -> Salaries and Expenses | M5: end of line
A6: (Dollars in Thousands) | M6: end of line
M7: end of line
A8: Object Classes | B8: 2011 Actuals | D8: 2012 Enacted with Balance Rescissions | F8: 2013 Request with Balance Rescissions | H8: Increase/Decrease | M8: end of line
B9: FTE | C9: Amount | D9: FTE | E9: Amount | F9: FTE | G9: Amount | H9: FTE | I9: Amount | M9: end of line
A10: 11.1 Direct FTE & personnel compensation | B10: =5234-23 -> 5211 | C10: 399366 | D10: =5459-23 -> 5436 | E10: 420768 | F10: =5459-23 -> 5436 | G10: 423348 | H10: =F10-D10 -> 0 | I10: =G10-E10 -> 2580 | M10: end of line
A11: 11.3 Other than full-time permanent | B11: 23 | C11: 13095 | D11: 23 | E11: 12703 | F11: 23 | G11: 12781 | H11: =F11-D11 -> 0 | I11: =G11-E11 -> 78 | J11: atb | K11: enhance | M11: end of line
A12: 11.5 Total, Other personnel compensation | B12: =SUM(B13:B15) -> 846 | C12: =SUM(C13:C15) -> 80840 | D12: =SUM(D13:D15) -> 846 | E12: =SUM(E13:E15) -> 99700 | F12: =SUM(F13:F15) -> 846 | G12: =SUM(G13:G15) -> 100169 | H12: =F12-D12 -> 0 | I12: =G12-E12 -> 469 | J12: 93 | M12: end of line
A13: LEAP | B13: 639 | C13: 62033 | D13: 639 | E13: 76307 | F13: 639 | G13: 76776 | H13: =F13-D13 -> 0 | I13: =G13-E13 -> 469 | M13: end of line
A14: Overtime | B14: 207 | C14: 13490 | D14: 207 | E14: 17606 | F14: 207 | G14: 17606 | H14: =F14-D14 -> 0 | I14: =G14-E14 -> 0 | M14: end of line
A15: Other Compensation | C15: 5317 | E15: 5787 | G15: 5787 | H15: =F15-D15 -> 0 | I15: =G15-E15 -> 0 | M15: end of line
A16: 11.8 Special personal services payments | C16: 6726 | E16: 6663 | G16: 6663 | H16: =F16-D16 -> 0 | I16: =G16-E16 -> 0 | M16: end of line
A17: Total | B17: =+B10+B11+B12+B16 -> 6080 | C17: =+C10+C11+C12+C16 -> 500027 | D17: =+D10+D11+D12+D16 -> 6305 | E17: =+E10+E11+E12+E16 -> 539834 | F17: =+F10+F11+F12+F16 -> 6305 | G17: =+G10+G11+G12+G16 -> 542961 | H17: =+H10+H11+H12+H16 -> 0 | I17: =+I10+I11+I12+I16 -> 3127 | J17: =697+630+957+2333 -> 4617 | K17: =2451-93 -> 2358 | L17: =+E17-G17 -> -3127 | M17: end of line
A18: Other Object Classes: | M18: end of line
A19: 12.0 Personnel benefits | C19: 208177 | E19: 221831 | G19: 229932 | I19: =G19-E19 -> 8101 | J19: 359 | K19: =1171+93 -> 1264 | L19: =+E19-G19 -> -8101 | M19: end of line
A20: 13.0 Other benefits | C20: 9 | E20: 9 | G20: 9 | I20: =G20-E20 -> 0 | K20: 110 | L20: =+E20-G20 -> 0 | M20: end of line
A21: 21.0 Travel and transportation of persons | C21: 27397 | E21: 24358 | G21: 20984 | I21: =G21-E21 -> -3374 | K21: 0 | L21: =+E21-G21 -> 3374 | M21: end of line
A22: 22.0 Transportation of things | C22: 1548 | E22: 1081 | G22: 932 | I22: =G22-E22 -> -149 | J22: =4220-576 -> 3644 | L22: =+E22-G22 -> 149 | M22: end of line
A23: 23.1 GSA rent | C23: 169609 | E23: =176480+314 -> 176794 | G23: =186856+314 -> 187170 | I23: =G23-E23 -> 10376 | L23: =+E23-G23 -> -10376 | M23: end of line
A24: 23.2 Rental Payments to Others | C24: 2814 | E24: =8013+6283 -> 14296 | G24: =8013+6283 -> 14296 | I24: =G24-E24 -> 0 | J24: 332 | K24: 175 | L24: =+E24-G24 -> 0 | M24: end of line
A25: 23.3 Comm., util., & other misc. charges | C25: 23556 | E25: 23061 | G25: 19884 | I25: =G25-E25 -> -3177 | K25: 14918 | L25: =+E25-G25 -> 3177 | M25: end of line
A26: 24.0 Printing and reproduction | C26: 478 | E26: 669 | G26: 577 | I26: =G26-E26 -> -92 | J26: 276 | K26: 14853 | L26: =+E26-G26 -> 92 | M26: end of line
A27: 25.1 Advisory and assistance services | C27: 1181 | E27: 1000 | G27: 1000 | I27: =G27-E27 -> 0 | K27: 135 | L27: =+E27-G27 -> 0 | M27: end of line
A28: 25.2 Other services from non-Federal sources | C28: =110836-5000+112 -> 105948 | E28: 87332 | G28: 91456 | I28: =G28-E28 -> 4124 | K28: 135 | L28: =+E28-G28 -> -4124 | M28: end of line
A29: 25.3 Purchases of goods & services from Government accounts (Antennas, DHS Sec. Etc..) | C29: 11407 | E29: 13202 | G29: 13202 | I29: =G29-E29 -> 0 | K29: 135 | L29: =+E29-G29 -> 0 | M29: end of line
A30: 25.3 Other goods and services from Federal sources | C30: 11087 | E30: 8000 | G30: 8000 | I30: =G30-E30 -> 0 | K30: 135 | L30: =+E30-G30 -> 0 | M30: end of line
A31: 25.4 Operation and maintenance of facilities | C31: 582 | E31: 1000 | G31: 1000 | I31: =G31-E31 -> 0 | K31: 135 | L31: =+E31-G31 -> 0 | M31: end of line
A32: 25.6 Medical care | C32: 1990 | E32: 1000 | G32: 1000 | I32: =G32-E32 -> 0 | K32: 135 | L32: =+E32-G32 -> 0 | M32: end of line
A33: 25.7 Operation and maintenance of equipment | C33: 14349 | E33: 13000 | G33: 13000 | I33: =G33-E33 -> 0 | K33: 135 | L33: =+E33-G33 -> 0 | M33: end of line
A34: 25.8 Subsistence and Support of Persons | C34: 1 | E34: 0 | G34: 0 | I34: =G34-E34 -> 0 | L34: =+E34-G34 -> 0 | M34: end of line
A35: 25.9 Moving/Lease Expirations/Contract Parking | C35: 0 | E35: 595 | G35: 595 | I35: =G35-E35 -> 0 | L35: =+E35-G35 -> 0 | M35: end of line
A36: 26.0 Supplies and materials | C36: =21975+10563 -> 32538 | E36: =6512+10000 -> 16512 | G36: =5610+10000 -> 15610 | I36: =G36-E36 -> -902 | L36: =+E36-G36 -> 902 | M36: end of line
A37: 31.0 Equipment | C37: 49941 | E37: 27532 | G37: 26786 | I37: =G37-E37 -> -746 | K37: 10 | L37: =+E37-G37 -> 746 | M37: end of line
A38: 32.0 Build Out | C38: 347 | E38: 469 | G38: 469 | I38: =G38-E38 -> 0 | K38: 85 | L38: =+E38-G38 -> 0 | M38: end of line
A39: 42.0 Other | C39: =299+6 -> 305 | E39: 225 | G39: 225 | I39: =G39-E39 -> 0 | K39: 37758 | L39: =+E39-G39 -> 0 | M39: end of line
A40: Total obligations | C40: =SUM(C17:C39) -> 1163291 | E40: =SUM(E17:E39) -> 1171800 | G40: =SUM(G17:G39) -> 1189088 | I40: =SUM(I17:I39) -> 17288 | J40: =SUM(J12:J39) -> 9321 | K40: =SUM(K17:K39) -> 72476 | L40: =+E40-G40 -> -17288 | M40: end of line
...

Sheet L. Summary by Object Class_ Con
A1: L: Summary of Requirements by Object Class | M1: end of line
M2: end of line
A3: Summary of Requirements by Object Class | M3: end of line
A4: =+'B. Summary of Requirements_SE '!A5 -> United States Marshals Service | M4: end of line
A5: =+'B. Summary of Requirements_Cons'!A6:U6 -> Construction | M5: end of line
A6: (Dollars in Thousands) | M6: end of line
M7: end of line
A8: Object Classes | B8: 2011 Actuals | D8: 2012 Enacted with Balance Rescissions | F8: 2013 Request with Balance Rescissions | H8: Increase/Decrease | M8: end of line
B9: FTE | C9: Amount | D9: FTE | E9: Amount | F9: FTE | G9: Amount | H9: FTE | I9: Amount | M9: end of line
A10: 21.0 Travel and transportation of persons | C10: 66 | E10: 0 | G10: 0 | I10: =G10-E10 -> 0 | K10: 14918 | L10: =+E10-G10 -> 0 | M10: end of line
A11: 23.3 Comm., util., & other misc. charges | C11: 0 | E11: 1000 | G11: 0 | I11: =G11-E11 -> -1000 | K11: 135 | L11: =+E11-G11 -> 1000 | M11: end of line
A12: 25.2 Other services from non-Federal sources | C12: =12014+8000 -> 20014 | E12: 8000 | G12: 8000 | I12: =G12-E12 -> 0 | K12: 135 | L12: =+E12-G12 -> 0 | M12: end of line
A13: 26.0 Supplies and materials | C13: 16 | E13: 0 | G13: 0 | I13: =G13-E13 -> 0 | K13: 135 | L13: =+E13-G13 -> 0 | M13: end of line
A14: 31.0 Equipment | C14: 6281 | E14: 6000 | G14: 2000 | I14: =G14-E14 -> -4000 | K14: 135 | L14: =+E14-G14 -> 4000 | M14: end of line
A15: Total obligations | C15: =SUM(C10:C14) -> 26377 | E15: =SUM(E10:E14) -> 15000 | G15: =SUM(G10:G14) -> 10000 | I15: =SUM(I10:I14) -> -5000 | J15: =SUM(J10:J14) -> 0 | K15: =SUM(K10:K14) -> 15458 | L15: =+E15-G15 -> 5000 | M15: end of line
A16: Unobligated balance, start of year | C16: -10054 | E16: =-C17 -> -2051 | G16: =-E17 -> -3801 | L16: =+E16-G16 -> 1750 | M16: end of line
A17: Unobligated balance, end of year | C17: 2051 | E17: 3801 | G17: =-G16 -> 3801 | L17: =+E17-G17 -> 0 | M17: end of line
A18: Recoveries of prior year obligations | C18: -1782 | E18: -1750 | G18: 0 | M18: end of line
A19: Total DIRECT requirements | C19: =SUM(C15:C18) -> 16592 | E19: =SUM(E15:E18) -> 15000 | G19: =SUM(G15:G18) -> 10000 | M19: end of sheet
A157: 2012 template
