Workbook
Name _10POS_BY_CAT: '[1]Summ Atty Agt'!#REF!
Name _11POS_BY_CAT: #REF!
Name _11POS_BY_CAT: #REF!
Name _1ATTORNEY_SUPP: #REF!
Name _2ATTORNEY_SUPP: #REF!
Name _3GA_ROLLUP: 'B. Summary of Requirements '!#REF!
Name _4GA_ROLLUP: #REF!
Name _5GA_ROLLUP: [2]SumReq!#REF!
Name _6GA_ROLLUP: '[1]Sum of Req'!#REF!
Name _7GA_ROLLUP: #REF!
Name _8POS_BY_CAT: #REF!
Name _9POS_BY_CAT: #REF!
Name DL: 'B. Summary of Requirements '!$A$3:$X$54
Name DL: #REF!
Name EXECSUPP: 'B. Summary of Requirements '!#REF!
Name EXECSUPP: #REF!
Name EXECSUPP: '[1]Sum of Req'!#REF!
Name EXECSUPP: #REF!
Name FY0711.1: #REF!
Name FY0711.5: #REF!
Name FY0712.1: #REF!
Name FY0721.0: #REF!
Name FY0722.0: #REF!
Name FY0723.1: #REF!
Name FY0723.2: #REF!
Name FY0723.3: #REF!
Name FY0724.0: #REF!
Name FY0725.2: #REF!
Name FY0725.3: #REF!
Name FY0725.6: #REF!
Name FY0726.0: #REF!
Name FY0731.0: #REF!
Name FY0732.0: #REF!
Name FY07Ling: #REF!
Name FY07Mult: #REF!
Name FY07PEPI: #REF!
Name FY07Tot: #REF!
Name FY07Train: #REF!
Name FY0811.1: #REF!
Name FY0811.5: #REF!
Name FY0812.1: #REF!
Name FY0821.0: #REF!
Name FY0822.0: #REF!
Name FY0823.1: #REF!
Name FY0823.2: #REF!
Name FY0823.3: #REF!
Name FY0824.0: #REF!
Name FY0825.2: #REF!
Name FY0825.3: #REF!
Name FY0825.6: #REF!
Name FY0826.0: #REF!
Name FY0831.0: #REF!
Name FY0832.0: #REF!
Name FY08Ling: #REF!
Name FY08Mult: #REF!
Name FY08PEPI: #REF!
Name FY08Tot: #REF!
Name FY08Train: #REF!
Name FY0911.1: #REF!
Name FY0911.5: #REF!

Sheet A. Organization Chart
A1: A: Organizational Chart | N1: end of line
N2: end of line
N3: end of line
N4: end of line
N5: end of line
N6: end of line
N7: end of line
N8: end of line
N9: end of line
N10: end of line
N11: end of line
N12: end of line
N13: end of line
... N29: end of sheet
A200: 2012 template
A256: FY 2011 CJ Submission

Sheet B. Summary of Requirements 
A1: B: Summary of Requirements | Y1: end of line
Y2: end of line
Y3: end of line
A4: Summary of Requirements | Y4: end of line
A5: United States Parole Commission | Y5: end of line
A6: Salaries and Expenses | Y6: end of line
A7: (Dollars in Thousands) | Y7: end of line
Y8: end of line
Y9: end of line
Y10: end of line
V11: FY 2013 Request | Y11: end of line
V12: Perm. Pos. | W12: FTE | X12: Amount | Y12: end of line
Y13: end of line
A14: 2011 Enacted (without Rescissions, direct only) | V14: 85 | W14: 87 | X14: 12833 | Y14: end of line
A15: 2012 Enacted | V15: 85 | W15: 87 | X15: 12833 | Y15: end of line
A16: Total 2012 Enacted (with Rescissions) | V16: =+V15 -> 85 | W16: =+W15 -> 87 | X16: =+X15 -> 12833 | Y16: end of line
A17: Adjustments to Base | Y17: end of line
A18: Transfers: | Y18: end of line
A19: JCON and JCON S/TS To Components | X19: 38 | Y19: end of line
A20: Increases: | Y20: end of line
A21: Pay and Benefits | X21: 151 | Y21: end of line
A22: Domestic Rent and Facilities | X22: 756 | Y22: end of line
A23: Subtotal Increases | V23: =SUM(V21:V22) -> 0 | W23: =SUM(W21:W22) -> 0 | X23: =SUM(X21:X22) -> 907 | Y23: end of line
A24: Total Adjustments to Base | V24: =V19+V23 -> 0 | W24: =W19+W23 -> 0 | X24: =X19+X23 -> 945 | Y24: end of line
A25: 2013 Current Services | V25: =+V24+V16 -> 85 | W25: =+W24+W16 -> 87 | X25: =+X24+X16 -> 13778 | Y25: end of line
A26: Program Changes | Y26: end of line
A27: Offsets: | Y27: end of line
A28: IT Savings | V28: 0 | W28: 0 | X28: -6 | Y28: end of line
A29: Administrative Efficiencies | V29: 0 | W29: -3 | X29: -1000 | Y29: end of line
A30: Subtotal Offsets | V30: =SUM(V28:V29) -> 0 | W30: =SUM(W28:W29) -> -3 | X30: =SUM(X28:X29) -> -1006
A31: Total Program Changes | V31: =SUM(V30) -> 0 | W31: =SUM(W30) -> -3 | X31: =SUM(X30) -> -1006 | Y31: end of line
A32: 2013 Total Request | V32: =V25+V31 -> 85 | W32: =W25+W31 -> 84 | X32: =X25+X31 -> 12772 | Y32: end of line
A33: 2012 - 2013 Total Change | V33: =+V32-V14 -> 0 | W33: =+W32-W14 -> -3 | X33: =+X32-X16 -> -61 | Y33: end of line
Y34: end of line
A35: NOTE: All FTE numbers in this table reflect authorized FTE, which is the total number of FTE available to a component. Because the FY 2013 President’s Budget Appendix builds the FTE request using actual FTE rather than authorized, it may not match the FY 2012 FTE enacted and FY 2013 FTE request reflected in this table. | Y35: end of line
Y36: end of line
Y37: end of line
Y38: end of line
Y39: end of line
Y40: end of line
...

Sheet C. Increases Offsets
A1: C: Program Increases/Offsets By Decision Unit | H1: end of line
H2: end of line
H3: end of line
A4: FY 2013 Program Increases/Offsets By Decision Unit | H4: end of line
A5: ='B. Summary of Requirements '!A43 -> United States Parole Commission | H5: end of line
A6: (Dollars in Thousands) | H6: end of line
H7: end of line
H8: end of line
A9: Program Offsets | B9: Location of Description by Decision Unit | C9: United States Parole Commission | G9: Total Offsets | H9: end of line
C10: Pos. | D10: Agt./Atty. | E10: FTE | F10: Amount | H10: end of line
A11: IT Savings | B11: USPC | C11: 0 | D11: 0 | E11: 0 | F11: -6 | G11: =+F11 -> -6 | H11: end of line
A12: Administrative Efficiencies | B12: USPC | C12: 0 | D12: 0 | E12: -3 | F12: -1000 | G12: =+F12 -> -1000 | H12: end of line
A13: Total Offsets | C13: =SUM(C11:C12) -> 0 | D13: =SUM(D11:D12) -> 0 | E13: =SUM(E11:E12) -> -3 | F13: =SUM(F11:F12) -> -1006 | G13: =SUM(G11:G12) -> -1006 | H13: end of sheet

Sheet D. Strategic Goals & Objectives
A1: D: Resources by DOJ Strategic Goal and Strategic Objective | Q1: end of line
Q2: end of line
A3: Resources by Department of Justice Strategic Goal/Objective | Q3: end of line
A4: ='B. Summary of Requirements '!A5:X5 -> United States Parole Commission | Q4: end of line
A5: (Dollars in Thousands) | Q5: end of line
Q6: end of line
Q7: end of line
C8: 2011 Appropriation Enacted | F8: 2012 Enacted | I8: 2013 Current Services | K8: 2013 | O8: 2013 Request | Q8: end of line
K9: Increases | M9: Offsets | Q9: end of line
A10: Strategic Goal and Strategic Objective | Q10: end of line
C11: Direct, Reimb. Other FTE | D11: Direct Amount $000s | F11: Direct, Reimb. Other FTE | G11: Direct Amount $000s | I11: Direct, Reimb. Other FTE | J11: Direct Amount $000s | K11: Direct, Reimb. Other FTE | L11: Direct Amount $000s | M11: Direct, Reimb. Other FTE | N11: Direct Amount $000s | O11: Direct, Reimb. Other FTE | P11: Direct Amount $000s | Q11: end of line
Q12: end of line
A13: Goal 1: Prevent Terrorism and Promote the Nation's Security Consistent with the Rule of Law | Q13: end of line
A14: 1.1 Prevent, disrupt, and defeat terrorist operations before they occur | I14: =+F14+C14 -> 0 | J14: =+G14+D14 -> 0 | O14: =+I14+K14+M14 -> 0 | P14: =+J14+L14+N14 -> 0 | Q14: end of line
A15: 1.2 Prosecute those involved in terrorist acts | I15: =+F15+C15 -> 0 | J15: =+G15+D15 -> 0 | O15: =+I15+K15+M15 -> 0 | P15: =+J15+L15+N15 -> 0 | Q15: end of line
A16: 1.3 Combat espionage against the United States | I16: =+F16+C16 -> 0 | J16: =+G16+D16 -> 0 | O16: =+I16+K16+M16 -> 0 | P16: =+J16+L16+N16 -> 0 | Q16: end of line
A17: Subtotal, Goal 1 | C17: =SUM(C14:C16) -> 0 | D17: =SUM(D14:D16) -> 0 | F17: =SUM(F14:F16) -> 0 | G17: =SUM(G14:G16) -> 0 | I17: =SUM(I14:I16) -> 0 | J17: =SUM(J14:J16) -> 0 | K17: =SUM(K14:K16) -> 0 | L17: =SUM(L14:L16) -> 0 | M17: =SUM(M14:M16) -> 0 | N17: =SUM(N14:N16) -> 0 | O17: =SUM(O14:O16) -> 0 | P17: =SUM(P14:P16) -> 0 | Q17: end of line
Q18: end of line
A19: Goal 2: Prevent Crime, Protect the Rights of the American People, and Enforce Federal Law | Q19: end of line
A20: 2.1 Combat the threat, incidence, and prevalence of violent crime | I20: =+F20+C20 -> 0 | J20: =+G20+D20 -> 0 | O20: =+I20+K20+M20 -> 0 | P20: =+J20+L20+N20 -> 0 | Q20: end of line
A21: 2.2 Prevent and intervene in crimes against vulnerable populations, uphold the rights of, and improve services to, America's crime victims | I21: =+F21+C21 -> 0 | J21: =+G21+D21 -> 0 | O21: =+I21+K21+M21 -> 0 | P21: =+J21+L21+N21 -> 0 | Q21: end of line
A22: 2.3 Combat the threat, trafficking, and use of illegal drugs and the diversion of licit drugs | I22: =+F22+C22 -> 0 | J22: =+G22+D22 -> 0 | O22: =+I22+K22+M22 -> 0 | P22: =+J22+L22+N22 -> 0 | Q22: end of line
A23: 2.4 Combat corruption, economic crimes, and international organized crime | I23: =+F23+C23 -> 0 | J23: =+G23+D23 -> 0 | O23: =+I23+K23+M23 -> 0 | P23: =+J23+L23+N23 -> 0 | Q23: end of line
A24: 2.5 Promote and protect Americans' civil rights | I24: =+F24+C24 -> 0 | J24: =+G24+D24 -> 0 | O24: =+I24+K24+M24 -> 0 | P24: =+J24+L24+N24 -> 0 | Q24: end of line
A25: 2.6 Protect the federal fisc and defend the interests of the United States | I25: =+F25+C25 -> 0 | J25: =+G25+D25 -> 0 | O25: =+I25+K25+M25 -> 0 | P25: =+J25+L25+N25 -> 0 | Q25: end of line
A26: Subtotal, Goal 2 | C26: =SUM(C20:C25) -> 0 | D26: =SUM(D20:D25) -> 0 | F26: =SUM(F20:F25) -> 0 | G26: =SUM(G20:G25) -> 0 | I26: =SUM(I20:I25) -> 0 | J26: =SUM(J20:J25) -> 0 | K26: =SUM(K20:K25) -> 0 | L26: =SUM(L20:L25) -> 0 | M26: =SUM(M20:M25) -> 0 | N26: =SUM(N20:N25) -> 0 | O26: =SUM(O20:O25) -> 0 | P26: =SUM(P20:P25) -> 0 | Q26: end of line
Q27: end of line
A28: Goal 3: Ensure and Support the Fair, Impartial, Efficient, and Transparent Administration of Justice at the Federal, State, Local, Tribal and International Levels | Q28: end of line
A29: 3.1 Promote and strengthen relationships and strategies for the administration of justice with state, local, tribal and international law enforcement | I29: =+F29+C29 -> 0 | J29: =+G29+D29 -> 0 | O29: =+I29+K29+M29 -> 0 | P29: =+J29+L29+N29 -> 0 | Q29: end of line
A30: 3.2 Protect judges, witnesses, and other participants in federal proceedings; apprehend fugitives; and ensure the appearance of criminal defendants for judicial proceedings or confinement | I30: =+F30+C30 -> 0 | J30: =+G30+D30 -> 0 | O30: =+I30+K30+M30 -> 0 | P30: =+J30+L30+N30 -> 0 | Q30: end of line
A31: 3.3 Provide for the safe, secure, humane, and cost-effective confinement of detainees awaiting trial and/or sentencing, and those in the custody of the Federal Prison System | C31: 87 | D31: 12833 | F31: 87 | G31: 12833 | I31: 87 | J31: 13778 | M31: -3 | N31: -1006 | O31: =+I31+K31+M31 -> 84 | P31: =+J31+L31+N31 -> 12772 | Q31: end of line
A32: 3.4 Adjudicate all immigration cases promptly and impartially in accordance with due process | I32: =+F32+C32 -> 0 | J32: =+G32+D32 -> 0 | O32: =+I32+K32+M32 -> 0 | P32: =+J32+L32+N32 -> 0 | Q32: end of line
A33: Subtotal, Goal 3 | C33: =SUM(C29:C32) -> 87 | D33: =SUM(D29:D32) -> 12833 | F33: =SUM(F29:F32) -> 87 | G33: =SUM(G29:G32) -> 12833 | I33: =SUM(I29:I32) -> 87 | J33: =SUM(J29:J32) -> 13778 | K33: =SUM(K29:K32) -> 0 | L33: =SUM(L29:L32) -> 0 | M33: =SUM(M29:M32) -> -3 | N33: =SUM(N29:N32) -> -1006 | O33: =SUM(O29:O32) -> 84 | P33: =SUM(P29:P32) -> 12772 | Q33: end of line
Q34: end of line
A35: GRAND TOTAL | C35: =C17+C26+C33 -> 87 | D35: =D17+D26+D33 -> 12833 | F35: =F17+F26+F33 -> 87 | G35: =G17+G26+G33 -> 12833 | I35: =I17+I26+I33 -> 87 | J35: =J17+J26+J33 -> 13778 | K35: =K17+K26+K33 -> 0 | L35: =L17+L26+L33 -> 0 | M35: =M17+M26+M33 -> -3 | N35: =N17+N26+N33 -> -1006 | O35: =O17+O26+O33 -> 84 | P35: =P17+P26+P33 -> 12772 | Q35: end of sheet

Sheet E. ATB Justification
A1: E. Justification for Base Adjustments | J1: end of line
J2: end of line
A3: Justification for Base Adjustments | J3: end of line
A4: =+'B. Summary of Requirements '!A5 -> United States Parole Commission | J4: end of line
J5: end of line
G6: POS | H6: FTE | I6: Amount
A7: Transfers | J7: end of line
J8: end of line
A9: JCON and JCON S/TS. A transfer of $38,000 is included in support of the Department's Justice Consolidated Office Network (JCON) and JCON S/TS prowhich will be moved to the Working Capital Fund and provided as a billable service in FY 2013. | G9: 0 | H9: 0 | I9: 38 | J9: end of line
A10: Increases | J10: end of line
J11: end of line
A12: 2013 Pay Raise. This request provides for a proposed 0.5 percent pay raise to be effective in January of 2013. The increase only includes the general pay raise. The amount request, $34,000, represents the pay amounts for 3/4 of the fiscal year plus appropriate benefits ($24,000 for pay and $10,000 for benefits.) | G12: 0 | H12: 0 | I12: 34 | J12: end of line
J13: end of line
A14: Retirement. Agency retirement contributions increase as employees under CSRS retire and are replaced by FERS employees. Based on OPM government-wide estimates, we project that the DOJ workforce will convert from CSRS to FERS at a rate of 1.3 percent per year. The requested increase of $19,000 is necessary to meet our increased retirement obligations as a result of this conversion. | G14: 0 | H14: 0 | I14: 19 | J14: end of line
J15: end of line
A16: Employees Compensation Fund. The $6,000 decrease reflects payments to the Department of Labor for injury benefits paid in the past year under the Federal Employee Compensation Act. This estimate is based on the first quarter of prior year billing and current year estimates. | G16: 0 | H16: 0 | I16: -6 | J16: end of line
A17: FERS Rate Increase. On June 11, 2010, the Board of Actuaries of the Civil Service Retirement System recommended a new set of economic assumptions for the Civil Service Retirement System (CSRS) and the Federal Employees Retirement System (FERS). In accordance with this change, effective October 1, 2011 (FY 2012), the total Normal Cost of Regular retirement under FERS will increase from the current level of 12.5% to 12.7%. The total FERS contribution for Law enforcement retirement will increase from 27.0% to 27.6%. This will result in new agency contribution rates of 11.9% for normal costs (up from the current 11.7%) and 26.3% for law enforcement personnel (up from the current 25.7%). The amount requested, $11,000,represents the funds needed to cover this increase. | G17: 0 | H17: 0 | I17: 11
J18: end of line
A19: Health Insurance. Effective January 2013, this component's contribution to Federal employees' health insurance premiums increased by 15.3 percent. Applied against the 2012 estimate of $361,000, the additional amount required is $55,000. | G19: 0 | H19: 0 | I19: 55 | J19: end of line
J20: end of line
A21: Changes in Compensable Days. The decreased cost for one compensable day in FY 2013 compared to FY 2012 is calculated by dividing the FY 2012 estimated personnel compensation $8,057,000 and applicable benefits $1,697,000 by 261 compensable days. | G21: 0 | H21: 0 | I21: 38 | J21: end of line
A23: General Services Administration (GSA) Rent. GSA will continue to charge rental rates that approximate those charged to commercial tenants for equivalent space and related services. The requested increase of $607,000 is required to meet our commitment to GSA. The costs associated with GSA rent were derived through the use of an automated system, which uses the latest inventory data, including rate increases to be effective in FY 2013 for each building currently occupied by Department of Justice components, as well as the costs of new space to be occupied. GSA provided data on the rate increases. | G23: 0 | H23: 0 | I23: 607 | J23: end of line
J24: end of line
A25: Security Charges. Guard Service includes those costs paid directly by DOJ and those paid to Department of Homeland Security (DHS). The requested increase of $149,000 is required to meet our commitment to DHS, and other security costs. | G25: 0 | H25: 0 | I25: 149 | J25: end of line
F26: Total Increase: | G26: =SUM(G13:G25)+G9 -> 0 | H26: =SUM(H13:H25)+H9 -> 0 | I26: =SUM(I12:I25) -> 907 | J26: end of line
J27: end of line
F28: Total ATB: | G28: =+G26 -> 0 | H28: =+H26 -> 0 | I28: =+I9+I26 -> 945 | J28: end of sheet

Sheet F. 2011 Crosswalk
A1: F: Crosswalk of 2011 Availability | P1: end of line
P2: end of line
A3: Crosswalk of 2011 Availability | P3: end of line
A4: =+'B. Summary of Requirements '!A5 -> United States Parole Commission | P4: end of line
A5: =+'B. Summary of Requirements '!A6 -> Salaries and Expenses | P5: end of line
A6: (Dollars in Thousands) | P6: end of line
P7: end of line
P8: end of line
A9: Decision Unit | B9: FY 2011 Without Balance Rescissions | E9: Balance Rescissions | H9: Reprogrammings / Transfers | K9: Carryover | L9: Recoveries | M9: 2011 Availability | P9: end of line
P10: end of line
B11: Pos. | C11: FTE | D11: Amount | E11: Pos. | F11: FTE | G11: Amount | H11: Pos. | I11: FTE | J11: Amount | K11: Amount | L11: Amount | M11: Pos. | N11: FTE | O11: Amount | P11: end of line
A12: United States Parole Commission | B12: 85 | C12: 87 | D12: 12833 | E12: 0 | F12: 0 | G12: 0 | H12: 0 | I12: 0 | J12: 0 | M12: =B12+E12+H12 -> 85 | N12: =C12+F12+I12 -> 87 | O12: =D12+G12+J12+K12+L12 -> 12833 | P12: end of line
A13: TOTAL | B13: =SUM(B12:B12) -> 85 | C13: =SUM(C12:C12) -> 87 | D13: =SUM(D12:D12) -> 12833 | E13: =SUM(E12:E12) -> 0 | F13: =SUM(F12:F12) -> 0 | G13: =SUM(G12:G12) -> 0 | H13: =SUM(H12:H12) -> 0 | I13: =SUM(I12:I12) -> 0 | ... O13: =SUM(O12:O12) -> 12833 | P13: end of line
A14: Total Compensable FTE | C14: =C13 -> 87 | F14: =F13 -> 0 | I14: =I13 -> 0 | N14: =N13 -> 87 | P14: end of line
P15: end of sheet

Sheet G. 2012 Crosswalk
A1: G: Crosswalk of 2012 Availability | S1: end of line
S2: end of line
A3: Crosswalk of 2012 Availability | S3: end of line
A4: =+'B. Summary of Requirements '!A5 -> United States Parole Commission | S4: end of line
A5: =+'B. Summary of Requirements '!A6 -> Salaries and Expenses | S5: end of line
A6: (Dollars in Thousands) | S6: end of line
S7: end of line
S8: end of line
A9: Decision Unit | B9: FY 2012 Enacted Without Rescissions | E9: Rescissions | H9: Supplementals | K9: Reprogrammings / Transfers | N9: Carryover | O9: Recoveries | P9: 2012 Availability | S9: end of line
S10: end of line
B11: Pos. | C11: FTE | D11: Amount | E11: Pos. | F11: FTE | G11: Amount | H11: Pos. | I11: FTE | J11: Amount | K11: Pos. | L11: FTE | M11: Amount | N11: Amount | O11: Amount | P11: Pos. | Q11: FTE | R11: Amount | S11: end of line
A12: United States Parole Commission | B12: 85 | C12: 87 | D12: 12833 | E12: 0 | F12: 0 | G12: 0 | K12: 0 | L12: 0 | M12: 0 | N12: 0 | O12: 0 | P12: =B12+E12+H12+K12 -> 85 | Q12: =C12+F12+I12+L12 -> 87 | R12: =D12+G12+J12+M12+N12+O12 -> 12833 | S12: end of line
A13: TOTAL | B13: =SUM(B12:B12) -> 85 | C13: =SUM(C12:C12) -> 87 | D13: =SUM(D12:D12) -> 12833 | E13: =SUM(E12:E12) -> 0 | F13: =SUM(F12:F12) -> 0 | G13: =SUM(G12:G12) -> 0 | H13: =SUM(H12:H12) -> 0 | I13: =SUM(I12:I12) -> 0 | ... R13: =SUM(R12:R12) -> 12833 | S13: end of line
A14: Total Compensable FTE | C14: =C13 -> 87 | F14: =F13 -> 0 | I14: =#REF!+#REF!+#REF! -> #REF! | L14: =L13 -> 0 | Q14: =Q13 -> 87 | S14: end of sheet

Sheet H. Reimbursable Resources
A1: H: Summary of Reimbursable Resources | O1: end of line
O2: end of line
A3: Summary of Reimbursable Resources | O3: end of line
A4: =+'B. Summary of Requirements '!A5 -> United States Parole Commission | O4: end of line
A5: =+'B. Summary of Requirements '!A6 -> Salaries and Expenses | O5: end of line
A6: (Dollars in Thousands) | O6: end of line
O7: end of line
A8: Collections by Source | C8: 2011 Enacted | F8: 2012 Planned | I8: 2013 Request | L8: Increase/Decrease | O8: end of line
C9: Pos. | D9: FTE | E9: Amount | F9: Pos. | G9: FTE | H9: Amount | I9: Pos. | J9: FTE | K9: Amount | L9: Pos. | M9: FTE | N9: Amount | O9: end of line
A10: Office of Victims of Crime | E10: 7 | H10: 68 | K10: 0 | L10: =I10-F10 -> 0 | M10: =J10-G10 -> 0 | N10: =K10-H10 -> -68 | O10: end of line
O11: end of line
A12: Budgetary Resources: | C12: =SUM(C10:C11) -> 0 | D12: =SUM(D10:D11) -> 0 | E12: =SUM(E10:E11) -> 7 | F12: =SUM(F10:F11) -> 0 | G12: =SUM(G10:G11) -> 0 | H12: =SUM(H10:H11) -> 68 | I12: =SUM(I10:I11) -> 0 | J12: =SUM(J10:J11) -> 0 | ... N12: =SUM(N10:N11) -> -68 | O12: end of sheet

Sheet I. Permanent Positions
A1: I: Detail of Permanent Positions by Category | L1: end of line
L2: end of line
L3: end of line
A4: Detail of Permanent Positions by Category | L4: end of line
A5: =+'B. Summary of Requirements '!A5 -> United States Parole Commission | L5: end of line
A6: =+'B. Summary of Requirements '!A6 -> Salaries and Expenses | L6: end of line
L7: end of line
L8: end of line
A9: Category | B9: 2011 Enacted | D9: 2012 Enacted | F9: 2013 Request | L9: end of line
B10: Total Authorized | C10: Total Reimbursable | D10: Total Authorized | E10: Total Reimbursable | F10: ATBs | G10: Program Increases | H10: Program Decreases | I10: Total Pr. Changes | J10: Total Authorized | K10: Total Reimbursable | L10: end of line
L11: end of line
A12: Commissioners (185) | B12: 5 | D12: 5 | J12: 5 | L12: end of line
A13: Clerical and Office Services (300-399) | B13: 34 | D13: 34 | J13: 34 | L13: end of line
A14: Accounting and Budget (500-599) | B14: 2 | D14: 2 | J14: 2 | L14: end of line
A15: Attorneys (905) | B15: 7 | D15: 7 | J15: 7 | L15: end of line
A16: Case Analysts (101) | B16: 18 | D16: 18 | J16: 18 | L16: end of line
A17: Hearing Examiners (101) | B17: 12 | D17: 12 | J17: 12 | L17: end of line
A18: Information Technology Mgmt (2210) | B18: 7 | D18: 7 | J18: 7 | L18: end of line
A19: Total | B19: =SUM(B12:B18) -> 85 | C19: =SUM(C12:C18) -> 0 | D19: =SUM(D12:D18) -> 85 | E19: =SUM(E12:E18) -> 0 | F19: =SUM(F12:F18) -> 0 | G19: =SUM(G12:G18) -> 0 | H19: =SUM(H12:H18) -> 0 | I19: =SUM(I12:I18) -> 0 | ... K19: =SUM(K12:K18) -> 0 | L19: end of line
A20: Headquarters (Washington, D.C.) | B20: 85 | D20: 85 | I20: =G20+H20 -> 0 | J20: =D20+F20+I20 -> 85 | K20: =SUM(K13:K19) -> 0
A21: U.S. Field | L21: end of line
A22: Foreign Field | I22: =G22+H22 -> 0 | J22: =D22+F22+I22 -> 0 | L22: end of line
A23: Total | B23: =SUM(B20:B22) -> 85 | C23: =SUM(C20:C22) -> 0 | D23: =SUM(D20:D22) -> 85 | E23: =SUM(E20:E22) -> 0 | F23: =SUM(F20:F22) -> 0 | G23: =SUM(G20:G22) -> 0 | H23: =SUM(H20:H22) -> 0 | I23: =SUM(I20:I22) -> 0 | ... K23: =SUM(K20:K22) -> 0 | L23: end of sheet

Sheet J. Financial Analysis
A1: J: Financial Analysis of Program Changes | H1: end of line
H2: end of line
A3: Financial Analysis of Program Changes | H3: end of line
A4: =+'B. Summary of Requirements '!A5 -> United States Parole Commission | H4: end of line
A5: =+'B. Summary of Requirements '!A6 -> Salaries and Expenses | H5: end of line
A6: (Dollars in Thousands) | H6: end of line
H7: end of line
B8: United States Parole Commission | F8: Program Changes | H8: end of line
B9: IT Savings Offset | D9: Administrative Efficiencies Offset | H9: end of line
B10: FTE | C10: Amount | D10: FTE | E10: Amount | F10: FTE | G10: Amount | H10: end of line
A11: Other personnel compensation | B11: 0 | C11: 0 | D11: -3 | E11: -477 | F11: =SUM(B11,D11) -> -3 | G11: =SUM(C11,E11) -> -477 | H11: end of line
H12: end of line
A13: Total FTE & personnel compensation | B13: =SUM(B11:B11) -> 0 | C13: =SUM(C11:C11) -> 0 | D13: =SUM(D11:D11) -> -3 | E13: =SUM(E11:E11) -> -477 | F13: =SUM(F11:F11) -> -3 | G13: =SUM(G11:G11) -> -477 | H13: end of line
A14: Other services | E14: -265 | F14: =SUM(B14,D14) -> 0 | G14: =SUM(C14,E14) -> -265 | H14: end of line
A15: Supplies and materials | C15: -3 | E15: -50 | F15: =SUM(B15,D15) -> 0 | G15: =SUM(C15,E15) -> -53 | H15: end of line
A16: Equipment | C16: -3 | E16: -208 | F16: =SUM(B16,D16) -> 0 | G16: =SUM(C16,E16) -> -211 | H16: end of line
A17: Total, 2013 Program Changes Requested | B17: =SUM(B13:B16) -> 0 | C17: =SUM(C13:C16) -> -6 | D17: =SUM(D13:D16) -> -3 | E17: =SUM(E13:E16) -> -1000 | F17: =SUM(F13:F16) -> -3 | G17: =SUM(G13:G16) -> -1006 | H17: end of sheet

Sheet K. Summary by Grade
A1: K: Summary of Requirements by Grade | J1: end of line
J2: end of line
J3: end of line
A4: Summary of Requirements by Grade | J4: end of line
A5: =+'B. Summary of Requirements '!A5 -> United States Parole Commission | J5: end of line
A6: =+'B. Summary of Requirements '!A6 -> Salaries and Expenses | J6: end of line
J7: end of line
J8: end of line
A9: Grades and Salary Ranges | B9: 2011 Enacted w/Rescissions | D9: 2012 Enacted | F9: 2013 Request | H9: Increase/Decrease | J9: end of line
J10: end of line
B11: Pos. | C11: Amount | D11: Pos. | E11: Amount | F11: Pos. | G11: Amount | H11: Pos. | I11: Amount | J11: end of line
A12: SES, $119,554 - 179,700 | B12: 5 | D12: 5 | F12: 5 | H12: =F12-D12 -> 0 | J12: end of line
A13: GS-15, $123,758 - 155,500 | B13: 6 | D13: 6 | F13: 6 | H13: =F13-D13 -> 0 | J13: end of line
A14: GS-14, $105,211 - 136,771 | B14: 14 | D14: 14 | F14: 14 | H14: =F14-D14 -> 0 | J14: end of line
A15: GS-13, $89,033 - 115,742 | B15: 9 | D15: 9 | F15: 9 | H15: =F15-D15 -> 0 | J15: end of line
A16: GS-12, $74,872 - 97,333 | B16: 10 | D16: 10 | F16: 10 | H16: =F16-D16 -> 0 | J16: end of line
A17: GS-11, $62,467 - 81,204 | B17: 6 | D17: 6 | F17: 6 | H17: =F17-D17 -> 0 | J17: end of line
A18: GS-10, $56,857 - 73,917 | B18: 1 | D18: 1 | F18: 1 | H18: =F18-D18 -> 0 | J18: end of line
A19: GS-9, $51,630 - 67,114 | B19: 9 | D19: 9 | F19: 9 | H19: =F19-D19 -> 0 | J19: end of line
A20: GS-8, $46,745 - 60,765 | B20: 4 | D20: 4 | F20: 4 | H20: =F20-D20 -> 0 | J20: end of line
A21: GS-7, $42,209 - 54,875 | B21: 9 | D21: 9 | F21: 9 | H21: =F21-D21 -> 0 | J21: end of line
A22: GS-6, $37,983 - 49,375 | B22: 9 | D22: 9 | F22: 9 | H22: =F22-D22 -> 0 | J22: end of line
A23: GS-5, $34,075 - 44,293 | B23: 3 | D23: 3 | F23: 3 | H23: =F23-D23 -> 0 | J23: end of line
... A27: GS-1, $22,115 - 27,663 | B27: 0 | D27: 0 | F27: 0 | H27: =F27-D27 -> 0 | J27: end of line
A28: Total, Appropriated Positions | B28: =SUM(B12:B27) -> 85 | D28: =SUM(D12:D27) -> 85 | F28: =SUM(F12:F27) -> 85 | H28: =SUM(H12:H27) -> 0 | J28: end of line
A29: Average SES Salary | C29: 149627 | E29: 149627 | G29: 149627 | J29: end of line
A30: Average GS Salary | C30: 80364 | E30: 80364 | G30: =(80364*0.5%)+80364 -> 80765.82 | J30: end of line
A31: Average GS Grade | C31: 12 | E31: 12 | G31: 12 | J31: end of sheet

Sheet L. Summary by Object Class
A1: L: Summary of Requirements by Object Class | M1: end of line
M2: end of line
A3: Summary of Requirements by Object Class | M3: end of line
A4: =+'B. Summary of Requirements '!A5 -> United States Parole Commission | M4: end of line
A5: =+'B. Summary of Requirements '!A6 -> Salaries and Expenses | M5: end of line
A6: (Dollars in Thousands) | M6: end of line
M7: end of line
A8: Object Classes | B8: 2011 Actuals | D8: 2012 Enacted | F8: 2013 Request | H8: Increase/Decrease | M8: end of line
B9: FTE | C9: Amount | D9: FTE | E9: Amount | F9: FTE | G9: Amount | H9: FTE | I9: Amount | M9: end of line
A10: 11.1 Direct FTE & personnel compensation | B10: 80 | C10: 5679 | D10: 80 | E10: 6751 | F10: 80 | G10: 6694 | H10: =F10-D10 -> 0 | I10: =G10-E10 -> -57 | M10: end of line
A11: 11.3 Other than full-time permanent | B11: 5 | C11: 884 | D11: 5 | E11: 1195 | F11: 4 | G11: 927 | H11: =F11-D11 -> -1 | I11: =G11-E11 -> -268 | J11: atb | K11: enhance | M11: end of line
A12: 11.5 Total, Other personnel compensation | B12: 2 | C12: 111 | D12: 2 | E12: 31 | F12: 0 | G12: 31 | H12: =F12-D12 -> -2 | I12: =G12-E12 -> 0 | J12: 93 | M12: end of line
A13: Overtime | C13: 20 | E13: 20 | G13: 20 | H13: =F13-D13 -> 0 | I13: =G13-E13 -> 0 | M13: end of line
A14: Other Compensation | C14: 91 | E14: 11 | G14: 11 | H14: =F14-D14 -> 0 | I14: =G14-E14 -> 0 | M14: end of line
A15: 11.8 Special personal services payments | H15: =F15-D15 -> 0 | I15: =G15-E15 -> 0 | M15: end of line
A16: Total | B16: =+B10+B11+B12+B15 -> 87 | C16: =+C10+C11+C12+C15 -> 6674 | D16: =+D10+D11+D12+D15 -> 87 | E16: =+E10+E11+E12+E15 -> 7977 | F16: =+F10+F11+F12+F15 -> 84 | G16: =+G10+G11+G12+G15 -> 7652 | H16: =+H10+H11+H12+H15 -> -3 | I16: =+I10+I11+I12+I15 -> -325 | J16: =697+630+957+2333 -> 4617 | K16: =2451-93 -> 2358 | L16: =+E16-G16 -> 325 | M16: end of line
A17: Other Object Classes: | M17: end of line
A18: 12.0 Personnel benefits | C18: 2058 | E18: 2339 | G18: 2281 | I18: =G18-E18 -> -58 | J18: 359 | K18: =1171+93 -> 1264 | L18: =+E18-G18 -> 58 | M18: end of line
A19: 21.0 Travel and transportation of persons | C19: 163 | E19: 163 | G19: 163 | I19: =G19-E19 -> 0 | K19: 110 | L19: =+E19-G19 -> 0 | M19: end of line
A20: 22.0 Transportation of things | C20: 46 | E20: 47 | G20: 47 | I20: =G20-E20 -> 0 | K20: 0 | L20: =+E20-G20 -> 0 | M20: end of line
A21: 23.1 GSA rent | C21: 171 | E21: 48 | G21: 1536 | I21: =G21-E21 -> 1488 | J21: =4220-576 -> 3644 | L21: =+E21-G21 -> -1488 | M21: end of line
A22: 23.2 Moving/Lease Expirations/Contract Parking | C22: 990 | E22: 894 | G22: 60 | I22: =G22-E22 -> -834 | L22: =+E22-G22 -> 834 | M22: end of line
A23: 23.3 Comm., util., & other misc. charges | C23: 88 | E23: 118 | G23: 98 | I23: =G23-E23 -> -20 | J23: 332 | K23: 175 | L23: =+E23-G23 -> 20 | M23: end of line
A24: 24.0 Printing and reproduction | C24: 2 | E24: 2 | G24: 2 | I24: =G24-E24 -> 0 | L24: =+E24-G24 -> 0 | M24: end of line
A25: 25.2 Other services | C25: 2064 | E25: 920 | G25: 863 | I25: =G25-E25 -> -57 | J25: 276 | K25: 14853 | L25: =+E25-G25 -> 57 | M25: end of line
A26: 26.0 Supplies and materials | C26: 122 | E26: 89 | G26: 25 | I26: =G26-E26 -> -64 | K26: 85 | L26: =+E26-G26 -> 64 | M26: end of line
A27: 31.0 Equipment | C27: 294 | E27: 236 | G27: 45 | I27: =G27-E27 -> -191 | K27: 37758 | L27: =+E27-G27 -> 191 | M27: end of line
A28: Total obligations | C28: =SUM(C16:C27) -> 12672 | E28: =SUM(E16:E27) -> 12833 | G28: =SUM(G16:G27) -> 12772 | I28: =SUM(I16:I27) -> -61 | J28: =SUM(J12:J27) -> 9321 | K28: =SUM(K16:K27) -> 56603 | L28: =+E28-G28 -> 61 | M28: end of line
A29: Unobligated balance, start of year | M29: end of line
A30: Unobligated balance, end of year | C30: 161 | M30: end of line
A31: Recoveries of prior year obligations | M31: end of line
A32: Total DIRECT requirements | C32: =SUM(C28:C31) -> 12833 | E32: =SUM(E28:E31) -> 12833 | G32: =SUM(G28:G31) -> 12772 | M32: end of line
A34: Reimbursable FTE: | M34: end of line
A35: Full-time permanent | B35: 0 | C35: 0 | D35: 0 | E35: 0 | F35: 0 | G35: 0 | M35: end of line
A36: 23.1 GSA rent (Reimbursable) | C36: 0 | E36: 0 | G36: 0 | M36: end of line
A37: 25.3 DHS Security (Reimbursable) | C37: 0 | E37: 0 | G37: 0 | M37: end of line
M38: end of sheet
A191: 2012 template

Sheet M. Studies
A1: M. Status of Congressionally Requested Studies, Reports, and Evaluations | K1: end of line
K2: end of line
K3: end of line
K4: end of line
A5: United States Parole Commission | K5: end of line
K6: end of line
A7: Salaries and Expenses | K7: end of line
A8: (Dollars in Thousands) | K8: end of line
K9: end of line
K10: end of line
A11: Status of Congressionally Requested Studies, Reports, and Evaluations | K11: end of line
K12: end of line
K13: end of line
A14: The United States Parole Commission Extension Act of 2011, Sec. 3. requires the Parole Commission to provide to the Committees on the Judiciary of the Senate and House of Representatives a detailed report on a number of programmatic and statistical questions. Target response to the Committees, April 2012. | K14: end of line
K15: end of line
K16: end of line
K17: end of line
K18: end of sheet
