Workbook
Name _11POS_BY_CAT: #REF!
Name _11POS_BY_CAT: #REF!
Name _11POS_BY_CAT: #REF!
Name _1ATTORNEY_SUPP: #REF!
Name _1ATTORNEY_SUPP: #REF!
Name _1ATTORNEY_SUPP: #REF!
Name _2ATTORNEY_SUPP: #REF!
Name _2ATTORNEY_SUPP: #REF!
Name _2GA_ROLLUP: #REF!
Name _3POS_BY_CAT: #REF!
Name _6GA_ROLLUP: #REF!
Name _7GA_ROLLUP: #REF!
Name _9POS_BY_CAT: #REF!
Name DL: #REF!
Name EXECSUPP: #REF!
Name FY0711.1: #REF!
Name FY0711.5: #REF!
Name FY0712.1: #REF!
Name FY0721.0: #REF!
Name FY0722.0: #REF!
Name FY0723.1: #REF!
Name FY0723.2: #REF!
Name FY0723.3: #REF!
Name FY0724.0: #REF!
Name FY0725.2: #REF!
Name FY0725.3: #REF!
Name FY0725.6: #REF!
Name FY0726.0: #REF!
Name FY0731.0: #REF!
Name FY0732.0: #REF!
Name FY07Ling: #REF!
Name FY07Mult: #REF!
Name FY07PEPI: #REF!
Name FY07Tot: #REF!
Name FY07Train: #REF!
Name FY0811.1: #REF!
Name FY0811.5: #REF!
Name FY0812.1: #REF!
Name FY0821.0: #REF!
Name FY0822.0: #REF!
Name FY0823.1: #REF!
Name FY0823.2: #REF!
Name FY0823.3: #REF!
Name FY0824.0: #REF!
Name FY0825.2: #REF!
Name FY0825.3: #REF!
Name FY0825.6: #REF!
Name FY0826.0: #REF!
Name FY0831.0: #REF!
Name FY0832.0: #REF!
Name FY08Ling: #REF!
Name FY08Mult: #REF!
Name FY08PEPI: #REF!
Name FY08Tot: #REF!
Name FY08Train: #REF!
Name FY0911.1: #REF!
Name FY0911.5: #REF!
Name FY0912.1: #REF!
Name FY0921.0: #REF!
Name FY0922.0: #REF!

Sheet B. Summ of Req.
A1: Summary of Requirements | E1: end of line
A2: Office on Violence Against Women | E2: end of line
A3: Grant Programs | E3: end of line
A4: (Dollars in Thousands) | E4: end of line
E5: end of line
B6: FY 2014 Request | E6: end of line
B7: Direct Pos. | C7: Estimate FTE | D7: Amount | E7: end of line
A8: 2012 Enacted | B8: 0 | C8: 0 | D8: 412500 | E8: end of line
A9: 2012 Balance Rescission (if applicable) | D9: -15000 | E9: end of line
A10: Total 2012 Enacted (with Balance Rescission) | B10: =SUM(B8:B9) -> 0 | C10: =SUM(C8:C9) -> 0 | D10: =SUM(D8:D9) -> 397500 | E10: end of line
A12: 2013 Continuing Resolution | D12: 412500 | E12: end of line
A13: 2013 CR 0.612% Increase | D13: 2525
A14: 2013 Supplemental Appropriation - Sandy Hurricane Relief | D14: 0 | E14: end of line
A15: Total 2013 Continuing Resolution (with Balance Rescission and Supplemental) | B15: =SUM(B13:B14)+B10 -> 0 | C15: =SUM(C13:C14)+C10 -> 0 | D15: =SUM(D13:D14)+D10 -> 400025 | E15: end of line
E16: end of line
A17: Technical Adjustments | E17: end of line
A18: Supplemental Adjustment - Sandy Hurricane Relief | B18: 0 | C18: 0 | D18: 0 | E18: end of line
A19: Restoration of 2013 Rescission | D19: 15000 | E19: end of line
A20: Adjustment - 2013 CR 0.612% | D20: -2525 | E20: end of line
A21: [List all - if applicable] | B21: 0 | C21: 0 | D21: 0 | E21: end of line
A22: Total Technical Adjustments | B22: =SUM(B18:B21) -> 0 | C22: =SUM(C18:C21) -> 0 | D22: =SUM(D18:D21) -> 12475 | E22: end of line
A23: Base Adjustments | E23: end of line
A24: Transfers: | E24: end of line
A25: [List all - if applicable] | B25: 0 | C25: 0 | D25: 0 | E25: end of line
A26: Pay and Benefits | B26: 0 | C26: 0 | D26: 0 | E26: end of line
A27: Domestic Rent and Facilities | B27: 0 | C27: 0 | D27: 0 | E27: end of line
A28: Other Adjustments | B28: 0 | C28: 0 | D28: 0 | E28: end of line
A29: Foreign Expenses | B29: 0 | C29: 0 | D29: 0 | E29: end of line
A30: Prison and Detention | B30: 0 | C30: 0 | D30: 0 | E30: end of line
A31: Non-Personnel Related Decreases | E31: end of line
A32: [List all - if applicable] | B32: 0 | C32: 0 | D32: 0 | E32: end of line
A33: Total Base Adjustments | B33: =SUM(B25:B32) -> 0 | C33: =SUM(C25:C32) -> 0 | D33: =SUM(D25:D32) -> 0 | E33: end of line
A34: Total Technical and Base Adjustments | B34: =B33+B22 -> 0 | C34: =C33+C22 -> 0 | D34: =D33+D22 -> 12475 | E34: end of line
A35: 2014 Current Services | B35: =B15+B34 -> 0 | C35: =C15+C34 -> 0 | D35: =D15+D34 -> 412500 | E35: end of line
A36: Program Changes | E36: end of line
A37: Increases: | E37: end of line
A38: Rural Domestic Violence & Child Abuse Enforcement Assistance | B38: 0 | C38: 0 | D38: 3500 | E38: end of line
A39: Safe Haven & Court Training/Enhancing Safety for Victims and Their Children in a Family Matter | B39: 0 | C39: 0 | D39: 16000 | E39: end of line
A40: Increase 3 | B40: 0 | C40: 0 | D40: 0 | E40: end of line
A41: Subtotal, Increases | B41: =SUM(B38:B40) -> 0 | C41: =SUM(C38:C40) -> 0 | D41: =SUM(D38:D40) -> 19500 | E41: end of line
...

Sheet B. Summ of Req. by DU
A1: Summary of Requirements | N1: end of line
A2: ='B. Summ of Req.'!A2:D2 -> Office on Violence Against Women | N2: end of line
A3: ='B. Summ of Req.'!A3:D3 -> Grant Programs | N3: end of line
A4: (Dollars in Thousands) | N4: end of line
N5: end of line
N6: end of line
A7: Program Activity | B7: 2012 Appropriation Enacted | E7: 2013 Continuing Resolution * | H7: 2014 Technical and Base Adjustments | K7: 2014 Current Services | N7: end of line
B8: Direct Pos. | C8: Actual FTE | D8: Amount | E8: Direct Pos. | F8: Est. FTE | G8: Amount | H8: Direct Pos. | I8: Est. FTE | J8: Amount | K8: Direct Pos. | L8: Est. FTE | M8: Amount | N8: end of line
A9: Prevention and Prosecution of Violence Against Women | N9: end of line
A10: STOP Program | B10: 0 | C10: 0 | D10: 189000 | E10: 0 | F10: 0 | G10: 190157 | H10: 0 | I10: 0 | J10: =D10-G10 -> -1157 | K10: =E10+H10 -> 0 | L10: =F10+I10 -> 0 | M10: =G10+J10 -> 189000 | N10: end of line
A11: Transitional Housing | B11: 0 | C11: 0 | D11: 25000 | E11: 0 | F11: 0 | G11: 25153 | H11: 0 | I11: 0 | J11: =D11-G11 -> -153 | K11: =E11+H11 -> 0 | L11: =F11+I11 -> 0 | M11: =G11+J11 -> 25000 | N11: end of line
A12: NIJ Research & Development | B12: 0 | C12: 0 | D12: 3000 | E12: 0 | F12: 0 | G12: 3018 | H12: 0 | I12: 0 | J12: =D12-G12 -> -18 | K12: =E12+H12 -> 0 | L12: =F12+I12 -> 0 | M12: =G12+J12 -> 3000 | N12: end of line
A13: Arrest Program | B13: 0 | C13: 0 | D13: 50000 | E13: 0 | F13: 0 | G13: 50306 | H13: 0 | I13: 0 | J13: =D13-G13 -> -306 | K13: =E13+H13 -> 0 | L13: =F13+I13 -> 0 | M13: =G13+J13 -> 50000 | N13: end of line
A14: Sexual Assault Svcs Program | B14: 0 | C14: 0 | D14: 23000 | E14: 0 | F14: 0 | G14: 23141 | H14: 0 | I14: 0 | J14: =D14-G14 -> -141 | K14: =E14+H14 -> 0 | L14: =F14+I14 -> 0 | M14: =G14+J14 -> 23000 | N14: end of line
A15: Homicide Reduction Initiative | B15: 0 | C15: 0 | D15: [4,000] | E15: 0 | F15: 0 | G15: [4,000] | H15: 0 | I15: 0 | J15: 0 | K15: =E15+H15 -> 0 | L15: =F15+I15 -> 0 | M15: [4,000] | N15: end of line
A16: Rural Program | B16: 0 | C16: 0 | D16: 34000 | E16: 0 | F16: 0 | G16: 34208 | H16: 0 | I16: 0 | J16: =D16-G16 -> -208 | K16: =E16+H16 -> 0 | L16: =F16+I16 -> 0 | M16: =G16+J16 -> 34000 | N16: end of line
A17: Campus Program | B17: 0 | C17: 0 | D17: 9000 | E17: 0 | F17: 0 | G17: 9055 | H17: 0 | I17: 0 | J17: =D17-G17 -> -55 | K17: =E17+H17 -> 0 | L17: =F17+I17 -> 0 | M17: =G17+J17 -> 9000 | N17: end of line
A18: Legal Assistance to Victims (LAV) | B18: 0 | C18: 0 | D18: 41000 | E18: 0 | F18: 0 | G18: 41251 | H18: 0 | I18: 0 | J18: =D18-G18 -> -251 | K18: =E18+H18 -> 0 | L18: =F18+I18 -> 0 | M18: =G18+J18 -> 41000 | N18: end of line
A19: Abuse in Later Life Program | B19: 0 | C19: 0 | D19: 4250 | E19: 0 | F19: 0 | G19: 4276 | H19: 0 | I19: 0 | J19: =D19-G19 -> -26 | K19: =E19+H19 -> 0 | L19: =F19+I19 -> 0 | M19: =G19+J19 -> 4250 | N19: end of line
A20: Enhancing Safety for Victims and Their Children in a Family Matter | B20: 0 | C20: 0 | D20: 0 | E20: 0 | F20: 0 | G20: 0 | H20: 0 | I20: 0 | J20: 0 | K20: =E20+H20 -> 0 | L20: =F20+I20 -> 0 | M20: =G20+J20 -> 0 | N20: end of line
A21: Safe Havens: Supervised Visitation Program | B21: 0 | C21: 0 | D21: 11500 | E21: 0 | F21: 0 | G21: 11570 | H21: 0 | I21: 0 | J21: =D21-G21 -> -70 | K21: =E21+H21 -> 0 | L21: =F21+I21 -> 0 | M21: =G21+J21 -> 11500 | N21: end of line
A22: Disabilities Program | B22: 0 | C22: 0 | D22: 5750 | E22: 0 | F22: 0 | G22: 5785 | H22: 0 | I22: 0 | J22: =D22-G22 -> -35 | K22: =E22+H22 -> 0 | L22: =F22+I22 -> 0 | M22: =G22+J22 -> 5750 | N22: end of line
A23: Consolidated Grants Program | B23: 0 | C23: 0 | D23: 10000 | E23: 0 | F23: 0 | G23: 10061 | H23: 0 | I23: 0 | J23: =D23-G23 -> -61 | K23: =E23+H23 -> 0 | L23: =F23+I23 -> 0 | M23: =G23+J23 -> 10000 | N23: end of line
A24: Engaging Men & Youth Program | B24: 0 | C24: 0 | D24: 0 | E24: 0 | F24: 0 | G24: 0 | H24: 0 | I24: 0 | J24: 0 | K24: =E24+H24 -> 0 | L24: =F24+I24 -> 0 | M24: =G24+J24 -> 0 | N24: end of line
A25: Supporting Teens Through Education | B25: 0 | C25: 0 | D25: 0 | E25: 0 | F25: 0 | G25: 0 | H25: 0 | I25: 0 | J25: 0 | K25: =E25+H25 -> 0 | L25: =F25+I25 -> 0 | M25: =G25+J25 -> 0 | N25: end of line
A26: Children & Youth Exposed | B26: 0 | C26: 0 | D26: 0 | E26: 0 | F26: 0 | G26: 0 | H26: 0 | I26: 0 | J26: 0 | K26: =E26+H26 -> 0 | L26: =F26+I26 -> 0 | M26: =G26+J26 -> 0 | N26: end of line
A27: Youth Advocacy | B27: 0 | C27: 0 | D27: 0 | E27: 0 | F27: 0 | G27: 0 | H27: 0 | I27: 0 | J27: 0 | K27: =E27+H27 -> 0 | L27: =F27+I27 -> 0 | M27: =G27+J27 -> 0 | N27: end of line
A28: Court Training & Improvement | B28: 0 | C28: 0 | D28: 4500 | E28: 0 | F28: 0 | G28: 4528 | H28: 0 | I28: 0 | J28: =D28-G28 -> -28 | K28: =E28+H28 -> 0 | L28: =F28+I28 -> 0 | M28: =G28+J28 -> 4500 | N28: end of line
A29: Sexual Assault Clearing House - Indian Country | B29: 0 | C29: 0 | D29: 500 | E29: 0 | F29: 0 | G29: 503 | H29: 0 | I29: 0 | J29: =D29-G29 -> -3 | K29: =E29+H29 -> 0 | L29: =F29+I29 -> 0 | M29: =G29+J29 -> 500 | N29: end of line
A30: Indian Women - Analysis & Research | B30: 0 | C30: 0 | D30: 1000 | E30: 0 | F30: 0 | G30: 1006.5 | H30: 0 | I30: 0 | J30: =D30-G30 -> -6.5 | K30: =E30+H30 -> 0 | L30: =F30+I30 -> 0 | M30: =G30+J30 -> 1000 | N30: end of line
A31: National Resource Center - Workplace Response | B31: 0 | C31: 0 | D31: 1000 | E31: 0 | F31: 0 | G31: 1006 | H31: 0 | I31: 0 | J31: =D31-G31 -> -6 | K31: =E31+H31 -> 0 | L31: =F31+I31 -> 0 | M31: =G31+J31 -> 1000 | N31: end of line
A32: Tribal Government Grants Program | B32: 0 | C32: 0 | D32: [35,270] | E32: 0 | F32: 0 | G32: [35,320] | H32: 0 | I32: 0 | J32: 0 | K32: =E32+H32 -> 0 | L32: =F32+I32 -> 0 | M32: 0 | N32: end of line
A33: Tribal Coalition Grants | B33: 0 | C33: 0 | D33: [3,605] | E33: 0 | F33: 0 | G33: [3,605] | H33: 0 | I33: 0 | J33: 0 | K33: 0 | L33: 0 | M33: 0
A34: OVW Set-Aside for Research and Evaluation -- 2% of discr funds | B34: 0 | C34: 0 | D34: 0 | E34: 0 | F34: 0 | H34: 0 | I34: 0 | J34: 0 | K34: =E34+H34 -> 0 | L34: =F34+I34 -> 0 | M34: [4,030] | N34: end of line
A35: Total Direct | B35: =SUM(B9:B34) -> 0 | C35: =SUM(C9:C34) -> 0 | D35: =SUM(D9:D34) -> 412500 | E35: =SUM(E9:E34) -> 0 | F35: =SUM(F9:F34) -> 0 | G35: =SUM(G9:G34) -> 415024.5 | H35: =SUM(H9:H34) -> 0 | I35: =SUM(I9:I34) -> 0 | ... M35: =SUM(M9:M34) -> 412500 | N35: end of line
A36: Balance Rescission | D36: -15000 | G36: -15000 | J36: 15000 | M36: =G36+J36 -> 0 | N36: end of line
A37: Restoration of 2012 Rescission | J37: 0 | M37: =G37+J37 -> 0 | N37: end of line
A38: Total Direct with Rescission | D38: =SUM(D35:D36) -> 397500 | G38: =SUM(G35:G36) -> 400024.5 | J38: =SUM(J35:J37) -> 12475.5 | M38: =G38+J38 -> 412500 | N38: end of line
A39: Reimbursable FTE | C39: 0 | F39: 0 | I39: 0 | L39: =F39+I39 -> 0 | N39: end of line
A40: Total Direct and Reimb. FTE | C40: =C35+C39 -> 0 | F40: =F35+F39 -> 0 | I40: =I35+I39 -> 0 | L40: =F40+I40 -> 0 | N40: end of line
...

Sheet C. Program Changes by DU
A1: FY 2014 Program Increases/Offsets by Decision Unit | O1: end of line
A2: ='B. Summ of Req.'!A2:D2 -> Office on Violence Against Women | O2: end of line
A3: ='B. Summ of Req.'!A3:D3 -> Grant Programs | O3: end of line
A4: (Dollars in Thousands) | O4: end of line
O5: end of line
A6: Program Increases | B6: Location of Description by Program Activity | G6: Decision Unit 2 | O6: end of line
C7: Direct Pos. | D7: Agt./ Atty. | E7: Est. FTE | F7: Amount | G7: Direct Pos. | H7: Agt./ Atty. | I7: Est. FTE | J7: Amount | O7: end of line
A8: Increase 1 | C8: 0 | D8: 0 | E8: 0 | F8: 0 | G8: 0 | H8: 0 | I8: 0 | J8: 0 | O8: end of line
A9: Increase 2 | C9: 0 | D9: 0 | E9: 0 | F9: 0 | G9: 0 | H9: 0 | I9: 0 | J9: 0 | O9: end of line
A10: Increase 3 | C10: 0 | D10: 0 | E10: 0 | F10: 0 | G10: 0 | H10: 0 | I10: 0 | J10: 0 | O10: end of line
A11: Increase 4 | C11: 0 | D11: 0 | E11: 0 | F11: 0 | G11: 0 | H11: 0 | I11: 0 | J11: 0 | O11: end of line
A12: Total Program Increases | C12: =SUM(C8:C11) -> 0 | D12: =SUM(D8:D11) -> 0 | E12: =SUM(E8:E11) -> 0 | F12: =SUM(F8:F11) -> 0 | G12: =SUM(G8:G11) -> 0 | H12: =SUM(H8:H11) -> 0 | I12: =SUM(I8:I11) -> 0 | J12: =SUM(J8:J11) -> 0 | O12: end of line
O13: end of line
A14: Program Increases | B14: Location of Description by Program Activity | C14: Prevention and Prosecution of Violence Against Women | G14: Decision Unit 4 | K14: Total Increases | O14: end of line
C15: Direct Pos. | D15: Agt./ Atty. | E15: Est. FTE | F15: Amount | G15: Direct Pos. | H15: Agt./ Atty. | I15: Est. FTE | J15: Amount | K15: Direct Pos. | L15: Agt./ Atty. | M15: Est. FTE | N15: Amount | O15: end of line
A16: ='B. Summ of Req.'!A39 -> Safe Haven & Court Training/Enhancing Safety for Victims and Their Children in a Family Matter | C16: 0 | D16: 0 | E16: 0 | F16: 3500 | G16: 0 | H16: 0 | I16: 0 | J16: 0 | K16: =C8+G8+C16+G16 -> 0 | L16: =D8+H8+D16+H16 -> 0 | M16: =E8+I8+E16+I16 -> 0 | N16: =F8+J8+F16+J16 -> 3500 | O16: end of line
A17: ='B. Summ of Req.'!A38 -> Rural Domestic Violence & Child Abuse Enforcement Assistance | C17: 0 | D17: 0 | E17: 0 | F17: 16000 | G17: 0 | H17: 0 | I17: 0 | J17: 0 | K17: =C9+G9+C17+G17 -> 0 | L17: =D9+H9+D17+H17 -> 0 | M17: =E9+I9+E17+I17 -> 0 | N17: =F9+J9+F17+J17 -> 16000 | O17: end of line
A18: OVW Set-Aside for Research and Evaluation -- 2% of discr funds | C18: 0 | D18: 0 | E18: 0 | F18: [4,030] | G18: 0 | H18: 0 | I18: 0 | J18: 0 | K18: =C10+G10+C18+G18 -> 0 | L18: =D10+H10+D18+H18 -> 0 | M18: =E10+I10+E18+I18 -> 0 | N18: 0 | O18: end of line
A19: Increase 4 | C19: 0 | D19: 0 | E19: 0 | F19: 0 | G19: 0 | H19: 0 | I19: 0 | J19: 0 | K19: =C11+G11+C19+G19 -> 0 | L19: =D11+H11+D19+H19 -> 0 | M19: =E11+I11+E19+I19 -> 0 | N19: =F11+J11+F19+J19 -> 0 | O19: end of line
A20: Total Program Increases | C20: =SUM(C16:C19) -> 0 | D20: =SUM(D16:D19) -> 0 | E20: =SUM(E16:E19) -> 0 | F20: =SUM(F16:F19) -> 19500 | G20: =SUM(G16:G19) -> 0 | H20: =SUM(H16:H19) -> 0 | I20: =SUM(I16:I19) -> 0 | J20: =SUM(J16:J19) -> 0 | ... N20: =SUM(N16:N19) -> 19500 | O20: end of line
O21: end of line
A22: Program Offsets | B22: Location of Description by Program Activity | C22: Decision Unit 1 | G22: Decision Unit 2 | O22: end of line
C23: Direct Pos. | D23: Agt./ Atty. | E23: Est. FTE | F23: Amount | G23: Direct Pos. | H23: Agt./ Atty. | I23: Est. FTE | J23: Amount | O23: end of line
A24: Offset 1 | C24: 0 | D24: 0 | E24: 0 | F24: 0 | G24: 0 | H24: 0 | I24: 0 | J24: 0 | O24: end of line
A25: Offset 2 | C25: 0 | D25: 0 | E25: 0 | F25: 0 | G25: 0 | H25: 0 | I25: 0 | J25: 0 | O25: end of line
A26: Offset 3 | C26: 0 | D26: 0 | E26: 0 | F26: 0 | G26: 0 | H26: 0 | I26: 0 | J26: 0 | O26: end of line
A27: Offset 4 | C27: 0 | D27: 0 | E27: 0 | F27: 0 | G27: 0 | H27: 0 | I27: 0 | J27: 0 | O27: end of line
A28: Total Program Offsets | C28: =SUM(C24:C27) -> 0 | D28: =SUM(D24:D27) -> 0 | E28: =SUM(E24:E27) -> 0 | F28: =SUM(F24:F27) -> 0 | G28: =SUM(G24:G27) -> 0 | H28: =SUM(H24:H27) -> 0 | I28: =SUM(I24:I27) -> 0 | J28: =SUM(J24:J27) -> 0 | O28: end of line
O29: end of line
A30: Program Offsets | B30: Location of Description by Program Activity | C30: Prevention and Prosecution of Violence Against Women | G30: Decision Unit 4 | K30: Total Offsets | O30: end of line
C31: Direct Pos. | D31: Agt./ Atty. | E31: Est. FTE | F31: Amount | G31: Direct Pos. | H31: Agt./ Atty. | I31: Est. FTE | J31: Amount | K31: Direct Pos. | L31: Agt./ Atty. | M31: Est. FTE | N31: Amount | O31: end of line
A32: ='B. Summ of Req.'!A43 -> Transitional Housing | C32: 0 | D32: 0 | E32: 0 | F32: -3000 | G32: 0 | H32: 0 | I32: 0 | J32: 0 | K32: =C24+G24+C32+G32 -> 0 | L32: =D24+H24+D32+H32 -> 0 | M32: =E24+I24+E32+I32 -> 0 | N32: =F24+J24+F32+J32 -> -3000 | O32: end of line
A33: ='B. Summ of Req.'!A44 -> Safe Haven Program | C33: 0 | D33: 0 | E33: 0 | F33: -11500 | G33: 0 | H33: 0 | I33: 0 | J33: 0 | K33: =C25+G25+C33+G33 -> 0 | L33: =D25+H25+D33+H33 -> 0 | M33: =E25+I25+E33+I33 -> 0 | N33: =F25+J25+F33+J33 -> -11500 | O33: end of line
A34: ='B. Summ of Req.'!A45 -> Court Training Program | C34: 0 | D34: 0 | E34: 0 | F34: -4500 | G34: 0 | H34: 0 | I34: 0 | J34: 0 | K34: =C26+G26+C34+G34 -> 0 | L34: =D26+H26+D34+H34 -> 0 | M34: =E26+I26+E34+I34 -> 0 | N34: =F26+J26+F34+J34 -> -4500 | O34: end of line
A35: ='B. Summ of Req.'!A46 -> National Resource Center on Workplace Responses | C35: 0 | D35: 0 | E35: 0 | F35: -500 | G35: 0 | H35: 0 | I35: 0 | J35: 0 | K35: =C27+G27+C35+G35 -> 0 | L35: =D27+H27+D35+H35 -> 0 | M35: =E27+I27+E35+I35 -> 0 | N35: =F27+J27+F35+J35 -> -500 | O35: end of line
A36: Total Program Offsets | C36: =SUM(C32:C35) -> 0 | D36: =SUM(D32:D35) -> 0 | E36: =SUM(E32:E35) -> 0 | F36: =SUM(F32:F35) -> -19500 | G36: =SUM(G32:G35) -> 0 | H36: =SUM(H32:H35) -> 0 | I36: =SUM(I32:I35) -> 0 | J36: =SUM(J32:J35) -> 0 | ... N36: =SUM(N32:N35) -> -19500 | O36: end of line
O37: end of sheet

Sheet C. Program Changes by DU (2)
A1: FY 2014 Program Increases/Offsets by Decision Unit | O1: end of line | Q1: General Instructions
A2: ='B. Summ of Req.'!A2:D2 -> Office on Violence Against Women | O2: end of line | Q2: Several versions of exhibit C are created for as example for components with different numbers of DU.
A3: ='B. Summ of Req.'!A3:D3 -> Grant Programs | O3: end of line | Q3: Please modify the number of columns depending on number of DU. Please make sure that the display is legible.
A4: (Dollars in Thousands) | O4: end of line
O5: end of line
O6: end of line | Q6: Identify the DU under which the discussion of the program change is located within the budget submission in column B.
A7: Program Increases | B7: Location of Description by Program Activity | C7: Decision Unit 1 | G7: Decision Unit 2 | K7: Total Increases | O7: end of line
C8: Direct Pos. | D8: Agt./ Atty. | E8: Est. FTE | F8: Amount | G8: Direct Pos. | H8: Agt./ Atty. | I8: Est. FTE | J8: Amount | K8: Direct Pos. | L8: Agt./ Atty. | M8: Est. FTE | N8: Amount | O8: end of line
A9: Increase 1 | C9: 0 | D9: 0 | E9: 0 | F9: 0 | G9: 0 | H9: 0 | I9: 0 | J9: 0 | K9: =C9+G9 -> 0 | L9: =D9+H9 -> 0 | M9: =E9+I9 -> 0 | N9: =F9+J9 -> 0 | O9: end of line | Q9: Program Increases must agree with Exhibit B by DU and exhibit J.
A10: Increase 2 | C10: 0 | D10: 0 | E10: 0 | F10: 0 | G10: 0 | H10: 0 | I10: 0 | J10: 0 | K10: =C10+G10 -> 0 | L10: =D10+H10 -> 0 | M10: =E10+I10 -> 0 | N10: =F10+J10 -> 0 | O10: end of line | Q10: Positions, Agents/Attorneys must agree with exhibits I, J, and K.
A11: Increase 3 | C11: 0 | D11: 0 | E11: 0 | F11: 0 | G11: 0 | H11: 0 | I11: 0 | J11: 0 | K11: =C11+G11 -> 0 | L11: =D11+H11 -> 0 | M11: =E11+I11 -> 0 | N11: =F11+J11 -> 0 | O11: end of line
A12: Increase 4 | C12: 0 | D12: 0 | E12: 0 | F12: 0 | G12: 0 | H12: 0 | I12: 0 | J12: 0 | K12: =C12+G12 -> 0 | L12: =D12+H12 -> 0 | M12: =E12+I12 -> 0 | N12: =F12+J12 -> 0 | O12: end of line
A13: Total Program Increases | C13: =SUM(C9:C12) -> 0 | D13: =SUM(D9:D12) -> 0 | E13: =SUM(E9:E12) -> 0 | F13: =SUM(F9:F12) -> 0 | G13: =SUM(G9:G12) -> 0 | H13: =SUM(H9:H12) -> 0 | I13: =SUM(I9:I12) -> 0 | J13: =SUM(J9:J12) -> 0 | ... N13: =SUM(N9:N12) -> 0 | O13: end of line
O14: end of line
A15: Program Offsets | B15: Location of Description by Program Activity | C15: Decision Unit 1 | G15: Decision Unit 2 | K15: Total Offsets | O15: end of line
C16: Direct Pos. | D16: Agt./ Atty. | E16: Est. FTE | F16: Amount | G16: Direct Pos. | H16: Agt./ Atty. | I16: Est. FTE | J16: Amount | K16: Direct Pos. | L16: Agt./ Atty. | M16: Est. FTE | N16: Amount | O16: end of line
A17: Offset 1 | C17: 0 | D17: 0 | E17: 0 | F17: 0 | G17: 0 | H17: 0 | I17: 0 | J17: 0 | K17: =C17+G17 -> 0 | L17: =D17+H17 -> 0 | M17: =E17+I17 -> 0 | N17: =F17+J17 -> 0 | O17: end of line | Q17: Program Offsets must agree with Exhibit B by DU and exhibit J.
A18: Offset 2 | C18: 0 | D18: 0 | E18: 0 | F18: 0 | G18: 0 | H18: 0 | I18: 0 | J18: 0 | K18: =C18+G18 -> 0 | L18: =D18+H18 -> 0 | M18: =E18+I18 -> 0 | N18: =F18+J18 -> 0 | O18: end of line | Q18: Positions, Agents/Attorneys must agree with exhibits I, J, and K.
A19: Offset 3 | C19: 0 | D19: 0 | E19: 0 | F19: 0 | G19: 0 | H19: 0 | I19: 0 | J19: 0 | K19: =C19+G19 -> 0 | L19: =D19+H19 -> 0 | M19: =E19+I19 -> 0 | N19: =F19+J19 -> 0 | O19: end of line
A20: Offset 4 | C20: 0 | D20: 0 | E20: 0 | F20: 0 | G20: 0 | H20: 0 | I20: 0 | J20: 0 | K20: =C20+G20 -> 0 | L20: =D20+H20 -> 0 | M20: =E20+I20 -> 0 | N20: =F20+J20 -> 0 | O20: end of line
A21: Total Program Offsets | C21: =SUM(C17:C20) -> 0 | D21: =SUM(D17:D20) -> 0 | E21: =SUM(E17:E20) -> 0 | F21: =SUM(F17:F20) -> 0 | G21: =SUM(G17:G20) -> 0 | H21: =SUM(H17:H20) -> 0 | I21: =SUM(I17:I20) -> 0 | J21: =SUM(J17:J20) -> 0 | ... N21: =SUM(N17:N20) -> 0 | O21: end of line
O22: end of sheet

Sheet D. Strategic Goals & Objectives
A1: Resources by Department of Justice Strategic Goal/Objective | O1: end of line
A2: ='B. Summ of Req.'!A2:D2 -> Office on Violence Against Women | O2: end of line
A3: ='B. Summ of Req.'!A3:D3 -> Grant Programs | O3: end of line
A4: (Dollars in Thousands) | O4: end of line
O5: end of line
O6: end of line
A7: Strategic Goal and Strategic Objective | C7: 2012 Appropriation Enacted | E7: 2013 Continuing Resolution * | G7: 2014 Current Services | I7: 2014 Increases | K7: 2014 Offsets | M7: 2014 Total Request | O7: end of line
C8: Direct/ Reimb FTE | D8: Direct Amount | E8: Direct/ Reimb FTE | F8: Direct Amount | G8: Direct/ Reimb FTE | H8: Direct Amount | I8: Direct/ Reimb FTE | J8: Direct Amount | K8: Direct/ Reimb FTE | L8: Direct Amount | M8: Direct/ Reimb FTE | N8: Direct Amount | O8: end of line
A9: Goal 1 | B9: Prevent Terrorism and Promote the Nation's Security Consistent with the Rule of Law | O9: end of line
A10: 1.1 | B10: Prevent, disrupt, and defeat terrorist operations before they occur. | C10: 0 | D10: 0 | E10: 0 | F10: 0 | G10: 0 | H10: 0 | I10: 0 | J10: 0 | K10: 0 | L10: 0 | M10: =G10+I10+K10 -> 0 | N10: =H10+J10+L10 -> 0 | O10: end of line
A11: 1.2 | B11: Prosecute those involved in terrorist acts. | C11: 0 | D11: 0 | E11: 0 | F11: 0 | G11: 0 | H11: 0 | I11: 0 | J11: 0 | K11: 0 | L11: 0 | M11: =G11+I11+K11 -> 0 | N11: =H11+J11+L11 -> 0 | O11: end of line
A12: 1.3 | B12: Combat espionage against the United States. | C12: 0 | D12: 0 | E12: 0 | F12: 0 | G12: 0 | H12: 0 | I12: 0 | J12: 0 | K12: 0 | L12: 0 | M12: =G12+I12+K12 -> 0 | N12: =H12+J12+L12 -> 0 | O12: end of line
B13: Subtotal, Goal 1 | C13: =SUM(C10:C12) -> 0 | D13: =SUM(D10:D12) -> 0 | E13: =SUM(E10:E12) -> 0 | F13: =SUM(F10:F12) -> 0 | G13: =SUM(G10:G12) -> 0 | H13: =SUM(H10:H12) -> 0 | I13: =SUM(I10:I12) -> 0 | J13: =SUM(J10:J12) -> 0 | ... N13: =SUM(N10:N12) -> 0 | O13: end of line
A14: Goal 2 | B14: Prevent Crime, Protect the Rights of the American People, and enforce Federal Law | O14: end of line
A15: 2.1 | B15: Combat the threat, incidence, and prevalence of violent crime. | C15: 0 | D15: 0 | E15: 0 | F15: 0 | G15: 0 | H15: 0 | I15: 0 | J15: 0 | K15: 0 | L15: -19500 | M15: =G15+I15+K15 -> 0 | N15: =H15+J15+L15 -> -19500 | O15: end of line
A16: 2.2 | B16: Prevent and intervene in crimes against vulnerable of violent crime. | C16: 0 | D16: 412500 | E16: 0 | F16: 415025 | G16: 0 | H16: 412500 | I16: 0 | J16: 19500 | K16: 0 | L16: 0 | M16: =G16+I16+K16 -> 0 | N16: =H16+J16+L16 -> 432000 | O16: end of line
A17: 2.3 | B17: Combat the threat, trafficking, and use of illegal drugs and the diversion of licit drugs. | C17: 0 | D17: 0 | E17: 0 | F17: 0 | G17: 0 | H17: 0 | I17: 0 | J17: 0 | K17: 0 | L17: 0 | M17: =G17+I17+K17 -> 0 | N17: =H17+J17+L17 -> 0 | O17: end of line
A18: 2.4 | B18: Combat corruption, economic crimes, and international organized crime. | C18: 0 | D18: 0 | E18: 0 | F18: 0 | G18: 0 | H18: 0 | I18: 0 | J18: 0 | K18: 0 | L18: 0 | M18: =G18+I18+K18 -> 0 | N18: =H18+J18+L18 -> 0 | O18: end of line
A19: 2.5 | B19: Promote and protect Americans' civil rights. | C19: 0 | D19: 0 | E19: 0 | F19: 0 | G19: 0 | H19: 0 | I19: 0 | J19: 0 | K19: 0 | L19: 0 | M19: =G19+I19+K19 -> 0 | N19: =H19+J19+L19 -> 0 | O19: end of line
A20: 2.6 | B20: Protect the federal fisc and defend the interests of the United States. | C20: 0 | D20: 0 | E20: 0 | F20: 0 | G20: 0 | H20: 0 | I20: 0 | J20: 0 | K20: 0 | L20: 0 | M20: =G20+I20+K20 -> 0 | N20: =H20+J20+L20 -> 0 | O20: end of line
B21: Subtotal, Goal 2 | C21: =SUM(C15:C20) -> 0 | D21: =SUM(D15:D20) -> 412500 | E21: =SUM(E15:E20) -> 0 | F21: =SUM(F15:F20) -> 415025 | G21: =SUM(G15:G20) -> 0 | H21: =SUM(H15:H20) -> 412500 | I21: =SUM(I15:I20) -> 0 | J21: =SUM(J15:J20) -> 19500 | ... N21: =SUM(N15:N20) -> 412500 | O21: end of line
A22: Goal 3 | B22: Ensure and Support the Fair, Impartial, Efficient, and Transparent Administration of Justice at the Federal, State, Local, Tribal and International Levels. | O22: end of line
A23: 3.1 | B23: Promote and Strengthen relationship and strategies for the administration of justice with state, local, tribal and international law enforcement. | C23: 0 | D23: 0 | E23: 0 | F23: 0 | G23: 0 | H23: 0 | I23: 0 | J23: 0 | K23: 0 | L23: 0 | M23: =G23+I23+K23 -> 0 | N23: =H23+J23+L23 -> 0 | O23: end of line
A24: 3.2 | B24: Protect judges, witnesses, and other participants in federal proceedings; apprehend fugitives; and ensure the appearance of criminal defendants for judicial proceedings or confinement. | C24: 0 | D24: 0 | E24: 0 | F24: 0 | G24: 0 | H24: 0 | I24: 0 | J24: 0 | K24: 0 | L24: 0 | M24: =G24+I24+K24 -> 0 | N24: =H24+J24+L24 -> 0 | O24: end of line
A25: 3.3 | B25: Provide for the safe, secure, humane, and cost-effective confinement of detainees awaiting trial and/or sentencing, and those of the custody of the Federal Prison System. | C25: 0 | D25: 0 | E25: 0 | F25: 0 | G25: 0 | H25: 0 | I25: 0 | J25: 0 | K25: 0 | L25: 0 | M25: =G25+I25+K25 -> 0 | N25: =H25+J25+L25 -> 0 | O25: end of line
A26: 3.4 | B26: Adjudicate all immigration cases promptly and impartially in accordance with due process. | C26: 0 | D26: 0 | E26: 0 | F26: 0 | G26: 0 | H26: 0 | I26: 0 | J26: 0 | K26: 0 | L26: 0 | M26: =G26+I26+K26 -> 0 | N26: =H26+J26+L26 -> 0 | O26: end of line
B27: Subtotal, Goal 3 | C27: =SUM(C23:C26) -> 0 | D27: =SUM(D23:D26) -> 0 | E27: =SUM(E23:E26) -> 0 | F27: =SUM(F23:F26) -> 0 | G27: =SUM(G23:G26) -> 0 | H27: =SUM(H23:H26) -> 0 | I27: =SUM(I23:I26) -> 0 | J27: =SUM(J23:J26) -> 0 | ... N27: =SUM(N23:N26) -> 0 | O27: end of line
B28: TOTAL | C28: =C27+C21+C13 -> 0 | D28: =D27+D21+D13 -> 412500 | E28: =E27+E21+E13 -> 0 | F28: =F27+F21+F13 -> 415025 | G28: =G27+G21+G13 -> 0 | H28: =H27+H21+H13 -> 412500 | I28: =I27+I21+I13 -> 0 | J28: =J27+J21+J13 -> 19500 | ... N28: =N27+N21+N13 -> 412500 | O28: end of line
O29: end of line
A30: Note: Excludes Balance Rescission and/or Supplemental Appropriations. | O30: end of line
O31: end of sheet
A32: *The 2013 Continuing Resolution includes the 0.612% funding provided by the Continuing Appropriations Resolution, 2013 (P.L. 112-175, Section 101 (c)).
B40: 7

Sheet E. ATB Justification
A1: Justifications for Technical and Base Adjustments | H1: end of line | J1: General Instructions
A2: ='B. Summ of Req.'!A2:D2 -> Office on Violence Against Women | H2: end of line
A3: ='B. Summ of Req.'!A3:D3 -> Grant Programs | H3: end of line | J3: Insert/delete rows as needed. Make sure total formula includes applicable rows in calculation.
A4: (Dollars in Thousands) | H4: end of line | J4: Do NOT change font, font size and other display settings.
H5: end of line | J5: ATB name should be underlined. Ctrl+Enter to go to the next line in the same cell to enter the ATB justification.
E6: Direct Pos. | F6: Estimate FTE | G6: Amount | H6: end of line | J6: CHECK LIST
B7: Technical Adjustments | H7: end of line
A8: 1 | B8: Adjustment - 2013 CR 0.612%: PL 112-175 section 101 (c) provided 0.612% across the board increase above the current rate for the 2013 CR funding level. This adjustment reverses this increase. | E8: 0 | F8: 0 | G8: 0 | H8: end of line
A10: 2 | B10: List and justify each item separately. Explanation should specifically explains the technical adjustment. | E10: 0 | F10: 0 | G10: 0 | H10: end of line
B11: Subtotal, Technical Adjustments | E11: =SUM(E8:E10) -> 0 | F11: =SUM(F8:F10) -> 0 | G11: =SUM(G8:G10) -> 0 | H11: end of line | J11: Does this section agree with exhibit B?
B12: Transfers | E12: 0 | F12: 0 | G12: 0 | H12: end of line
A13: 1 | B13: List and justify each item separately. Explanation should specifically explains reason, arithmetic calculations, and the current services to which each transfer applies. | E13: 0 | F13: 0 | G13: 0 | H13: end of line
A14: 2 | E14: 0 | F14: 0 | G14: 0 | H14: end of line
B15: Subtotal, Transfers | E15: =SUM(E13:E14) -> 0 | F15: =SUM(F13:F14) -> 0 | G15: =SUM(G13:G14) -> 0 | H15: end of line | J15: Does this section agree with exhibit B?
B16: Pay and Benefits | H16: end of line
A17: 1 | B17: 2014 Pay Raise: This request provides for a proposed 1 percent pay raise to be effective in January of 2014. The amount request, $______, represents the pay amounts for 3/4 of the fiscal year plus appropriate benefits ($______ for pay and $______ for benefits.)
G18: 0
A19: 2 | B19: Annualization of 2013 Pay Raise: This pay annualization represents first quarter amounts (October through December) of the 2013 pay increase of 0.5% included in the 2013 President's Budget. The amount requested $_______, represents the pay amounts for 1/4 of the fiscal year plus appropriate benefits ($ _________ for pay and $__________ for benefits).
G20: 0
A21: 3 | B21: Annualization of New Positions Approved in 2012: Personnel: This provides for the annualization of XXX new positions appropriated in 2012. Annualization of new positions extends up to 3 years to provide entry level funding in the first year, with a 1 or 2-year progression to a journeyman level. For 2012 increases, this request includes an increase of $_____for full-year payroll costs associated with these additional positions. Non-Personnel: This request includes a decrease of $______for one-time items associated with the new positions, for a net of +/-$____. | H21: end of line
E22: 0 | F22: 0 | G22: =D41 -> 0 | H22: end of line
C23: 2012 New Positions | D23: Annualization Required for 2014 | H23: end of line
B24: Annual Salary Rate of XXX new Positions | C24: 0 | D24: 0 | H24: end of line
B25: Less Lapse (50%) | C25: 0 | D25: 0 | H25: end of line
B26: Net compensation | C26: =SUM(C24:C25) -> 0 | D26: =SUM(D24:D25) -> 0 | H26: end of line
B27: Associated Employee Benefits | D27: 0 | H27: end of line
B28: Total Personnel Cost | C28: =SUM(C26:C27) -> 0 | D28: =SUM(D26:D27) -> 0 | H28: end of line
B29: Travel | D29: 0 | H29: end of line
B30: Transportation of Things | D30: 0 | H30: end of line
B31: Communications/Utilities | D31: 0 | H31: end of line
B32: Printing/Reproduction | D32: 0 | H32: end of line
B33: Other Contractual Services | D33: =SUM(D34:D37) -> 0 | H33: end of line
B34: 25.2 Other Services | D34: 0 | H34: end of line
B35: 25.3 Purchase of Goods and Services from Government Accounts | D35: 0 | H35: end of line
B36: 25.4 Operations and Maintenance of Facilities | D36: 0 | H36: end of line
B37: 25.6 Medical Care | D37: 0 | H37: end of line
B38: Supplies and Materials | D38: 0 | H38: end of line
B39: Equipment | D39: 0 | H39: end of line
B40: Total Non-Personnel Cost | D40: =SUM(D30:D33,D38:D39) -> 0 | H40: end of line
B41: Total New Position Costs Subject to Annualization | C41: =C28 -> 0 | D41: =D40+D28 -> 0 | H41: end of line
...

Sheet F. 2012 Crosswalk
A1: Crosswalk of 2012 Availability | P1: end of line
A2: ='B. Summ of Req.'!A2:D2 -> Office on Violence Against Women | P2: end of line
A3: ='B. Summ of Req.'!A3:D3 -> Grant Programs | P3: end of line
A4: (Dollars in Thousands) | P4: end of line
P5: end of line
P6: end of line
A7: Program Activity | B7: 2012 Appropriation Enacted w/o Balance Rescission | E7: Balance Rescission | H7: Reprogramming/Transfers | K7: Carryover | L7: Recoveries/Refunds | M7: 2012 Actual | P7: end of line
B8: Direct Pos. | C8: Actual FTE | D8: Amount | E8: Direct Pos. | F8: Actual FTE | G8: Amount | H8: Direct Pos. | I8: Actual FTE | J8: Amount | K8: Amount | L8: Amount | M8: Direct Pos. | N8: Actual FTE | O8: Amount | P8: end of line
A9: Prevention and Prosecution of Violence Against Women | B9: 0 | C9: 0 | D9: 0 | E9: 0 | F9: 0 | G9: 0 | H9: 0 | I9: 0 | J9: 0 | K9: 0 | M9: =B9+H9 -> 0 | N9: =C9+I9 -> 0 | O9: =D9+J9+K9+L9+G9 -> 0 | P9: end of line
A10: STOP Program | B10: 0 | C10: 0 | D10: 189000 | E10: 0 | F10: 0 | G10: -6634 | H10: 0 | I10: 0 | J10: =103.254+188.419 -> 291.673 | K10: 8332 | L10: =1245.9+24.659 -> 1270.559 | M10: 0 | N10: 0 | O10: =D10+J10+K10+L10+G10 -> 192260.23
A11: Transitional Housing | B11: 0 | C11: 0 | D11: 25000 | E11: 0 | F11: 0 | G11: -1477 | H11: 0 | I11: 0 | J11: 0 | K11: 1778 | L11: 607.559 | M11: 0 | N11: 0 | O11: =D11+J11+K11+L11+G11 -> 25908.559
A12: NIJ Research & Development | B12: 0 | C12: 0 | D12: 3000 | E12: 0 | F12: 0 | H12: 0 | I12: 0 | J12: 0 | M12: 0 | N12: 0 | O12: =D12+J12+K12+L12+G12 -> 3000
A13: Arrest Program | B13: 0 | C13: 0 | D13: 50000 | E13: 0 | F13: 0 | G13: -1008 | H13: 0 | I13: 0 | J13: =277.227 -> 277.227 | K13: 3941 | L13: =2603.166+9.361 -> 2612.527 | M13: 0 | N13: 0 | O13: =D13+J13+K13+L13+G13 -> 55822.754
A14: Sexual Assault Svcs Program | B14: 0 | C14: 0 | D14: 23000 | E14: 0 | F14: 0 | H14: 0 | I14: 0 | J14: 0 | K14: 1967 | L14: =139.35+0.34 -> 139.69 | M14: 0 | N14: 0 | O14: =D14+J14+K14+L14+G14 -> 25106.69
A15: Homiide Reduction Initiative | B15: 0 | C15: 0 | D15: [4,000] | E15: 0 | F15: 0 | H15: 0 | I15: 0 | J15: 0 | M15: 0 | N15: 0 | O15: 0
A16: Rural Program | B16: 0 | C16: 0 | D16: 34000 | E16: 0 | F16: 0 | G16: -1000 | H16: 0 | I16: 0 | J16: 0 | K16: 6929 | L16: =1342.97+9.361 -> 1352.331 | M16: 0 | N16: 0 | O16: =D16+J16+K16+L16+G16 -> 41281.331
A17: Campus Program | B17: 0 | C17: 0 | D17: 9000 | E17: 0 | F17: 0 | G17: -268 | H17: 0 | I17: 0 | J17: 0 | K17: 1307 | L17: 253.244 | M17: 0 | N17: 0 | O17: =D17+J17+K17+L17+G17 -> 10292.244
A18: Legal Assistance to Victims (LAV) | B18: 0 | C18: 0 | D18: 41000 | E18: 0 | F18: 0 | G18: -353 | H18: 0 | I18: 0 | J18: =42.281 -> 42.281 | K18: 1141 | L18: =866.952+9.361 -> 876.313 | M18: 0 | N18: 0 | O18: =D18+J18+K18+L18+G18 -> 42706.594
A19: Abuse in Later Life Program | B19: 0 | C19: 0 | D19: 4250 | E19: 0 | F19: 0 | G19: -545 | H19: 0 | I19: 0 | J19: 0 | K19: 831 | L19: =430.302+9.361 -> 439.663 | M19: 0 | N19: 0 | O19: =D19+J19+K19+L19+G19 -> 4975.663
A20: Enhancing Safety for Victims and Their Children in a Family Matter | B20: 0 | C20: 0 | D20: 0 | E20: 0 | F20: 0 | H20: 0 | I20: 0 | J20: 0 | M20: 0 | N20: 0 | O20: =D20+J20+K20+L20+G20 -> 0
A21: Safe Havens: Supervised Visitation Program | B21: 0 | C21: 0 | D21: 11500 | E21: 0 | F21: 0 | G21: -1940 | H21: 0 | I21: 0 | J21: 0 | K21: 5378 | L21: 1184.38 | M21: 0 | N21: 0 | O21: =D21+J21+K21+L21+G21 -> 16122.38
A22: Disabilities Program | B22: 0 | C22: 0 | D22: 5750 | E22: 0 | F22: 0 | H22: 0 | I22: 0 | J22: 0 | K22: 531 | L22: =203.181+9.361 -> 212.542 | M22: 0 | N22: 0 | O22: =D22+J22+K22+L22+G22 -> 6493.542
A23: Consolidated Grants Program | B23: 0 | C23: 0 | D23: 10000 | E23: 0 | F23: 0 | H23: 0 | I23: 0 | J23: 0 | L23: -201.178 | M23: 0 | N23: 0 | O23: =D23+J23+K23+L23+G23 -> 9798.822
A24: Engaging Men & Youth Program | B24: 0 | C24: 0 | D24: 0 | E24: 0 | F24: 0 | H24: 0 | I24: 0 | J24: 0 | K24: 3689.5 | M24: 0 | N24: 0 | O24: =D24+J24+K24+L24+G24 -> 3689.5
A25: Supporting Teens Through Education | B25: 0 | C25: 0 | D25: 0 | E25: 0 | F25: 0 | H25: 0 | I25: 0 | J25: 0 | K25: 92 | M25: 0 | N25: 0 | O25: =D25+J25+K25+L25+G25 -> 92
A26: Children & Youth Exposed | B26: 0 | C26: 0 | D26: 0 | E26: 0 | F26: 0 | H26: 0 | I26: 0 | J26: 0 | K26: 303 | M26: 0 | N26: 0 | O26: =D26+J26+K26+L26+G26 -> 303
A27: Youth Advocacy | B27: 0 | C27: 0 | D27: 0 | E27: 0 | F27: 0 | H27: 0 | I27: 0 | J27: 0 | K27: 16 | M27: 0 | N27: 0 | O27: =D27+J27+K27+L27+G27 -> 16
A28: Court Training & Improvement | B28: 0 | C28: 0 | D28: 4500 | E28: 0 | F28: 0 | H28: 0 | I28: 0 | J28: 0 | K28: 48 | L28: 35 | M28: 0 | N28: 0 | O28: =D28+J28+K28+L28+G28 -> 4583
A29: Sexual Assault Clearing House - Indian Country | B29: 0 | C29: 0 | D29: 500 | E29: 0 | F29: 0 | H29: 0 | I29: 0 | J29: 0 | M29: 0 | N29: 0 | O29: =D29+J29+K29+L29+G29 -> 500
A30: Indian Women - Analysis & Research | B30: 0 | C30: 0 | D30: 1000 | E30: 0 | F30: 0 | H30: 0 | I30: 0 | J30: 0 | K30: 79 | M30: 0 | N30: 0 | O30: =D30+J30+K30+L30+G30 -> 1079
A31: Indian Women - Tracking | B31: 0 | C31: 0 | D31: 0 | E31: 0 | F31: 0 | H31: 0 | I31: 0 | J31: 0 | K31: 3909.5 | O31: =D31+J31+K31+L31+G31 -> 3909.5
A32: National Resource Center - Workplace Response | B32: 0 | C32: 0 | D32: 1000 | E32: 0 | F32: 0 | H32: 0 | I32: 0 | J32: 0 | K32: 1181 | M32: 0 | N32: 0 | O32: =D32+J32+K32+L32+G32 -> 2181
A33: Tribal Government Grants Program | B33: 0 | C33: 0 | D33: [35,270] | E33: 0 | F33: 0 | G33: -1775 | H33: 0 | I33: 0 | J33: 0 | K33: 2694 | L33: 810.9 | M33: 0 | N33: 0 | O33: =J33+K33+L33+G33 -> 1729.9 | P33: end of line
A34: Tribal Coalition Grants | B34: 0 | C34: 0 | D34: [3,605] | E34: 0 | F34: 0 | H34: 0 | I34: 0 | J34: 0 | K34: 1232 | L34: 23.405 | M34: 0 | N34: 0 | O34: 1232
A35: National Resource Center on Workplace Responses | B35: 0 | C35: 0 | D35: 0 | E35: 0 | F35: 0 | H35: 0 | I35: 0 | J35: 0 | K35: 0 | M35: 0 | N35: 0 | O35: =D35+J35+K35+L35+G35 -> 0
A36: Total Direct | B36: =SUM(B9:B35) -> 0 | C36: =SUM(C9:C35) -> 0 | D36: =SUM(D9:D35) -> 412500 | E36: =SUM(E9:E35) -> 0 | F36: =SUM(F9:F35) -> 0 | G36: =SUM(G9:G35) -> -15000 | H36: =SUM(H9:H35) -> 0 | I36: =SUM(I9:I35) -> 0 | ... O36: =SUM(O9:O35) -> 453083.71 | P36: end of line
A37: Reimbursable FTE | B37: 0 | C37: 0 | F37: 0 | H37: 0 | I37: 0 | M37: =B37+H37+E37 -> 0 | N37: =C37+I37+F37 -> 0 | P37: end of line
A38: Total Direct and Reimb. FTE | B38: 0 | C38: =C36+C37 -> 0 | F38: =F36+F37 -> 0 | H38: 0 | I38: =I36+I37 -> 0 | M38: =M36+M37 -> 0 | N38: =N36+N37 -> 0 | P38: end of line
P39: end of line
A40: Other FTE: | P40: end of line
...

Sheet G. 2013 Crosswalk
A1: Crosswalk of 2013 Availability | N1: end of line
A2: ='B. Summ of Req.'!A2:D2 -> Office on Violence Against Women | N2: end of line
A3: ='B. Summ of Req.'!A3:D3 -> Grant Programs | N3: end of line
A4: (Dollars in Thousands) | N4: end of line
N5: end of line
N6: end of line
A7: Program Activity | B7: FY 2013 Continuing Resolution | E7: 2013 Supplemental Appropriation | F7: Reprogramming/Transfers | I7: Carryover | J7: Recoveries/Refunds | K7: 2013 Availability | N7: end of line
B8: Direct Pos. | C8: Estim. FTE | D8: Amount | E8: Amount | F8: Direct Pos. | G8: Estim. FTE | H8: Amount | I8: Amount | J8: Amount | K8: Direct Pos. | L8: Estim. FTE | M8: Amount | N8: end of line
A9: STOP Program | B9: 0 | C9: 0 | D9: 190157 | E9: 0 | F9: 0 | G9: 0 | H9: 0 | I9: =4060+93.598+93.917 -> 4247.515 | J9: =428.601+0.935+1.872+32.213 -> 463.621 | K9: 0 | L9: 0 | M9: =D9+I9+J9 -> 194868.14 | N9: end of line
A10: Transitional Housing | B10: 0 | C10: 0 | D10: 25153 | E10: 0 | F10: 0 | G10: 0 | H10: 0 | I10: 606.74 | J10: 925.1 | K10: 0 | L10: 0 | M10: =D10+I10+J10 -> 26684.84 | N10: end of line
A11: NIJ Research & Development | B11: 0 | C11: 0 | D11: 3018 | E11: 0 | F11: 0 | G11: 0 | H11: 0 | I11: 0 | K11: 0 | L11: 0 | M11: =D11+I11+J11 -> 3018 | N11: end of line
A12: Arrest Program | B12: 0 | C12: 0 | D12: 50306 | E12: 0 | F12: 0 | G12: 0 | H12: 0 | I12: =2037.9+18.937 -> 2056.837 | J12: =1994.213+5.011 -> 1999.224 | K12: 0 | L12: 0 | M12: =D12+I12+J12 -> 54362.061 | N12: end of line
A13: Sexual Assault Svcs Program | B13: 0 | C13: 0 | D13: 23141 | E13: 0 | F13: 0 | G13: 0 | H13: 0 | I13: =267.631+370.735+19.409+27.058+1.7+1.6 -> 688.133 | J13: =25.053+7.351 -> 32.404 | K13: 0 | L13: 0 | M13: =D13+I13+J13 -> 23861.537 | N13: end of line
A14: Homicide Reduction Initiative | B14: 0 | C14: 0 | D14: [4,000] | E14: 0 | F14: 0 | G14: 0 | H14: 0 | I14: 3810.6 | K14: 0 | L14: 0 | M14: 0 | N14: end of line
A15: Rural Program | B15: 0 | C15: 0 | D15: 34208 | E15: 0 | F15: 0 | G15: 0 | H15: 0 | I15: =1828.88+18.937 -> 1847.817 | J15: =439.485+5.011 -> 444.496 | K15: 0 | L15: 0 | M15: =D15+I15+J15 -> 36500.313 | N15: end of line
A16: Campus Program | B16: 0 | C16: 0 | D16: 9055 | E16: 0 | F16: 0 | G16: 0 | H16: 0 | I16: 185.056 | J16: =95.775 -> 95.775 | K16: 0 | L16: 0 | M16: =D16+I16+J16 -> 9335.831 | N16: end of line
A17: Legal Assistance to Victims (LAV) | B17: 0 | C17: 0 | D17: 41251 | E17: 0 | F17: 0 | G17: 0 | H17: 0 | I17: =1137.3+18.937 -> 1156.237 | J17: =839.191+5.011 -> 844.202 | K17: 0 | L17: 0 | M17: =D17+I17+J17 -> 43251.439 | N17: end of line
A18: Abuse in Later Life Program | B18: 0 | C18: 0 | D18: 4276 | E18: 0 | F18: 0 | G18: 0 | H18: 0 | I18: =341.529+18.937 -> 360.466 | J18: =469.584+5.011 -> 474.595 | K18: 0 | L18: 0 | M18: =D18+I18+J18 -> 5111.061 | N18: end of line
A19: Enhancing Safety for Victims and Their Children in a Family Matter | B19: 0 | C19: 0 | D19: 0 | E19: 0 | F19: 0 | G19: 0 | H19: 0 | I19: 0 | K19: 0 | L19: 0 | M19: =D19+I19+J19 -> 0 | N19: end of line
A20: Safe Havens: Supervised Visitation Program | B20: 0 | C20: 0 | D20: 11570 | E20: 0 | F20: 0 | G20: 0 | H20: 0 | I20: 110.731 | J20: =872.574 -> 872.574 | K20: 0 | L20: 0 | M20: =D20+I20+J20 -> 12553.305 | N20: end of line
A21: Disabilities Program | B21: 0 | C21: 0 | D21: 5785 | E21: 0 | F21: 0 | G21: 0 | H21: 0 | I21: =239.293+18.937 -> 258.23 | J21: =47.239+5.011 -> 52.25 | K21: 0 | L21: 0 | M21: =D21+I21+J21 -> 6095.48 | N21: end of line
A22: Consolidated Grants Program | B22: 0 | C22: 0 | D22: 10061 | E22: 0 | F22: 0 | G22: 0 | H22: 0 | I22: 8782.8 | J22: 201.178 | K22: 0 | L22: 0 | M22: =D22+I22+J22 -> 19044.978 | N22: end of line
A23: Engaging Men & Youth Program | B23: 0 | C23: 0 | D23: 0 | E23: 0 | F23: 0 | G23: 0 | H23: 0 | I23: 10.108 | K23: 0 | L23: 0 | M23: =D23+I23+J23 -> 10.108 | N23: end of line
A24: Supporting Teens Through Education | B24: 0 | C24: 0 | D24: 0 | E24: 0 | F24: 0 | G24: 0 | H24: 0 | I24: 0 | K24: 0 | L24: 0 | M24: =D24+I24+J24 -> 0 | N24: end of line
A25: Children & Youth Exposed | B25: 0 | C25: 0 | D25: 0 | E25: 0 | F25: 0 | G25: 0 | H25: 0 | I25: 0 | K25: 0 | L25: 0 | M25: =D25+I25+J25 -> 0 | N25: end of line
A26: Youth Advocacy | B26: 0 | C26: 0 | D26: 0 | E26: 0 | F26: 0 | G26: 0 | H26: 0 | I26: 0 | K26: 0 | L26: 0 | M26: =D26+I26+J26 -> 0 | N26: end of line
A27: Court Training & Improvement | B27: 0 | C27: 0 | D27: 4528 | E27: 0 | F27: 0 | G27: 0 | H27: 0 | I27: 239.533 | K27: 0 | L27: 0 | M27: =D27+I27+J27 -> 4767.533 | N27: end of line
A28: Sexual Assault Clearing House - Indian Country | B28: 0 | C28: 0 | D28: 503 | E28: 0 | F28: 0 | G28: 0 | H28: 0 | I28: 0 | K28: 0 | L28: 0 | M28: =D28+I28+J28 -> 503 | N28: end of line
A29: Indian Women - Analysis & Research | B29: 0 | C29: 0 | D29: 1006 | E29: 0 | F29: 0 | G29: 0 | H29: 0 | I29: 64.702 | K29: 0 | L29: 0 | M29: =D29+I29+J29 -> 1070.702 | N29: end of line
A30: Indian Women - Tracking | B30: 0 | C30: 0 | D30: 0 | E30: 0 | F30: 0 | G30: 0 | H30: 0 | I30: 3910 | K30: 0 | L30: 0 | M30: =D30+I30+J30 -> 3910 | N30: end of line
A31: National Resource Center - Workplace Response | B31: 0 | C31: 0 | D31: 1006.5 | E31: 0 | F31: 0 | G31: 0 | H31: 0 | I31: 33.797 | K31: 0 | L31: 0 | M31: =D31+I31+J31 -> 1040.297 | N31: end of line
A32: Tribal Government Grants Program | B32: 0 | C32: 0 | D32: [35,486] | E32: 0 | F32: 0 | G32: 0 | H32: 0 | I32: 1335.6 | J32: =247.114 -> 247.114 | K32: 0 | L32: 0 | M32: 0 | N32: end of line
A33: Tribal Coalition Grants | B33: 0 | C33: 0 | D33: [3,396] | E33: 0 | F33: 0 | G33: 0 | H33: 0 | I33: 170.589 | J33: 35 | K33: 0 | L33: 0 | M33: 0 | N33: end of line
A34: OVW Set-Aside for Research and Evaluation -- 2% of discr funds | F34: 0 | G34: 0 | H34: 0 | I34: 0
A44: Decision Unit 2 | B44: 0 | C44: 0 | D44: 0 | E44: 0 | F44: 0 | G44: 0 | H44: 0 | I44: 0 | J44: 0 | K44: =B44+F44 -> 0 | L44: =C44+G44 -> 0 | M44: =D44+E44+H44+I44+J44 -> 0 | N44: end of line
A45: Decision Unit 3 | B45: 0 | C45: 0 | D45: 0 | E45: 0 | F45: 0 | G45: 0 | H45: 0 | I45: 0 | J45: 0 | K45: =B45+F45 -> 0 | L45: =C45+G45 -> 0 | M45: =D45+E45+H45+I45+J45 -> 0 | N45: end of line
A46: Decision Unit 4 | B46: 0 | C46: 0 | D46: 0 | E46: 0 | F46: 0 | G46: 0 | H46: 0 | I46: 0 | J46: 0 | K46: =B46+F46 -> 0 | L46: =C46+G46 -> 0 | M46: =D46+E46+H46+I46+J46 -> 0 | N46: end of line
A47: Total Direct | B47: =SUM(B9:B46) -> 0 | C47: =SUM(C9:C46) -> 0 | D47: =SUM(D9:D46) -> 415024.5 | E47: =SUM(E9:E46) -> 0 | F47: =SUM(F9:F46) -> 0 | G47: =SUM(G9:G46) -> 0 | H47: =SUM(H9:H46) -> 0 | I47: =SUM(I9:I46) -> 29875.491 | ... M47: =SUM(M9:M46) -> 445988.62 | N47: end of line
A48: Balance Rescission | D48: -15000 | M48: =D48+E48+H48+I48+J48 -> -15000 | N48: end of line
A49: Total Direct with Rescission | D49: =SUM(D47:D48) -> 400024.5 | M49: =SUM(M47:M48) -> 430988.62 | N49: end of line
...

Sheet G. 2013 Crosswalk (2)
A1: Crosswalk of 2013 Availability | N1: end of line | P1: General Instructions
A2: Name of Budget Account | N2: end of line
A3: Salaries and Expenses | N3: end of line | P3: Insert/delete rows as needed. Make sure total formula includes applicable rows in calculation.
A4: (Dollars in Thousands) | N4: end of line | P4: Do NOT change font, font size and other display settings.
N5: end of line
N6: end of line
A7: Program Activity | B7: FY 2013 Continuing Resolution | E7: Supplemental Appropriation | F7: Reprogramming/Transfers | I7: Carryover | J7: Recoveries/Refunds | K7: 2013 Availability | N7: end of line | P7: Reprogramming/Transfers should reflect approved reprogramming and all SF-1151 Transfers (DHS, HIDTA, Treasury, etc.
B8: Direct Pos. | C8: Estim. FTE | D8: Amount | E8: Amount | F8: Direct Pos. | G8: Estim. FTE | H8: Amount | I8: Amount | J8: Amount | K8: Direct Pos. | L8: Estim. FTE | M8: Amount | N8: end of line | P8: Direct Amounts only from the latest approved SF-132 for the following items:
A9: Decision Unit 1 | B9: 0 | C9: 0 | D9: 0 | E9: 0 | F9: 0 | G9: 0 | H9: 0 | I9: 0 | J9: 0 | K9: =B9+F9 -> 0 | L9: =C9+G9 -> 0 | M9: =D9+E9+H9+I9+J9 -> 0 | N9: end of line | P9: Line 1000 for Unobligated Balances Carried Forward
A10: Decision Unit 2 | B10: 0 | C10: 0 | D10: 0 | E10: 0 | F10: 0 | G10: 0 | H10: 0 | I10: 0 | J10: 0 | K10: =B10+F10 -> 0 | L10: =C10+G10 -> 0 | M10: =D10+E10+H10+I10+J10 -> 0 | N10: end of line | P10: Lines 1021, 1041 for Recoveries
A11: Decision Unit 3 | B11: 0 | C11: 0 | D11: 0 | E11: 0 | F11: 0 | G11: 0 | H11: 0 | I11: 0 | J11: 0 | K11: =B11+F11 -> 0 | L11: =C11+G11 -> 0 | M11: =D11+E11+H11+I11+J11 -> 0 | N11: end of line | P11: Lines 1700, 1701, 1740 for Direct Cash Refunds
A12: Decision Unit 4 | B12: 0 | C12: 0 | D12: 0 | E12: 0 | F12: 0 | G12: 0 | H12: 0 | I12: 0 | J12: 0 | K12: =B12+F12 -> 0 | L12: =C12+G12 -> 0 | M12: =D12+E12+H12+I12+J12 -> 0 | N12: end of line
A13: Total Direct | B13: =SUM(B9:B12) -> 0 | C13: =SUM(C9:C12) -> 0 | D13: =SUM(D9:D12) -> 0 | E13: =SUM(E9:E12) -> 0 | F13: =SUM(F9:F12) -> 0 | G13: =SUM(G9:G12) -> 0 | H13: =SUM(H9:H12) -> 0 | I13: =SUM(I9:I12) -> 0 | ... M13: =SUM(M9:M12) -> 0 | N13: end of line
A14: Balance Rescission | D14: 0 | M14: =D14+E14+H14+I14+J14 -> 0 | N14: end of line
A15: Total Direct with Rescission | D15: =SUM(D13:D14) -> 0 | M15: =SUM(M13:M14) -> 0 | N15: end of line | P15: Please provide explanatory narrative, in footnote format, for any Rescissions, Reprogrammings, Transfers, Recoveries and Unobligated Balances.
A16: Reimbursable FTE | C16: 0 | G16: 0 | I16: 0 | L16: =C16+G16 -> 0 | N16: end of line
A17: Total Direct and Reimb. FTE | C17: =C13+C16 -> 0 | G17: =G13+G16 -> 0 | I17: =I13+I16 -> 0 | L17: =L13+L16 -> 0 | N17: end of line
N18: end of line
A19: Other FTE: | N19: end of line
A20: LEAP | C20: 0 | G20: 0 | I20: 0 | L20: =C20+G20 -> 0 | N20: end of line
A21: Overtime | C21: 0 | G21: 0 | I21: 0 | L21: =C21+G21 -> 0 | N21: end of line
A22: Grand Total, FTE | C22: =C17+C20+C21 -> 0 | G22: =G17+G20+G21 -> 0 | I22: =I17+I20+I21 -> 0 | L22: =SUM(L17,L20:L21) -> 0 | N22: end of line
N23: end of line
A24: *The 2013 Continuing Resolution includes the 0.612% funding provided by the Continuing Appropriations Resolution, 2013 (P.L. 112-175, Section 101 (c)).
A27: Reprogramming/Transfers | N27: end of line
N28: end of line
N29: end of line
A30: Carryover: | N30: end of line
N31: end of line
N32: end of line
A33: Recoveries/Refunds: | N33: end of line
N34: end of line
N35: end of line
N36: end of line
N37: end of sheet

Sheet H. Reimbursable Resources
A1: Summary of Reimbursable Resources | N1: end of line | P1: General Instructions
A2: ='B. Summ of Req.'!A2:D2 -> Office on Violence Against Women | N2: end of line
A3: ='B. Summ of Req.'!A3:D3 -> Grant Programs | N3: end of line | P3: Insert/delete rows as needed. Make sure total formula includes applicable rows in calculation.
A4: (Dollars in Thousands) | N4: end of line | P4: Do NOT change font, font size and other display settings.
N5: end of line
N6: end of line
A7: Collections by Source | B7: 2012 Actual | E7: 2013 Planned | H7: 2014 Request | K7: Increase/Decrease | N7: end of line | P7: Sources of collections may be other agencies or other appropriations within the Department of Justice.
B8: Reimb. Pos. | C8: Reimb. FTE | D8: Amount | E8: Reimb. Pos. | F8: Reimb. FTE | G8: Amount | H8: Reimb. Pos. | I8: Reimb. FTE | J8: Amount | K8: Reimb. Pos. | L8: Reimb. FTE | M8: Amount | N8: end of line | P8: Resources derived from the Assets Forfeiture Fund and the Organized Crime Drug Enforcement appropriations should be displayed separately for each organization gaining such resources.
A9: Agency 1 | B9: 0 | C9: 0 | D9: 0 | E9: 0 | F9: 0 | G9: 0 | H9: 0 | I9: 0 | J9: 0 | K9: =H9-E9 -> 0 | L9: =I9-F9 -> 0 | M9: =J9-G9 -> 0 | N9: end of line
A10: Agency 2 | B10: 0 | C10: 0 | D10: 0 | E10: 0 | F10: 0 | G10: 0 | H10: 0 | I10: 0 | J10: 0 | K10: =H10-E10 -> 0 | L10: =I10-F10 -> 0 | M10: =J10-G10 -> 0 | N10: end of line | P10: Total Reimb. FTE must agree with Reimb. FTE in exhibit B by DU.
A11: Agency 3 | B11: 0 | C11: 0 | D11: 0 | E11: 0 | F11: 0 | G11: 0 | H11: 0 | I11: 0 | J11: 0 | K11: =H11-E11 -> 0 | L11: =I11-F11 -> 0 | M11: =J11-G11 -> 0 | N11: end of line
A12: Agency 4 | B12: 0 | C12: 0 | D12: 0 | E12: 0 | F12: 0 | G12: 0 | H12: 0 | I12: 0 | J12: 0 | K12: =H12-E12 -> 0 | L12: =I12-F12 -> 0 | M12: =J12-G12 -> 0 | N12: end of line
A13: Budgetary Resources | B13: =SUM(B9:B12) -> 0 | C13: =SUM(C9:C12) -> 0 | D13: =SUM(D9:D12) -> 0 | E13: =SUM(E9:E12) -> 0 | F13: =SUM(F9:F12) -> 0 | G13: =SUM(G9:G12) -> 0 | H13: =SUM(H9:H12) -> 0 | I13: =SUM(I9:I12) -> 0 | ... M13: =SUM(M9:M12) -> 0 | N13: end of line
N14: end of line
A15: Obligations by Program Activity | B15: 2012 Actual | E15: 2013 Planned | H15: 2014 Request | K15: Increase/Decrease | N15: end of line
B16: Reimb. Pos. | C16: Reimb. FTE | D16: Amount | E16: Reimb. Pos. | F16: Reimb. FTE | G16: Amount | H16: Reimb. Pos. | I16: Reimb. FTE | J16: Amount | K16: Reimb. Pos. | L16: Reimb. FTE | M16: Amount | N16: end of line | P16: This section displays reimbursable by Decision Unit. Total obligations shown in this section should agree with total Collections above.
A17: Decision Unit 1 | B17: 0 | C17: 0 | D17: 0 | E17: 0 | F17: 0 | G17: 0 | H17: 0 | I17: 0 | J17: 0 | K17: =H17-E17 -> 0 | L17: =I17-F17 -> 0 | M17: =J17-G17 -> 0 | N17: end of line
A18: Decision Unit 2 | B18: 0 | C18: 0 | D18: 0 | E18: 0 | F18: 0 | G18: 0 | H18: 0 | I18: 0 | J18: 0 | K18: =H18-E18 -> 0 | L18: =I18-F18 -> 0 | M18: =J18-G18 -> 0 | N18: end of line
A19: Decision Unit 3 | B19: 0 | C19: 0 | D19: 0 | E19: 0 | F19: 0 | G19: 0 | H19: 0 | I19: 0 | J19: 0 | K19: =H19-E19 -> 0 | L19: =I19-F19 -> 0 | M19: =J19-G19 -> 0 | N19: end of line
A20: Decision Unit 4 | B20: 0 | C20: 0 | D20: 0 | E20: 0 | F20: 0 | G20: 0 | H20: 0 | I20: 0 | J20: 0 | K20: =H20-E20 -> 0 | L20: =I20-F20 -> 0 | M20: =J20-G20 -> 0 | N20: end of line
A21: Budgetary Resources | B21: =SUM(B17:B20) -> 0 | C21: =SUM(C17:C20) -> 0 | D21: =SUM(D17:D20) -> 0 | E21: =SUM(E17:E20) -> 0 | F21: =SUM(F17:F20) -> 0 | G21: =SUM(G17:G20) -> 0 | H21: =SUM(H17:H20) -> 0 | I21: =SUM(I17:I20) -> 0 | ... M21: =SUM(M17:M20) -> 0 | N21: end of line
N22: end of line
N23: end of sheet

Sheet I. Permanent Positions
A1: Detail of Permanent Positions by Category | K1: end of line | M1: General Instructions
A2: ='B. Summ of Req.'!A2:D2 -> Office on Violence Against Women | K2: end of line
A3: Salaries and Expenses | K3: end of line | M3: Insert/delete rows as needed. Make sure total formula includes applicable rows in calculation.
A4: (Dollars in Thousands) | K4: end of line | M4: Do NOT change font, font size and other display settings.
K5: end of line
K6: end of line
A7: Category | B7: 2012 Appropriation Enacted with Balance Rescissions | D7: 2013 Continuing Resolution | F7: 2014 Request | K7: end of line
B8: Direct Pos. | C8: Reimb. Pos. | D8: Direct Pos. | E8: Reimb. Pos. | F8: ATBs | G8: Program Increases | H8: Program Offsets | I8: Total Direct Pos. | J8: Total Reimb. Pos. | K8: end of line
A9: Miscellaneous Operations (010-099) | B9: 0 | C9: 0 | D9: 0 | E9: 0 | F9: 0 | G9: 0 | H9: 0 | I9: =D9+F9+G9+H9 -> 0 | J9: 0 | K9: end of line | M9: Position types in this template are sorted by series and only listing major categories.
A10: Security Specialists (080) | B10: 0 | C10: 0 | D10: 0 | E10: 0 | F10: 0 | G10: 0 | H10: 0 | I10: =D10+F10+G10+H10 -> 0 | J10: 0 | K10: end of line | M10: Insert a row, at the appropriate category order, to add position types as needed.
A11: Intelligence Series (132) | B11: 0 | C11: 0 | D11: 0 | E11: 0 | F11: 0 | G11: 0 | H11: 0 | I11: =D11+F11+G11+H11 -> 0 | J11: 0 | K11: end of line | M11: Direct Positions in this exhibit should agree with exhibit B, and related sections of exhibit C, D, E, F, G, J.
A12: Personnel Management (200-299) | B12: 0 | C12: 0 | D12: 0 | E12: 0 | F12: 0 | G12: 0 | H12: 0 | I12: =D12+F12+G12+H12 -> 0 | J12: 0 | K12: end of line | M12: Reimbursable Positions in this exhibit should agree with exhibit H.
A13: Clerical and Office Services (300-399) | B13: 0 | C13: 0 | D13: 0 | E13: 0 | F13: 0 | G13: 0 | H13: 0 | I13: =D13+F13+G13+H13 -> 0 | J13: 0 | K13: end of line
A14: Accounting and Budget (500-599) | B14: 0 | C14: 0 | D14: 0 | E14: 0 | F14: 0 | G14: 0 | H14: 0 | I14: =D14+F14+G14+H14 -> 0 | J14: 0 | K14: end of line
A15: Attorneys (905) | B15: 0 | C15: 0 | D15: 0 | E15: 0 | F15: 0 | G15: 0 | H15: 0 | I15: =D15+F15+G15+H15 -> 0 | J15: 0 | K15: end of line
A16: Paralegals / Other Law (900-998) | B16: 0 | C16: 0 | D16: 0 | E16: 0 | F16: 0 | G16: 0 | H16: 0 | I16: =D16+F16+G16+H16 -> 0 | J16: 0 | K16: end of line
A17: Information & Arts (1000-1099) | B17: 0 | C17: 0 | D17: 0 | E17: 0 | F17: 0 | G17: 0 | H17: 0 | I17: =D17+F17+G17+H17 -> 0 | J17: 0 | K17: end of line
A18: Business & Industry (1100-1199) | B18: 0 | C18: 0 | D18: 0 | E18: 0 | F18: 0 | G18: 0 | H18: 0 | I18: =D18+F18+G18+H18 -> 0 | J18: 0 | K18: end of line
A19: Library (1400-1499) | B19: 0 | C19: 0 | D19: 0 | E19: 0 | F19: 0 | G19: 0 | H19: 0 | I19: =D19+F19+G19+H19 -> 0 | J19: 0 | K19: end of line
A20: Equipment/Facilities Services (1600-1699) | B20: 0 | C20: 0 | D20: 0 | E20: 0 | F20: 0 | G20: 0 | H20: 0 | I20: =D20+F20+G20+H20 -> 0 | J20: 0 | K20: end of line
A21: Miscellaneous Inspectors Series (1802) | B21: 0 | C21: 0 | D21: 0 | E21: 0 | F21: 0 | G21: 0 | H21: 0 | I21: =D21+F21+G21+H21 -> 0 | J21: 0 | K21: end of line
A22: Criminal Investigative Series (1811) | B22: 0 | C22: 0 | D22: 0 | E22: 0 | F22: 0 | G22: 0 | H22: 0 | I22: =D22+F22+G22+H22 -> 0 | J22: 0 | K22: end of line
A23: Supply Services (2000-2099) | B23: 0 | C23: 0 | D23: 0 | E23: 0 | F23: 0 | G23: 0 | H23: 0 | I23: =D23+F23+G23+H23 -> 0 | J23: 0 | K23: end of line
A24: Information Technology Mgmt (2210) | B24: 0 | C24: 0 | D24: 0 | E24: 0 | F24: 0 | G24: 0 | H24: 0 | I24: =D24+F24+G24+H24 -> 0 | J24: 0 | K24: end of line
A25: Motor Vehicle Operations (5703) | B25: 0 | C25: 0 | D25: 0 | E25: 0 | F25: 0 | G25: 0 | H25: 0 | I25: =D25+F25+G25+H25 -> 0 | J25: 0 | K25: end of line
A26: Total | B26: =SUM(B9:B25) -> 0 | C26: =SUM(C9:C25) -> 0 | D26: =SUM(D9:D25) -> 0 | E26: =SUM(E9:E25) -> 0 | F26: =SUM(F9:F25) -> 0 | G26: =SUM(G9:G25) -> 0 | H26: =SUM(H9:H25) -> 0 | I26: =SUM(I9:I25) -> 0 | J26: =SUM(J9:J25) -> 0 | K26: end of line
A27: Headquarters (Washington, D.C.) | B27: 0 | C27: 0 | D27: 0 | E27: 0 | F27: 0 | G27: 0 | H27: =SUM(H11:H26) -> 0 | I27: =D27+F27+G27+H27 -> 0 | J27: 0 | K27: end of line
A28: U.S. Field | B28: 0 | C28: 0 | D28: 0 | E28: 0 | F28: 0 | G28: 0 | H28: =SUM(H12:H27) -> 0 | I28: =D28+F28+G28+H28 -> 0 | J28: 0 | K28: end of line
A29: Foreign Field | B29: 0 | C29: 0 | D29: 0 | E29: 0 | F29: 0 | G29: 0 | H29: =SUM(H13:H28) -> 0 | I29: =D29+F29+G29+H29 -> 0 | J29: 0 | K29: end of line
A30: Total | B30: =SUM(B27:B29) -> 0 | C30: =SUM(C27:C29) -> 0 | D30: =SUM(D27:D29) -> 0 | E30: =SUM(E27:E29) -> 0 | F30: =SUM(F27:F29) -> 0 | G30: =SUM(G27:G29) -> 0 | H30: =SUM(H27:H29) -> 0 | I30: =SUM(I27:I29) -> 0 | J30: =SUM(J27:J29) -> 0 | K30: end of line
K31: end of sheet

Sheet J. Financial Analysis
A1: Financial Analysis of Program Changes | P1: end of line | R1: General Instructions
A2: ='B. Summ of Req.'!A2:D2 -> Office on Violence Against Women | P2: end of line
A3: Salaries and Expenses | P3: end of line | R3: Insert/delete rows as needed. Make sure total formula includes applicable rows in calculation.
A4: (Dollars in Thousands) | P4: end of line | R4: Do NOT change font, font size and other display settings.
P5: end of line
A6: Grants | B6: Prevention & Prosecution of Violence Against Women | H6: Decision Unit 2 | P6: end of line
B7: Prevention & Prosecution of Violence Against Women | D7: Prevention & Prosecution of Violence Against Women | F7: Prevention & Prosecution of Violence Against Women | H7: Program Increase 1 | J7: Program Increase 2 | L7: Program Offsets | P7: end of line
B8: Direct Pos. | C8: Amount | D8: Direct Pos. | E8: Amount | F8: Direct Pos. | G8: Amount | H8: Direct Pos. | I8: Amount | J8: Direct Pos. | K8: Amount | L8: Direct Pos. | M8: Amount | P8: end of line | R8: Insert Direct Positions and Amount columns for each additional increase for each DU.
H9: 0 | I9: 0 | J9: 0 | K9: 0 | L9: 0 | M9: 0 | P9: end of line | R9: If number of columns needed for programs exceed 14, then display each DU on separate section. Insert page break in between.
A10: GS-15 | B10: 0 | C10: 0 | D10: 0 | E10: 0 | F10: 0 | G10: 0 | H10: 0 | I10: 0 | J10: 0 | K10: 0 | L10: 0 | M10: 0 | P10: end of line
A11: GS-14 | B11: 0 | C11: 0 | D11: 0 | E11: 0 | F11: 0 | G11: 0 | H11: 0 | I11: 0 | J11: 0 | K11: 0 | L11: 0 | M11: 0 | P11: end of line
A12: GS-13 | B12: 0 | C12: 0 | D12: 0 | E12: 0 | F12: 0 | G12: 0 | H12: 0 | I12: 0 | J12: 0 | K12: 0 | L12: 0 | M12: 0 | P12: end of line | R12: Direct Positions and Amount of each program must agree with exhibits B and C.
A13: GS-12 | B13: 0 | C13: 0 | D13: 0 | E13: 0 | F13: 0 | G13: 0 | H13: 0 | I13: 0 | J13: 0 | K13: 0 | L13: 0 | M13: 0 | P13: end of line | R13: Total Program Changes Direct Positions and/or Amounts must agree with Program Changes sections of exhibits D and I.
A14: GS-11 | B14: 0 | C14: 0 | D14: 0 | E14: 0 | F14: 0 | G14: 0 | H14: 0 | I14: 0 | J14: 0 | K14: 0 | L14: 0 | M14: 0 | P14: end of line
A15: GS-10 | B15: 0 | C15: 0 | D15: 0 | E15: 0 | F15: 0 | G15: 0 | H15: 0 | I15: 0 | J15: 0 | K15: 0 | L15: 0 | M15: 0 | P15: end of line
A16: GS-9 | B16: 0 | C16: 0 | D16: 0 | E16: 0 | F16: 0 | G16: 0 | H16: 0 | I16: 0 | J16: 0 | K16: 0 | L16: 0 | M16: 0 | P16: end of line
